Workbook
Name JEDNOSTKA: '99-zbiorczo'!$A$3
Name KWARTAL: '99-zbiorczo'!$H$8
Name LID: '99-zbiorczo'!$C$8
Name LISTANAZW: #REF!
Name LISTAREG: #REF!
Name MAX_CB: '99-zbiorczo'!$U$12
Name MAX_KW: '99-zbiorczo'!$U$4
Name MAX_LID: '99-zbiorczo'!$U$8
Name MAX_ROK: '99-zbiorczo'!$U$6
Name MIN_CB: '99-zbiorczo'!$T$12
Name MIN_KW: '99-zbiorczo'!$T$4
Name MIN_LID: '99-zbiorczo'!$T$8
Name MIN_ROK: '99-zbiorczo'!$T$6
Name REGON: '99-zbiorczo'!$A$8
Name ROK: '99-zbiorczo'!$K$8

Sheet 11-państw.fund.cel.
U1: 0
A2: Nazwa jednostki sprawozdawczej | F2: Rb-UZ ROCZNE SPRAWOZDANIE UZUPEŁNIAJĄCE O STANIE ZOBOWIĄZAŃ | U2: =MAXA('20-państw.szk.wyż.:90-agencja wykonawcza'!U1) -> 0
G3: WG TYTUŁÓW DŁUŻNYCH | N3: Adresat:
F4: państwowego funduszu celowego posiadającego osobowość prawną
A5: Adres jednostki sprawozdawczej
A7: Numer identyfikacyjny REGON | C7: liczba identyfik.jedn. | U7: FALSE
A8: 320633795 | C8: 0 | F8: wg stanu na koniec | H8: 4 | I8: kwartału | J8: roku | K8: 2022
A9: Nazwa województwa | H9: SYMBOLE
A10: Nazwa powiatu / związku | F10: WOJ. | G10: POWIAT | H10: GMINA | I10: TYP GM. | J10: ZWIĄZEK JST | K10: TYP ZW. | L10: GRUPA | M10: CZĘŚĆ BUDŻ.
A11: Nazwa gminy / związku | L11: 11
A13: A. Struktura walutowa tytułów dłużnych według wartości nominalnej
A15: Wyszczególnienie | C15: W a l u t a
C16: Ogółem (kol. 3+4+5+6+7) | D16: PLN | E16: EUR | F16: USD | G16: CHF | H16: Pozostałe waluty wg średniego kursu NBP | I16: Pozostałe waluty wg średniej arytmetycznej
C17: Ogółem (kol. 3+4+5+6+7) | I17: Pozostałe waluty wg średniej arytmetycznej
A18: 1 | C18: 2 | D18: 3 | E18: 4 | F18: 5 | G18: 6 | H18: 7 | I18: 8
A19: A. Zobowiązania ogółem (A1+A2+A3+A4) | C19: =D19+E19+F19+G19+H19 -> 0 | D19: =SUM(D20:D23) -> 0 | E19: =SUM(E20:E23) -> 0 | F19: =SUM(F20:F23) -> 0 | G19: =SUM(G20:G23) -> 0 | H19: =SUM(H20:H23) -> 0 | I19: =SUM(I20:I23) -> 0
A20: A1. papiery wartościowe | C20: =D20+E20+F20+G20+H20 -> 0
A21: A2. kredyty i pożyczki | C21: =D21+E21+F21+G21+H21 -> 0
A22: A3. przyjęte depozyty | C22: =D22+E22+F22+G22+H22 -> 0
A23: A4. wymagalne zobowiązania | C23: =D23+E23+F23+G23+H23 -> 0
A25: B. Struktura terminowa zobowiązań z tytułu zaciagniętych kredytów i pożyczek oraz wyemitowanych papierów wartościowych
A27: B1. papiery wartościowe wg pierwotnego terminu zapadalności - stan na koniec okresu sprawozdawczego | J27: B2. papiery wartościowe wg pozostałego terminu zapadalności - stan na koniec okresu sprawozdawczego
A28: (wg wartości nominalnej) | J28: (wg wartości nominalnej)
A30: papiery wartościowe | D30: zapadalność w latach | J30: papiery wartościowe | M30: zapadalność w latach
A31: wierzyciele | D31: łącznie (kol. 3+4+5) | E31: ( 0;1> | F31: ( 1;5> | G31: pow. 5 | J31: wierzyciele | M31: łącznie (kol. 3+4+5) | N31: ( 0;1> | O31: ( 1;5> | P31: pow. 5
A32: 1 | D32: 2 | E32: 3 | F32: 4 | G32: 5 | J32: 1 | M32: 2 | N32: 3 | O32: 4 | P32: 5
A33: 1. łącznie (w. 2+3+4+5+6+7+8+9+10+11+12+13) | D33: =SUM(D34:D45) -> 0 | E33: =SUM(E34:E45) -> 0 | F33: =SUM(F34:F45) -> 0 | G33: =SUM(G34:G45) -> 0 | J33: 1. łącznie (w. 2+3+4+5+6+7+8+9+10+11+12+13) | M33: =SUM(M34:M45) -> 0 | N33: =SUM(N34:N45) -> 0 | O33: =SUM(O34:O45) -> 0 | P33: =SUM(P34:P45) -> 0
A34: 2. grupa I | D34: =E34+F34+G34 -> 0 | J34: 2. grupa I | M34: =N34+O34+P34 -> 0
A35: 3. grupa II | D35: =E35+F35+G35 -> 0 | J35: 3. grupa II | M35: =N35+O35+P35 -> 0
A36: 4. grupa III | D36: =E36+F36+G36 -> 0 | J36: 4. grupa III | M36: =N36+O36+P36 -> 0
A37: 5.grupa IV | D37: =E37+F37+G37 -> 0 | J37: 5.grupa IV | M37: =N37+O37+P37 -> 0
A38: 6. bank centralny | D38: =E38+F38+G38 -> 0 | J38: 6. bank centralny | M38: =N38+O38+P38 -> 0
A39: 7. banki | D39: =E39+F39+G39 -> 0 | J39: 7. banki | M39: =N39+O39+P39 -> 0
A40: 8. pozostałe krajowe instytucje finansowe | D40: =E40+F40+G40 -> 0 | J40: 8. pozostałe krajowe instytucje finansowe | M40: =N40+O40+P40 -> 0
A41: 9. przedsiębiorstwa niefinansowe | D41: =E41+F41+G41 -> 0 | J41: 9. przedsiębiorstwa niefinansowe | M41: =N41+O41+P41 -> 0
A42: 10. gospodarstwa domowe | D42: =E42+F42+G42 -> 0 | J42: 10. gospodarstwa domowe | M42: =N42+O42+P42 -> 0
A43: 11. instytucje niekomercyjne działające na rzecz gospodarstw domowych | D43: =E43+F43+G43 -> 0 | J43: 11. instytucje niekomercyjne działające na rzecz gospodarstw domowych | M43: =N43+O43+P43 -> 0
A44: 12. podmioty nalezące do strefy euro | D44: =E44+F44+G44 -> 0 | J44: 12. podmioty nalezące do strefy euro | M44: =N44+O44+P44 -> 0
A45: 13. pozostałe podmioty zagraniczne | D45: =E45+F45+G45 -> 0 | J45: 13. pozostałe podmioty zagraniczne | M45: =N45+O45+P45 -> 0
A47: B3. kredyty i pożyczki wg pierwotnego terminu zapadalności - stan na koniec okresu sprawozdawczego | J47: B4. kredyty i pożyczki wg pozostałego terminu zapadalności - stan na koniec okresu sprawozdawczego
...

Sheet 20-państw.szk.wyż.
A2: Nazwa jednostki sprawozdawczej | F2: Rb-UZ ROCZNE SPRAWOZDANIE UZUPEŁNIAJĄCE O STANIE ZOBOWIĄZAŃ | U2: =MAXA('20-państw.szk.wyż.:90-agencja wykonawcza'!U1) -> 0
G3: WG TYTUŁÓW DŁUŻNYCH | N3: Adresat:
G4: uczelni publicznej
A5: Adres jednostki sprawozdawczej
A7: Numer identyfikacyjny REGON | C7: liczba identyfik.jedn.
A8: 320633795 | C8: 0 | F8: wg stanu na koniec | H8: 4 | I8: kwartału | J8: roku | K8: 2022
A9: Nazwa województwa | H9: SYMBOLE
A10: Nazwa powiatu / związku | F10: WOJ. | G10: POWIAT | H10: GMINA | I10: TYP GM. | J10: ZWIĄZEK JST | K10: TYP ZW. | L10: GRUPA | M10: CZĘŚĆ BUDŻ.
A11: Nazwa gminy / związku | L11: 20
A13: A. Struktura walutowa tytułów dłużnych według wartości nominalnej
A15: Wyszczególnienie | C15: W a l u t a
C16: Ogółem (kol. 3+4+5+6+7) | D16: PLN | E16: EUR | F16: USD | G16: CHF | H16: Pozostałe waluty wg średniego kursu NBP | I16: Pozostałe waluty wg średniej arytmetycznej
C17: Ogółem (kol. 3+4+5+6+7) | I17: Pozostałe waluty wg średniej arytmetycznej
A18: 1 | C18: 2 | D18: 3 | E18: 4 | F18: 5 | G18: 6 | H18: 7 | I18: 8
A19: A. Zobowiązania ogółem (A1+A2+A3+A4) | C19: =D19+E19+F19+G19+H19 -> 0 | D19: =SUM(D20:D23) -> 0 | E19: =SUM(E20:E23) -> 0 | F19: =SUM(F20:F23) -> 0 | G19: =SUM(G20:G23) -> 0 | H19: =SUM(H20:H23) -> 0 | I19: =SUM(I20:I23) -> 0
A20: A1. papiery wartościowe | C20: =D20+E20+F20+G20+H20 -> 0
A21: A2. kredyty i pożyczki | C21: =D21+E21+F21+G21+H21 -> 0
A22: A3. przyjęte depozyty | C22: =D22+E22+F22+G22+H22 -> 0
A23: A4. wymagalne zobowiązania | C23: =D23+E23+F23+G23+H23 -> 0
A25: B. Struktura terminowa zobowiązań z tytułu zaciagniętych kredytów i pożyczek oraz wyemitowanych papierów wartościowych
A27: B1. papiery wartościowe wg pierwotnego terminu zapadalności - stan na koniec okresu sprawozdawczego | J27: B2. papiery wartościowe wg pozostałego terminu zapadalności - stan na koniec okresu sprawozdawczego
A28: (wg wartości nominalnej) | J28: (wg wartości nominalnej)
A30: papiery wartościowe | D30: zapadalność w latach | J30: papiery wartościowe | M30: zapadalność w latach
A31: wierzyciele | D31: łącznie (kol. 3+4+5) | E31: ( 0;1> | F31: ( 1;5> | G31: pow. 5 | J31: wierzyciele | M31: łącznie (kol. 3+4+5) | N31: ( 0;1> | O31: ( 1;5> | P31: pow. 5
A32: 1 | D32: 2 | E32: 3 | F32: 4 | G32: 5 | J32: 1 | M32: 2 | N32: 3 | O32: 4 | P32: 5
A33: 1. łącznie (w. 2+3+4+5+6+7+8+9+10+11+12+13) | D33: =SUM(D34:D45) -> 0 | E33: =SUM(E34:E45) -> 0 | F33: =SUM(F34:F45) -> 0 | G33: =SUM(G34:G45) -> 0 | J33: 1. łącznie (w. 2+3+4+5+6+7+8+9+10+11+12+13) | M33: =SUM(M34:M45) -> 0 | N33: =SUM(N34:N45) -> 0 | O33: =SUM(O34:O45) -> 0 | P33: =SUM(P34:P45) -> 0
A34: 2. grupa I | D34: =E34+F34+G34 -> 0 | J34: 2. grupa I | M34: =N34+O34+P34 -> 0
A35: 3. grupa II | D35: =E35+F35+G35 -> 0 | J35: 3. grupa II | M35: =N35+O35+P35 -> 0
A36: 4. grupa III | D36: =E36+F36+G36 -> 0 | J36: 4. grupa III | M36: =N36+O36+P36 -> 0
A37: 5.grupa IV | D37: =E37+F37+G37 -> 0 | J37: 5.grupa IV | M37: =N37+O37+P37 -> 0
A38: 6. bank centralny | D38: =E38+F38+G38 -> 0 | J38: 6. bank centralny | M38: =N38+O38+P38 -> 0
A39: 7. banki | D39: =E39+F39+G39 -> 0 | J39: 7. banki | M39: =N39+O39+P39 -> 0
A40: 8. pozostałe krajowe instytucje finansowe | D40: =E40+F40+G40 -> 0 | J40: 8. pozostałe krajowe instytucje finansowe | M40: =N40+O40+P40 -> 0
A41: 9. przedsiębiorstwa niefinansowe | D41: =E41+F41+G41 -> 0 | J41: 9. przedsiębiorstwa niefinansowe | M41: =N41+O41+P41 -> 0
A42: 10. gospodarstwa domowe | D42: =E42+F42+G42 -> 0 | J42: 10. gospodarstwa domowe | M42: =N42+O42+P42 -> 0
A43: 11. instytucje niekomercyjne działające na rzecz gospodarstw domowych | D43: =E43+F43+G43 -> 0 | J43: 11. instytucje niekomercyjne działające na rzecz gospodarstw domowych | M43: =N43+O43+P43 -> 0
A44: 12. podmioty nalezące do strefy euro | D44: =E44+F44+G44 -> 0 | J44: 12. podmioty nalezące do strefy euro | M44: =N44+O44+P44 -> 0
A45: 13. pozostałe podmioty zagraniczne | D45: =E45+F45+G45 -> 0 | J45: 13. pozostałe podmioty zagraniczne | M45: =N45+O45+P45 -> 0
A47: B3. kredyty i pożyczki wg pierwotnego terminu zapadalności - stan na koniec okresu sprawozdawczego | J47: B4. kredyty i pożyczki wg pozostałego terminu zapadalności - stan na koniec okresu sprawozdawczego
A48: (wg wartości nominalnej) | J48: (wg wartości nominalnej)
...

Sheet 31-instytucje gosp budż
A2: Nazwa jednostki sprawozdawczej | F2: Rb-UZ ROCZNE SPRAWOZDANIE UZUPEŁNIAJĄCE O STANIE ZOBOWIĄZAŃ | U2: =MAXA('20-państw.szk.wyż.:90-agencja wykonawcza'!U1) -> 0
G3: WG TYTUŁÓW DŁUŻNYCH | N3: Adresat:
G4: instytucji gospodarki budżetowej
A5: Adres jednostki sprawozdawczej
A7: Numer identyfikacyjny REGON | C7: liczba identyfik.jedn.
A8: 320633795 | C8: 0 | F8: wg stanu na koniec | H8: 4 | I8: kwartału | J8: roku | K8: 2022
A9: Nazwa województwa | H9: SYMBOLE
A10: Nazwa powiatu / związku | F10: WOJ. | G10: POWIAT | H10: GMINA | I10: TYP GM. | J10: ZWIĄZEK JST | K10: TYP ZW. | L10: GRUPA | M10: CZĘŚĆ BUDŻ.
A11: Nazwa gminy / związku | L11: 31
A13: A. Struktura walutowa tytułów dłużnych według wartości nominalnej
A15: Wyszczególnienie | C15: W a l u t a
C16: Ogółem (kol. 3+4+5+6+7) | D16: PLN | E16: EUR | F16: USD | G16: CHF | H16: Pozostałe waluty wg średniego kursu NBP | I16: Pozostałe waluty wg średniej arytmetycznej
C17: Ogółem (kol. 3+4+5+6+7) | I17: Pozostałe waluty wg średniej arytmetycznej
A18: 1 | C18: 2 | D18: 3 | E18: 4 | F18: 5 | G18: 6 | H18: 7 | I18: 8
A19: A. Zobowiązania ogółem (A1+A2+A3+A4) | C19: =D19+E19+F19+G19+H19 -> 0 | D19: =SUM(D20:D23) -> 0 | E19: =SUM(E20:E23) -> 0 | F19: =SUM(F20:F23) -> 0 | G19: =SUM(G20:G23) -> 0 | H19: =SUM(H20:H23) -> 0 | I19: =SUM(I20:I23) -> 0
A20: A1. papiery wartościowe | C20: =D20+E20+F20+G20+H20 -> 0
A21: A2. kredyty i pożyczki | C21: =D21+E21+F21+G21+H21 -> 0
A22: A3. przyjęte depozyty | C22: =D22+E22+F22+G22+H22 -> 0
A23: A4. wymagalne zobowiązania | C23: =D23+E23+F23+G23+H23 -> 0
A25: B. Struktura terminowa zobowiązań z tytułu zaciagniętych kredytów i pożyczek oraz wyemitowanych papierów wartościowych
A27: B1. papiery wartościowe wg pierwotnego terminu zapadalności - stan na koniec okresu sprawozdawczego | J27: B2. papiery wartościowe wg pozostałego terminu zapadalności - stan na koniec okresu sprawozdawczego
A28: (wg wartości nominalnej) | J28: (wg wartości nominalnej)
A30: papiery wartościowe | D30: zapadalność w latach | J30: papiery wartościowe | M30: zapadalność w latach
A31: wierzyciele | D31: łącznie (kol. 3+4+5) | E31: ( 0;1> | F31: ( 1;5> | G31: pow. 5 | J31: wierzyciele | M31: łącznie (kol. 3+4+5) | N31: ( 0;1> | O31: ( 1;5> | P31: pow. 5
A32: 1 | D32: 2 | E32: 3 | F32: 4 | G32: 5 | J32: 1 | M32: 2 | N32: 3 | O32: 4 | P32: 5
A33: 1. łącznie (w. 2+3+4+5+6+7+8+9+10+11+12+13) | D33: =SUM(D34:D45) -> 0 | E33: =SUM(E34:E45) -> 0 | F33: =SUM(F34:F45) -> 0 | G33: =SUM(G34:G45) -> 0 | J33: 1. łącznie (w. 2+3+4+5+6+7+8+9+10+11+12+13) | M33: =SUM(M34:M45) -> 0 | N33: =SUM(N34:N45) -> 0 | O33: =SUM(O34:O45) -> 0 | P33: =SUM(P34:P45) -> 0
A34: 2. grupa I | D34: =E34+F34+G34 -> 0 | J34: 2. grupa I | M34: =N34+O34+P34 -> 0
A35: 3. grupa II | D35: =E35+F35+G35 -> 0 | J35: 3. grupa II | M35: =N35+O35+P35 -> 0
A36: 4. grupa III | D36: =E36+F36+G36 -> 0 | J36: 4. grupa III | M36: =N36+O36+P36 -> 0
A37: 5.grupa IV | D37: =E37+F37+G37 -> 0 | J37: 5.grupa IV | M37: =N37+O37+P37 -> 0
A38: 6. bank centralny | D38: =E38+F38+G38 -> 0 | J38: 6. bank centralny | M38: =N38+O38+P38 -> 0
A39: 7. banki | D39: =E39+F39+G39 -> 0 | J39: 7. banki | M39: =N39+O39+P39 -> 0
A40: 8. pozostałe krajowe instytucje finansowe | D40: =E40+F40+G40 -> 0 | J40: 8. pozostałe krajowe instytucje finansowe | M40: =N40+O40+P40 -> 0
A41: 9. przedsiębiorstwa niefinansowe | D41: =E41+F41+G41 -> 0 | J41: 9. przedsiębiorstwa niefinansowe | M41: =N41+O41+P41 -> 0
A42: 10. gospodarstwa domowe | D42: =E42+F42+G42 -> 0 | J42: 10. gospodarstwa domowe | M42: =N42+O42+P42 -> 0
A43: 11. instytucje niekomercyjne działające na rzecz gospodarstw domowych | D43: =E43+F43+G43 -> 0 | J43: 11. instytucje niekomercyjne działające na rzecz gospodarstw domowych | M43: =N43+O43+P43 -> 0
A44: 12. podmioty nalezące do strefy euro | D44: =E44+F44+G44 -> 0 | J44: 12. podmioty nalezące do strefy euro | M44: =N44+O44+P44 -> 0
A45: 13. pozostałe podmioty zagraniczne | D45: =E45+F45+G45 -> 0 | J45: 13. pozostałe podmioty zagraniczne | M45: =N45+O45+P45 -> 0
A47: B3. kredyty i pożyczki wg pierwotnego terminu zapadalności - stan na koniec okresu sprawozdawczego | J47: B4. kredyty i pożyczki wg pozostałego terminu zapadalności - stan na koniec okresu sprawozdawczego
A48: (wg wartości nominalnej) | J48: (wg wartości nominalnej)
...

Sheet 41-państw.inst.kult.
A2: Nazwa jednostki sprawozdawczej | F2: Rb-UZ ROCZNE SPRAWOZDANIE UZUPEŁNIAJĄCE O STANIE ZOBOWIĄZAŃ | U2: =MAXA('20-państw.szk.wyż.:90-agencja wykonawcza'!U1) -> 0
G3: WG TYTUŁÓW DŁUŻNYCH | N3: Adresat:
G4: państwowej instytucji kultury
A5: Adres jednostki sprawozdawczej
A7: Numer identyfikacyjny REGON | C7: liczba identyfik.jedn.
A8: 320633795 | C8: 0 | F8: wg stanu na koniec | H8: 4 | I8: kwartału | J8: roku | K8: 2022
A9: Nazwa województwa | H9: SYMBOLE
A10: Nazwa powiatu / związku | F10: WOJ. | G10: POWIAT | H10: GMINA | I10: TYP GM. | J10: ZWIĄZEK JST | K10: TYP ZW. | L10: GRUPA | M10: CZĘŚĆ BUDŻ.
A11: Nazwa gminy / związku | L11: 41
A13: A. Struktura walutowa tytułów dłużnych według wartości nominalnej
A15: Wyszczególnienie | C15: W a l u t a
C16: Ogółem (kol. 3+4+5+6+7) | D16: PLN | E16: EUR | F16: USD | G16: CHF | H16: Pozostałe waluty wg średniego kursu NBP | I16: Pozostałe waluty wg średniej arytmetycznej
C17: Ogółem (kol. 3+4+5+6+7) | I17: Pozostałe waluty wg średniej arytmetycznej
A18: 1 | C18: 2 | D18: 3 | E18: 4 | F18: 5 | G18: 6 | H18: 7 | I18: 8
A19: A. Zobowiązania ogółem (A1+A2+A3+A4) | C19: =D19+E19+F19+G19+H19 -> 0 | D19: =SUM(D20:D23) -> 0 | E19: =SUM(E20:E23) -> 0 | F19: =SUM(F20:F23) -> 0 | G19: =SUM(G20:G23) -> 0 | H19: =SUM(H20:H23) -> 0 | I19: =SUM(I20:I23) -> 0
A20: A1. papiery wartościowe | C20: =D20+E20+F20+G20+H20 -> 0
A21: A2. kredyty i pożyczki | C21: =D21+E21+F21+G21+H21 -> 0
A22: A3. przyjęte depozyty | C22: =D22+E22+F22+G22+H22 -> 0
A23: A4. wymagalne zobowiązania | C23: =D23+E23+F23+G23+H23 -> 0
A25: B. Struktura terminowa zobowiązań z tytułu zaciagniętych kredytów i pożyczek oraz wyemitowanych papierów wartościowych
A27: B1. papiery wartościowe wg pierwotnego terminu zapadalności - stan na koniec okresu sprawozdawczego | J27: B2. papiery wartościowe wg pozostałego terminu zapadalności - stan na koniec okresu sprawozdawczego
A28: (wg wartości nominalnej) | J28: (wg wartości nominalnej)
A30: papiery wartościowe | D30: zapadalność w latach | J30: papiery wartościowe | M30: zapadalność w latach
A31: wierzyciele | D31: łącznie (kol. 3+4+5) | E31: ( 0;1> | F31: ( 1;5> | G31: pow. 5 | J31: wierzyciele | M31: łącznie (kol. 3+4+5) | N31: ( 0;1> | O31: ( 1;5> | P31: pow. 5
A32: 1 | D32: 2 | E32: 3 | F32: 4 | G32: 5 | J32: 1 | M32: 2 | N32: 3 | O32: 4 | P32: 5
A33: 1. łącznie (w. 2+3+4+5+6+7+8+9+10+11+12+13) | D33: =SUM(D34:D45) -> 0 | E33: =SUM(E34:E45) -> 0 | F33: =SUM(F34:F45) -> 0 | G33: =SUM(G34:G45) -> 0 | J33: 1. łącznie (w. 2+3+4+5+6+7+8+9+10+11+12+13) | M33: =SUM(M34:M45) -> 0 | N33: =SUM(N34:N45) -> 0 | O33: =SUM(O34:O45) -> 0 | P33: =SUM(P34:P45) -> 0
A34: 2. grupa I | D34: =E34+F34+G34 -> 0 | J34: 2. grupa I | M34: =N34+O34+P34 -> 0
A35: 3. grupa II | D35: =E35+F35+G35 -> 0 | J35: 3. grupa II | M35: =N35+O35+P35 -> 0
A36: 4. grupa III | D36: =E36+F36+G36 -> 0 | J36: 4. grupa III | M36: =N36+O36+P36 -> 0
A37: 5.grupa IV | D37: =E37+F37+G37 -> 0 | J37: 5.grupa IV | M37: =N37+O37+P37 -> 0
A38: 6. bank centralny | D38: =E38+F38+G38 -> 0 | J38: 6. bank centralny | M38: =N38+O38+P38 -> 0
A39: 7. banki | D39: =E39+F39+G39 -> 0 | J39: 7. banki | M39: =N39+O39+P39 -> 0
A40: 8. pozostałe krajowe instytucje finansowe | D40: =E40+F40+G40 -> 0 | J40: 8. pozostałe krajowe instytucje finansowe | M40: =N40+O40+P40 -> 0
A41: 9. przedsiębiorstwa niefinansowe | D41: =E41+F41+G41 -> 0 | J41: 9. przedsiębiorstwa niefinansowe | M41: =N41+O41+P41 -> 0
A42: 10. gospodarstwa domowe | D42: =E42+F42+G42 -> 0 | J42: 10. gospodarstwa domowe | M42: =N42+O42+P42 -> 0
A43: 11. instytucje niekomercyjne działające na rzecz gospodarstw domowych | D43: =E43+F43+G43 -> 0 | J43: 11. instytucje niekomercyjne działające na rzecz gospodarstw domowych | M43: =N43+O43+P43 -> 0
A44: 12. podmioty nalezące do strefy euro | D44: =E44+F44+G44 -> 0 | J44: 12. podmioty nalezące do strefy euro | M44: =N44+O44+P44 -> 0
A45: 13. pozostałe podmioty zagraniczne | D45: =E45+F45+G45 -> 0 | J45: 13. pozostałe podmioty zagraniczne | M45: =N45+O45+P45 -> 0
A47: B3. kredyty i pożyczki wg pierwotnego terminu zapadalności - stan na koniec okresu sprawozdawczego | J47: B4. kredyty i pożyczki wg pozostałego terminu zapadalności - stan na koniec okresu sprawozdawczego
A48: (wg wartości nominalnej) | J48: (wg wartości nominalnej)
...

Sheet 42-samorz.inst.kult.
A2: Nazwa jednostki sprawozdawczej | F2: Rb-UZ ROCZNE SPRAWOZDANIE UZUPEŁNIAJĄCE O STANIE ZOBOWIĄZAŃ | U2: =MAXA('20-państw.szk.wyż.:90-agencja wykonawcza'!U1) -> 0
A3: Gminna Biblioteka Publiczna w Grzmiącej | G3: WG TYTUŁÓW DŁUŻNYCH | N3: Adresat:
G4: samorządowej instytucji kultury | N4: Gmina Grzmiąca, ul. 1 Maja 7, 78-450 Grzmiąca
A5: Adres jednostki sprawozdawczej
A6: ul. Kolejowa 2,78-450 Grzmiąca
A7: Numer identyfikacyjny REGON | C7: liczba identyfik.jedn.
A8: 320633795 | C8: 0 | F8: wg stanu na koniec | H8: 4 | I8: kwartału | J8: roku | K8: 2023
A9: Nazwa województwa | C9: Zachodniopomorskie | H9: SYMBOLE
A10: Nazwa powiatu / związku | C10: Szczecinecki | F10: WOJ. | G10: POWIAT | H10: GMINA | I10: TYP GM. | J10: ZWIĄZEK JST | K10: TYP ZW. | L10: GRUPA | M10: CZĘŚĆ BUDŻ. | U10: 1
A11: Nazwa gminy / związku | C11: Grzmiąca | F11: 32 | G11: 15 | H11: 5 | I11: 2 | L11: 42
A13: A. Struktura walutowa tytułów dłużnych według wartości nominalnej
A15: Wyszczególnienie | C15: W a l u t a
C16: Ogółem (kol. 3+4+5+6+7) | D16: PLN | E16: EUR | F16: USD | G16: CHF | H16: Pozostałe waluty wg średniego kursu NBP | I16: Pozostałe waluty wg średniej arytmetycznej
C17: Ogółem (kol. 3+4+5+6+7) | I17: Pozostałe waluty wg średniej arytmetycznej
A18: 1 | C18: 2 | D18: 3 | E18: 4 | F18: 5 | G18: 6 | H18: 7 | I18: 8
A19: A. Zobowiązania ogółem (A1+A2+A3+A4) | C19: =D19+E19+F19+G19+H19 -> 0 | D19: =SUM(D20:D23) -> 0 | E19: =SUM(E20:E23) -> 0 | F19: =SUM(F20:F23) -> 0 | G19: =SUM(G20:G23) -> 0 | H19: =SUM(H20:H23) -> 0 | I19: =SUM(I20:I23) -> 0
A20: A1. papiery wartościowe | C20: =D20+E20+F20+G20+H20 -> 0
A21: A2. kredyty i pożyczki | C21: =D21+E21+F21+G21+H21 -> 0
A22: A3. przyjęte depozyty | C22: =D22+E22+F22+G22+H22 -> 0
A23: A4. wymagalne zobowiązania | C23: =D23+E23+F23+G23+H23 -> 0
A25: B. Struktura terminowa zobowiązań z tytułu zaciagniętych kredytów i pożyczek oraz wyemitowanych papierów wartościowych
A27: B1. papiery wartościowe wg pierwotnego terminu zapadalności - stan na koniec okresu sprawozdawczego | J27: B2. papiery wartościowe wg pozostałego terminu zapadalności - stan na koniec okresu sprawozdawczego
A28: (wg wartości nominalnej) | J28: (wg wartości nominalnej)
A30: papiery wartościowe | D30: zapadalność w latach | J30: papiery wartościowe | M30: zapadalność w latach
A31: wierzyciele | D31: łącznie (kol. 3+4+5) | E31: ( 0;1> | F31: ( 1;5> | G31: pow. 5 | J31: wierzyciele | M31: łącznie (kol. 3+4+5) | N31: ( 0;1> | O31: ( 1;5> | P31: pow. 5
A32: 1 | D32: 2 | E32: 3 | F32: 4 | G32: 5 | J32: 1 | M32: 2 | N32: 3 | O32: 4 | P32: 5
A33: 1. łącznie (w. 2+3+4+5+6+7+8+9+10+11+12+13) | D33: =SUM(D34:D45) -> 0 | E33: =SUM(E34:E45) -> 0 | F33: =SUM(F34:F45) -> 0 | G33: =SUM(G34:G45) -> 0 | J33: 1. łącznie (w. 2+3+4+5+6+7+8+9+10+11+12+13) | M33: =SUM(M34:M45) -> 0 | N33: =SUM(N34:N45) -> 0 | O33: =SUM(O34:O45) -> 0 | P33: =SUM(P34:P45) -> 0
A34: 2. grupa I | D34: =E34+F34+G34 -> 0 | J34: 2. grupa I | M34: =N34+O34+P34 -> 0
A35: 3. grupa II | D35: =E35+F35+G35 -> 0 | J35: 3. grupa II | M35: =N35+O35+P35 -> 0
A36: 4. grupa III | D36: =E36+F36+G36 -> 0 | J36: 4. grupa III | M36: =N36+O36+P36 -> 0
A37: 5.grupa IV | D37: =E37+F37+G37 -> 0 | J37: 5.grupa IV | M37: =N37+O37+P37 -> 0
A38: 6. bank centralny | D38: =E38+F38+G38 -> 0 | J38: 6. bank centralny | M38: =N38+O38+P38 -> 0
A39: 7. banki | D39: =E39+F39+G39 -> 0 | J39: 7. banki | M39: =N39+O39+P39 -> 0
A40: 8. pozostałe krajowe instytucje finansowe | D40: =E40+F40+G40 -> 0 | J40: 8. pozostałe krajowe instytucje finansowe | M40: =N40+O40+P40 -> 0
A41: 9. przedsiębiorstwa niefinansowe | D41: =E41+F41+G41 -> 0 | J41: 9. przedsiębiorstwa niefinansowe | M41: =N41+O41+P41 -> 0
A42: 10. gospodarstwa domowe | D42: =E42+F42+G42 -> 0 | J42: 10. gospodarstwa domowe | M42: =N42+O42+P42 -> 0
A43: 11. instytucje niekomercyjne działające na rzecz gospodarstw domowych | D43: =E43+F43+G43 -> 0 | J43: 11. instytucje niekomercyjne działające na rzecz gospodarstw domowych | M43: =N43+O43+P43 -> 0
A44: 12. podmioty nalezące do strefy euro | D44: =E44+F44+G44 -> 0 | J44: 12. podmioty nalezące do strefy euro | M44: =N44+O44+P44 -> 0
A45: 13. pozostałe podmioty zagraniczne | D45: =E45+F45+G45 -> 0 | J45: 13. pozostałe podmioty zagraniczne | M45: =N45+O45+P45 -> 0
A47: B3. kredyty i pożyczki wg pierwotnego terminu zapadalności - stan na koniec okresu sprawozdawczego | J47: B4. kredyty i pożyczki wg pozostałego terminu zapadalności - stan na koniec okresu sprawozdawczego
...

Sheet 50-PAN i jedn.tworz.przez PAN
A2: Nazwa jednostki sprawozdawczej | F2: Rb-UZ ROCZNE SPRAWOZDANIE UZUPEŁNIAJĄCE O STANIE ZOBOWIĄZAŃ | U2: =MAXA('20-państw.szk.wyż.:90-agencja wykonawcza'!U1) -> 0
G3: WG TYTUŁÓW DŁUŻNYCH | N3: Adresat:
F4: PAN i jednostki organizacyjnej tworzonej przez PAN
A5: Adres jednostki sprawozdawczej
A7: Numer identyfikacyjny REGON | C7: liczba identyfik.jedn.
A8: 320633795 | C8: 0 | F8: wg stanu na koniec | H8: 4 | I8: kwartału | J8: roku | K8: 2022
A9: Nazwa województwa | H9: SYMBOLE
A10: Nazwa powiatu / związku | F10: WOJ. | G10: POWIAT | H10: GMINA | I10: TYP GM. | J10: ZWIĄZEK JST | K10: TYP ZW. | L10: GRUPA | M10: CZĘŚĆ BUDŻ.
A11: Nazwa gminy / związku | L11: 50
A13: A. Struktura walutowa tytułów dłużnych według wartości nominalnej
A15: Wyszczególnienie | C15: W a l u t a
C16: Ogółem (kol. 3+4+5+6+7) | D16: PLN | E16: EUR | F16: USD | G16: CHF | H16: Pozostałe waluty wg średniego kursu NBP | I16: Pozostałe waluty wg średniej arytmetycznej
C17: Ogółem (kol. 3+4+5+6+7) | I17: Pozostałe waluty wg średniej arytmetycznej
A18: 1 | C18: 2 | D18: 3 | E18: 4 | F18: 5 | G18: 6 | H18: 7 | I18: 8
A19: A. Zobowiązania ogółem (A1+A2+A3+A4) | C19: =D19+E19+F19+G19+H19 -> 0 | D19: =SUM(D20:D23) -> 0 | E19: =SUM(E20:E23) -> 0 | F19: =SUM(F20:F23) -> 0 | G19: =SUM(G20:G23) -> 0 | H19: =SUM(H20:H23) -> 0 | I19: =SUM(I20:I23) -> 0
A20: A1. papiery wartościowe | C20: =D20+E20+F20+G20+H20 -> 0
A21: A2. kredyty i pożyczki | C21: =D21+E21+F21+G21+H21 -> 0
A22: A3. przyjęte depozyty | C22: =D22+E22+F22+G22+H22 -> 0
A23: A4. wymagalne zobowiązania | C23: =D23+E23+F23+G23+H23 -> 0
A25: B. Struktura terminowa zobowiązań z tytułu zaciagniętych kredytów i pożyczek oraz wyemitowanych papierów wartościowych
A27: B1. papiery wartościowe wg pierwotnego terminu zapadalności - stan na koniec okresu sprawozdawczego | J27: B2. papiery wartościowe wg pozostałego terminu zapadalności - stan na koniec okresu sprawozdawczego
A28: (wg wartości nominalnej) | J28: (wg wartości nominalnej)
A30: papiery wartościowe | D30: zapadalność w latach | J30: papiery wartościowe | M30: zapadalność w latach
A31: wierzyciele | D31: łącznie (kol. 3+4+5) | E31: ( 0;1> | F31: ( 1;5> | G31: pow. 5 | J31: wierzyciele | M31: łącznie (kol. 3+4+5) | N31: ( 0;1> | O31: ( 1;5> | P31: pow. 5
A32: 1 | D32: 2 | E32: 3 | F32: 4 | G32: 5 | J32: 1 | M32: 2 | N32: 3 | O32: 4 | P32: 5
A33: 1. łącznie (w. 2+3+4+5+6+7+8+9+10+11+12+13) | D33: =SUM(D34:D45) -> 0 | E33: =SUM(E34:E45) -> 0 | F33: =SUM(F34:F45) -> 0 | G33: =SUM(G34:G45) -> 0 | J33: 1. łącznie (w. 2+3+4+5+6+7+8+9+10+11+12+13) | M33: =SUM(M34:M45) -> 0 | N33: =SUM(N34:N45) -> 0 | O33: =SUM(O34:O45) -> 0 | P33: =SUM(P34:P45) -> 0
A34: 2. grupa I | D34: =E34+F34+G34 -> 0 | J34: 2. grupa I | M34: =N34+O34+P34 -> 0
A35: 3. grupa II | D35: =E35+F35+G35 -> 0 | J35: 3. grupa II | M35: =N35+O35+P35 -> 0
A36: 4. grupa III | D36: =E36+F36+G36 -> 0 | J36: 4. grupa III | M36: =N36+O36+P36 -> 0
A37: 5.grupa IV | D37: =E37+F37+G37 -> 0 | J37: 5.grupa IV | M37: =N37+O37+P37 -> 0
A38: 6. bank centralny | D38: =E38+F38+G38 -> 0 | J38: 6. bank centralny | M38: =N38+O38+P38 -> 0
A39: 7. banki | D39: =E39+F39+G39 -> 0 | J39: 7. banki | M39: =N39+O39+P39 -> 0
A40: 8. pozostałe krajowe instytucje finansowe | D40: =E40+F40+G40 -> 0 | J40: 8. pozostałe krajowe instytucje finansowe | M40: =N40+O40+P40 -> 0
A41: 9. przedsiębiorstwa niefinansowe | D41: =E41+F41+G41 -> 0 | J41: 9. przedsiębiorstwa niefinansowe | M41: =N41+O41+P41 -> 0
A42: 10. gospodarstwa domowe | D42: =E42+F42+G42 -> 0 | J42: 10. gospodarstwa domowe | M42: =N42+O42+P42 -> 0
A43: 11. instytucje niekomercyjne działające na rzecz gospodarstw domowych | D43: =E43+F43+G43 -> 0 | J43: 11. instytucje niekomercyjne działające na rzecz gospodarstw domowych | M43: =N43+O43+P43 -> 0
A44: 12. podmioty nalezące do strefy euro | D44: =E44+F44+G44 -> 0 | J44: 12. podmioty nalezące do strefy euro | M44: =N44+O44+P44 -> 0
A45: 13. pozostałe podmioty zagraniczne | D45: =E45+F45+G45 -> 0 | J45: 13. pozostałe podmioty zagraniczne | M45: =N45+O45+P45 -> 0
A47: B3. kredyty i pożyczki wg pierwotnego terminu zapadalności - stan na koniec okresu sprawozdawczego | J47: B4. kredyty i pożyczki wg pozostałego terminu zapadalności - stan na koniec okresu sprawozdawczego
A48: (wg wartości nominalnej) | J48: (wg wartości nominalnej)
...

Sheet 61-samodz.publ.ZOZ państw.
A2: Nazwa jednostki sprawozdawczej | F2: Rb-UZ ROCZNE SPRAWOZDANIE UZUPEŁNIAJĄCE O STANIE ZOBOWIĄZAŃ | U2: =MAXA('20-państw.szk.wyż.:90-agencja wykonawcza'!U1) -> 0
G3: WG TYTUŁÓW DŁUŻNYCH | N3: Adresat:
D4: samodzielnego publicznego zakładu opieki zdrowotnej, dla którego podmiotem tworzącym jest minister, centralny organ administracji rządowej, wojewoda, uczelnia medyczna
A5: Adres jednostki sprawozdawczej
A7: Numer identyfikacyjny REGON | C7: liczba identyfik.jedn.
A8: 320633795 | C8: 0 | F8: wg stanu na koniec | H8: 4 | I8: kwartału | J8: roku | K8: 2022
A9: Nazwa województwa | H9: SYMBOLE
A10: Nazwa powiatu / związku | F10: WOJ. | G10: POWIAT | H10: GMINA | I10: TYP GM. | J10: ZWIĄZEK JST | K10: TYP ZW. | L10: GRUPA | M10: CZĘŚĆ BUDŻ.
A11: Nazwa gminy / związku | L11: 61
A13: A. Struktura walutowa tytułów dłużnych według wartości nominalnej
A15: Wyszczególnienie | C15: W a l u t a
C16: Ogółem (kol. 3+4+5+6+7) | D16: PLN | E16: EUR | F16: USD | G16: CHF | H16: Pozostałe waluty wg średniego kursu NBP | I16: Pozostałe waluty wg średniej arytmetycznej
C17: Ogółem (kol. 3+4+5+6+7) | I17: Pozostałe waluty wg średniej arytmetycznej
A18: 1 | C18: 2 | D18: 3 | E18: 4 | F18: 5 | G18: 6 | H18: 7 | I18: 8
A19: A. Zobowiązania ogółem (A1+A2+A3+A4) | C19: =D19+E19+F19+G19+H19 -> 0 | D19: =SUM(D20:D23) -> 0 | E19: =SUM(E20:E23) -> 0 | F19: =SUM(F20:F23) -> 0 | G19: =SUM(G20:G23) -> 0 | H19: =SUM(H20:H23) -> 0 | I19: =SUM(I20:I23) -> 0
A20: A1. papiery wartościowe | C20: =D20+E20+F20+G20+H20 -> 0
A21: A2. kredyty i pożyczki | C21: =D21+E21+F21+G21+H21 -> 0
A22: A3. przyjęte depozyty | C22: =D22+E22+F22+G22+H22 -> 0
A23: A4. wymagalne zobowiązania | C23: =D23+E23+F23+G23+H23 -> 0
A25: B. Struktura terminowa zobowiązań z tytułu zaciagniętych kredytów i pożyczek oraz wyemitowanych papierów wartościowych
A27: B1. papiery wartościowe wg pierwotnego terminu zapadalności - stan na koniec okresu sprawozdawczego | J27: B2. papiery wartościowe wg pozostałego terminu zapadalności - stan na koniec okresu sprawozdawczego
A28: (wg wartości nominalnej) | J28: (wg wartości nominalnej)
A30: papiery wartościowe | D30: zapadalność w latach | J30: papiery wartościowe | M30: zapadalność w latach
A31: wierzyciele | D31: łącznie (kol. 3+4+5) | E31: ( 0;1> | F31: ( 1;5> | G31: pow. 5 | J31: wierzyciele | M31: łącznie (kol. 3+4+5) | N31: ( 0;1> | O31: ( 1;5> | P31: pow. 5
A32: 1 | D32: 2 | E32: 3 | F32: 4 | G32: 5 | J32: 1 | M32: 2 | N32: 3 | O32: 4 | P32: 5
A33: 1. łącznie (w. 2+3+4+5+6+7+8+9+10+11+12+13) | D33: =SUM(D34:D45) -> 0 | E33: =SUM(E34:E45) -> 0 | F33: =SUM(F34:F45) -> 0 | G33: =SUM(G34:G45) -> 0 | J33: 1. łącznie (w. 2+3+4+5+6+7+8+9+10+11+12+13) | M33: =SUM(M34:M45) -> 0 | N33: =SUM(N34:N45) -> 0 | O33: =SUM(O34:O45) -> 0 | P33: =SUM(P34:P45) -> 0
A34: 2. grupa I | D34: =E34+F34+G34 -> 0 | J34: 2. grupa I | M34: =N34+O34+P34 -> 0
A35: 3. grupa II | D35: =E35+F35+G35 -> 0 | J35: 3. grupa II | M35: =N35+O35+P35 -> 0
A36: 4. grupa III | D36: =E36+F36+G36 -> 0 | J36: 4. grupa III | M36: =N36+O36+P36 -> 0
A37: 5.grupa IV | D37: =E37+F37+G37 -> 0 | J37: 5.grupa IV | M37: =N37+O37+P37 -> 0
A38: 6. bank centralny | D38: =E38+F38+G38 -> 0 | J38: 6. bank centralny | M38: =N38+O38+P38 -> 0
A39: 7. banki | D39: =E39+F39+G39 -> 0 | J39: 7. banki | M39: =N39+O39+P39 -> 0
A40: 8. pozostałe krajowe instytucje finansowe | D40: =E40+F40+G40 -> 0 | J40: 8. pozostałe krajowe instytucje finansowe | M40: =N40+O40+P40 -> 0
A41: 9. przedsiębiorstwa niefinansowe | D41: =E41+F41+G41 -> 0 | J41: 9. przedsiębiorstwa niefinansowe | M41: =N41+O41+P41 -> 0
A42: 10. gospodarstwa domowe | D42: =E42+F42+G42 -> 0 | J42: 10. gospodarstwa domowe | M42: =N42+O42+P42 -> 0
A43: 11. instytucje niekomercyjne działające na rzecz gospodarstw domowych | D43: =E43+F43+G43 -> 0 | J43: 11. instytucje niekomercyjne działające na rzecz gospodarstw domowych | M43: =N43+O43+P43 -> 0
A44: 12. podmioty nalezące do strefy euro | D44: =E44+F44+G44 -> 0 | J44: 12. podmioty nalezące do strefy euro | M44: =N44+O44+P44 -> 0
A45: 13. pozostałe podmioty zagraniczne | D45: =E45+F45+G45 -> 0 | J45: 13. pozostałe podmioty zagraniczne | M45: =N45+O45+P45 -> 0
A47: B3. kredyty i pożyczki wg pierwotnego terminu zapadalności - stan na koniec okresu sprawozdawczego | J47: B4. kredyty i pożyczki wg pozostałego terminu zapadalności - stan na koniec okresu sprawozdawczego
A48: (wg wartości nominalnej) | J48: (wg wartości nominalnej)
...

Sheet 62-samodz.publ.ZOZ samorz.
A2: Nazwa jednostki sprawozdawczej | F2: Rb-UZ ROCZNE SPRAWOZDANIE UZUPEŁNIAJĄCE O STANIE ZOBOWIĄZAŃ | U2: =MAXA('20-państw.szk.wyż.:90-agencja wykonawcza'!U1) -> 0
G3: WG TYTUŁÓW DŁUŻNYCH | N3: Adresat:
D4: samodzielnego publicznego zakładu opieki zdrowotnej, dla którego podmiotem tworzącym jest jednostka samorządu terytorialnego
A5: Adres jednostki sprawozdawczej
A7: Numer identyfikacyjny REGON | C7: liczba identyfik.jedn.
A8: 320633795 | C8: 0 | F8: wg stanu na koniec | H8: 4 | I8: kwartału | J8: roku | K8: 2022
A9: Nazwa województwa | H9: SYMBOLE
A10: Nazwa powiatu / związku | F10: WOJ. | G10: POWIAT | H10: GMINA | I10: TYP GM. | J10: ZWIĄZEK JST | K10: TYP ZW. | L10: GRUPA | M10: CZĘŚĆ BUDŻ.
A11: Nazwa gminy / związku | L11: 62
A13: A. Struktura walutowa tytułów dłużnych według wartości nominalnej
A15: Wyszczególnienie | C15: W a l u t a
C16: Ogółem (kol. 3+4+5+6+7) | D16: PLN | E16: EUR | F16: USD | G16: CHF | H16: Pozostałe waluty wg średniego kursu NBP | I16: Pozostałe waluty wg średniej arytmetycznej
C17: Ogółem (kol. 3+4+5+6+7) | I17: Pozostałe waluty wg średniej arytmetycznej
A18: 1 | C18: 2 | D18: 3 | E18: 4 | F18: 5 | G18: 6 | H18: 7 | I18: 8
A19: A. Zobowiązania ogółem (A1+A2+A3+A4) | C19: =D19+E19+F19+G19+H19 -> 0 | D19: =SUM(D20:D23) -> 0 | E19: =SUM(E20:E23) -> 0 | F19: =SUM(F20:F23) -> 0 | G19: =SUM(G20:G23) -> 0 | H19: =SUM(H20:H23) -> 0 | I19: =SUM(I20:I23) -> 0
A20: A1. papiery wartościowe | C20: =D20+E20+F20+G20+H20 -> 0
A21: A2. kredyty i pożyczki | C21: =D21+E21+F21+G21+H21 -> 0
A22: A3. przyjęte depozyty | C22: =D22+E22+F22+G22+H22 -> 0
A23: A4. wymagalne zobowiązania | C23: =D23+E23+F23+G23+H23 -> 0
A25: B. Struktura terminowa zobowiązań z tytułu zaciagniętych kredytów i pożyczek oraz wyemitowanych papierów wartościowych
A27: B1. papiery wartościowe wg pierwotnego terminu zapadalności - stan na koniec okresu sprawozdawczego | J27: B2. papiery wartościowe wg pozostałego terminu zapadalności - stan na koniec okresu sprawozdawczego
A28: (wg wartości nominalnej) | J28: (wg wartości nominalnej)
A30: papiery wartościowe | D30: zapadalność w latach | J30: papiery wartościowe | M30: zapadalność w latach
A31: wierzyciele | D31: łącznie (kol. 3+4+5) | E31: ( 0;1> | F31: ( 1;5> | G31: pow. 5 | J31: wierzyciele | M31: łącznie (kol. 3+4+5) | N31: ( 0;1> | O31: ( 1;5> | P31: pow. 5
A32: 1 | D32: 2 | E32: 3 | F32: 4 | G32: 5 | J32: 1 | M32: 2 | N32: 3 | O32: 4 | P32: 5
A33: 1. łącznie (w. 2+3+4+5+6+7+8+9+10+11+12+13) | D33: =SUM(D34:D45) -> 0 | E33: =SUM(E34:E45) -> 0 | F33: =SUM(F34:F45) -> 0 | G33: =SUM(G34:G45) -> 0 | J33: 1. łącznie (w. 2+3+4+5+6+7+8+9+10+11+12+13) | M33: =SUM(M34:M45) -> 0 | N33: =SUM(N34:N45) -> 0 | O33: =SUM(O34:O45) -> 0 | P33: =SUM(P34:P45) -> 0
A34: 2. grupa I | D34: =E34+F34+G34 -> 0 | J34: 2. grupa I | M34: =N34+O34+P34 -> 0
A35: 3. grupa II | D35: =E35+F35+G35 -> 0 | J35: 3. grupa II | M35: =N35+O35+P35 -> 0
A36: 4. grupa III | D36: =E36+F36+G36 -> 0 | J36: 4. grupa III | M36: =N36+O36+P36 -> 0
A37: 5.grupa IV | D37: =E37+F37+G37 -> 0 | J37: 5.grupa IV | M37: =N37+O37+P37 -> 0
A38: 6. bank centralny | D38: =E38+F38+G38 -> 0 | J38: 6. bank centralny | M38: =N38+O38+P38 -> 0
A39: 7. banki | D39: =E39+F39+G39 -> 0 | J39: 7. banki | M39: =N39+O39+P39 -> 0
A40: 8. pozostałe krajowe instytucje finansowe | D40: =E40+F40+G40 -> 0 | J40: 8. pozostałe krajowe instytucje finansowe | M40: =N40+O40+P40 -> 0
A41: 9. przedsiębiorstwa niefinansowe | D41: =E41+F41+G41 -> 0 | J41: 9. przedsiębiorstwa niefinansowe | M41: =N41+O41+P41 -> 0
A42: 10. gospodarstwa domowe | D42: =E42+F42+G42 -> 0 | J42: 10. gospodarstwa domowe | M42: =N42+O42+P42 -> 0
A43: 11. instytucje niekomercyjne działające na rzecz gospodarstw domowych | D43: =E43+F43+G43 -> 0 | J43: 11. instytucje niekomercyjne działające na rzecz gospodarstw domowych | M43: =N43+O43+P43 -> 0
A44: 12. podmioty nalezące do strefy euro | D44: =E44+F44+G44 -> 0 | J44: 12. podmioty nalezące do strefy euro | M44: =N44+O44+P44 -> 0
A45: 13. pozostałe podmioty zagraniczne | D45: =E45+F45+G45 -> 0 | J45: 13. pozostałe podmioty zagraniczne | M45: =N45+O45+P45 -> 0
A47: B3. kredyty i pożyczki wg pierwotnego terminu zapadalności - stan na koniec okresu sprawozdawczego | J47: B4. kredyty i pożyczki wg pozostałego terminu zapadalności - stan na koniec okresu sprawozdawczego
A48: (wg wartości nominalnej) | J48: (wg wartości nominalnej)
...

Sheet 63-Narodowy Fundusz Zdrowia
A2: Nazwa jednostki sprawozdawczej | F2: Rb-UZ ROCZNE SPRAWOZDANIE UZUPEŁNIAJĄCE O STANIE ZOBOWIĄZAŃ | U2: =MAXA('20-państw.szk.wyż.:90-agencja wykonawcza'!U1) -> 0
G3: WG TYTUŁÓW DŁUŻNYCH | N3: Adresat:
G4: Narodowego Funduszu Zdrowia
A5: Adres jednostki sprawozdawczej
A7: Numer identyfikacyjny REGON | C7: liczba identyfik.jedn.
A8: 320633795 | C8: 0 | F8: wg stanu na koniec | H8: 4 | I8: kwartału | J8: roku | K8: 2022
A9: Nazwa województwa | H9: SYMBOLE
A10: Nazwa powiatu / związku | F10: WOJ. | G10: POWIAT | H10: GMINA | I10: TYP GM. | J10: ZWIĄZEK JST | K10: TYP ZW. | L10: GRUPA | M10: CZĘŚĆ BUDŻ.
A11: Nazwa gminy / związku | L11: 63
A13: A. Struktura walutowa tytułów dłużnych według wartości nominalnej
A15: Wyszczególnienie | C15: W a l u t a
C16: Ogółem (kol. 3+4+5+6+7) | D16: PLN | E16: EUR | F16: USD | G16: CHF | H16: Pozostałe waluty wg średniego kursu NBP | I16: Pozostałe waluty wg średniej arytmetycznej
C17: Ogółem (kol. 3+4+5+6+7) | I17: Pozostałe waluty wg średniej arytmetycznej
A18: 1 | C18: 2 | D18: 3 | E18: 4 | F18: 5 | G18: 6 | H18: 7 | I18: 8
A19: A. Zobowiązania ogółem (A1+A2+A3+A4) | C19: =D19+E19+F19+G19+H19 -> 0 | D19: =SUM(D20:D23) -> 0 | E19: =SUM(E20:E23) -> 0 | F19: =SUM(F20:F23) -> 0 | G19: =SUM(G20:G23) -> 0 | H19: =SUM(H20:H23) -> 0 | I19: =SUM(I20:I23) -> 0
A20: A1. papiery wartościowe | C20: =D20+E20+F20+G20+H20 -> 0
A21: A2. kredyty i pożyczki | C21: =D21+E21+F21+G21+H21 -> 0
A22: A3. przyjęte depozyty | C22: =D22+E22+F22+G22+H22 -> 0
A23: A4. wymagalne zobowiązania | C23: =D23+E23+F23+G23+H23 -> 0
A25: B. Struktura terminowa zobowiązań z tytułu zaciagniętych kredytów i pożyczek oraz wyemitowanych papierów wartościowych
A27: B1. papiery wartościowe wg pierwotnego terminu zapadalności - stan na koniec okresu sprawozdawczego | J27: B2. papiery wartościowe wg pozostałego terminu zapadalności - stan na koniec okresu sprawozdawczego
A28: (wg wartości nominalnej) | J28: (wg wartości nominalnej)
A30: papiery wartościowe | D30: zapadalność w latach | J30: papiery wartościowe | M30: zapadalność w latach
A31: wierzyciele | D31: łącznie (kol. 3+4+5) | E31: ( 0;1> | F31: ( 1;5> | G31: pow. 5 | J31: wierzyciele | M31: łącznie (kol. 3+4+5) | N31: ( 0;1> | O31: ( 1;5> | P31: pow. 5
A32: 1 | D32: 2 | E32: 3 | F32: 4 | G32: 5 | J32: 1 | M32: 2 | N32: 3 | O32: 4 | P32: 5
A33: 1. łącznie (w. 2+3+4+5+6+7+8+9+10+11+12+13) | D33: =SUM(D34:D45) -> 0 | E33: =SUM(E34:E45) -> 0 | F33: =SUM(F34:F45) -> 0 | G33: =SUM(G34:G45) -> 0 | J33: 1. łącznie (w. 2+3+4+5+6+7+8+9+10+11+12+13) | M33: =SUM(M34:M45) -> 0 | N33: =SUM(N34:N45) -> 0 | O33: =SUM(O34:O45) -> 0 | P33: =SUM(P34:P45) -> 0
A34: 2. grupa I | D34: =E34+F34+G34 -> 0 | J34: 2. grupa I | M34: =N34+O34+P34 -> 0
A35: 3. grupa II | D35: =E35+F35+G35 -> 0 | J35: 3. grupa II | M35: =N35+O35+P35 -> 0
A36: 4. grupa III | D36: =E36+F36+G36 -> 0 | J36: 4. grupa III | M36: =N36+O36+P36 -> 0
A37: 5.grupa IV | D37: =E37+F37+G37 -> 0 | J37: 5.grupa IV | M37: =N37+O37+P37 -> 0
A38: 6. bank centralny | D38: =E38+F38+G38 -> 0 | J38: 6. bank centralny | M38: =N38+O38+P38 -> 0
A39: 7. banki | D39: =E39+F39+G39 -> 0 | J39: 7. banki | M39: =N39+O39+P39 -> 0
A40: 8. pozostałe krajowe instytucje finansowe | D40: =E40+F40+G40 -> 0 | J40: 8. pozostałe krajowe instytucje finansowe | M40: =N40+O40+P40 -> 0
A41: 9. przedsiębiorstwa niefinansowe | D41: =E41+F41+G41 -> 0 | J41: 9. przedsiębiorstwa niefinansowe | M41: =N41+O41+P41 -> 0
A42: 10. gospodarstwa domowe | D42: =E42+F42+G42 -> 0 | J42: 10. gospodarstwa domowe | M42: =N42+O42+P42 -> 0
A43: 11. instytucje niekomercyjne działające na rzecz gospodarstw domowych | D43: =E43+F43+G43 -> 0 | J43: 11. instytucje niekomercyjne działające na rzecz gospodarstw domowych | M43: =N43+O43+P43 -> 0
A44: 12. podmioty nalezące do strefy euro | D44: =E44+F44+G44 -> 0 | J44: 12. podmioty nalezące do strefy euro | M44: =N44+O44+P44 -> 0
A45: 13. pozostałe podmioty zagraniczne | D45: =E45+F45+G45 -> 0 | J45: 13. pozostałe podmioty zagraniczne | M45: =N45+O45+P45 -> 0
A47: B3. kredyty i pożyczki wg pierwotnego terminu zapadalności - stan na koniec okresu sprawozdawczego | J47: B4. kredyty i pożyczki wg pozostałego terminu zapadalności - stan na koniec okresu sprawozdawczego
A48: (wg wartości nominalnej) | J48: (wg wartości nominalnej)
...

Sheet 71-ZUS
A2: Nazwa jednostki sprawozdawczej | F2: Rb-UZ ROCZNE SPRAWOZDANIE UZUPEŁNIAJĄCE O STANIE ZOBOWIĄZAŃ | U2: =MAXA('20-państw.szk.wyż.:90-agencja wykonawcza'!U1) -> 0
G3: WG TYTUŁÓW DŁUŻNYCH | N3: Adresat:
G4: ZUS
A5: Adres jednostki sprawozdawczej
A7: Numer identyfikacyjny REGON | C7: liczba identyfik.jedn.
A8: 320633795 | C8: 0 | F8: wg stanu na koniec | H8: 4 | I8: kwartału | J8: roku | K8: 2022
A9: Nazwa województwa | H9: SYMBOLE
A10: Nazwa powiatu / związku | F10: WOJ. | G10: POWIAT | H10: GMINA | I10: TYP GM. | J10: ZWIĄZEK JST | K10: TYP ZW. | L10: GRUPA | M10: CZĘŚĆ BUDŻ.
A11: Nazwa gminy / związku | L11: 71
A13: A. Struktura walutowa tytułów dłużnych według wartości nominalnej
A15: Wyszczególnienie | C15: W a l u t a
C16: Ogółem (kol. 3+4+5+6+7) | D16: PLN | E16: EUR | F16: USD | G16: CHF | H16: Pozostałe waluty wg średniego kursu NBP | I16: Pozostałe waluty wg średniej arytmetycznej
C17: Ogółem (kol. 3+4+5+6+7) | I17: Pozostałe waluty wg średniej arytmetycznej
A18: 1 | C18: 2 | D18: 3 | E18: 4 | F18: 5 | G18: 6 | H18: 7 | I18: 8
A19: A. Zobowiązania ogółem (A1+A2+A3+A4) | C19: =D19+E19+F19+G19+H19 -> 0 | D19: =SUM(D20:D23) -> 0 | E19: =SUM(E20:E23) -> 0 | F19: =SUM(F20:F23) -> 0 | G19: =SUM(G20:G23) -> 0 | H19: =SUM(H20:H23) -> 0 | I19: =SUM(I20:I23) -> 0
A20: A1. papiery wartościowe | C20: =D20+E20+F20+G20+H20 -> 0
A21: A2. kredyty i pożyczki | C21: =D21+E21+F21+G21+H21 -> 0
A22: A3. przyjęte depozyty | C22: =D22+E22+F22+G22+H22 -> 0
A23: A4. wymagalne zobowiązania | C23: =D23+E23+F23+G23+H23 -> 0
A25: B. Struktura terminowa zobowiązań z tytułu zaciagniętych kredytów i pożyczek oraz wyemitowanych papierów wartościowych
A27: B1. papiery wartościowe wg pierwotnego terminu zapadalności - stan na koniec okresu sprawozdawczego | J27: B2. papiery wartościowe wg pozostałego terminu zapadalności - stan na koniec okresu sprawozdawczego
A28: (wg wartości nominalnej) | J28: (wg wartości nominalnej)
A30: papiery wartościowe | D30: zapadalność w latach | J30: papiery wartościowe | M30: zapadalność w latach
A31: wierzyciele | D31: łącznie (kol. 3+4+5) | E31: ( 0;1> | F31: ( 1;5> | G31: pow. 5 | J31: wierzyciele | M31: łącznie (kol. 3+4+5) | N31: ( 0;1> | O31: ( 1;5> | P31: pow. 5
A32: 1 | D32: 2 | E32: 3 | F32: 4 | G32: 5 | J32: 1 | M32: 2 | N32: 3 | O32: 4 | P32: 5
A33: 1. łącznie (w. 2+3+4+5+6+7+8+9+10+11+12+13) | D33: =SUM(D34:D45) -> 0 | E33: =SUM(E34:E45) -> 0 | F33: =SUM(F34:F45) -> 0 | G33: =SUM(G34:G45) -> 0 | J33: 1. łącznie (w. 2+3+4+5+6+7+8+9+10+11+12+13) | M33: =SUM(M34:M45) -> 0 | N33: =SUM(N34:N45) -> 0 | O33: =SUM(O34:O45) -> 0 | P33: =SUM(P34:P45) -> 0
A34: 2. grupa I | D34: =E34+F34+G34 -> 0 | J34: 2. grupa I | M34: =N34+O34+P34 -> 0
A35: 3. grupa II | D35: =E35+F35+G35 -> 0 | J35: 3. grupa II | M35: =N35+O35+P35 -> 0
A36: 4. grupa III | D36: =E36+F36+G36 -> 0 | J36: 4. grupa III | M36: =N36+O36+P36 -> 0
A37: 5.grupa IV | D37: =E37+F37+G37 -> 0 | J37: 5.grupa IV | M37: =N37+O37+P37 -> 0
A38: 6. bank centralny | D38: =E38+F38+G38 -> 0 | J38: 6. bank centralny | M38: =N38+O38+P38 -> 0
A39: 7. banki | D39: =E39+F39+G39 -> 0 | J39: 7. banki | M39: =N39+O39+P39 -> 0
A40: 8. pozostałe krajowe instytucje finansowe | D40: =E40+F40+G40 -> 0 | J40: 8. pozostałe krajowe instytucje finansowe | M40: =N40+O40+P40 -> 0
A41: 9. przedsiębiorstwa niefinansowe | D41: =E41+F41+G41 -> 0 | J41: 9. przedsiębiorstwa niefinansowe | M41: =N41+O41+P41 -> 0
A42: 10. gospodarstwa domowe | D42: =E42+F42+G42 -> 0 | J42: 10. gospodarstwa domowe | M42: =N42+O42+P42 -> 0
A43: 11. instytucje niekomercyjne działające na rzecz gospodarstw domowych | D43: =E43+F43+G43 -> 0 | J43: 11. instytucje niekomercyjne działające na rzecz gospodarstw domowych | M43: =N43+O43+P43 -> 0
A44: 12. podmioty nalezące do strefy euro | D44: =E44+F44+G44 -> 0 | J44: 12. podmioty nalezące do strefy euro | M44: =N44+O44+P44 -> 0
A45: 13. pozostałe podmioty zagraniczne | D45: =E45+F45+G45 -> 0 | J45: 13. pozostałe podmioty zagraniczne | M45: =N45+O45+P45 -> 0
A47: B3. kredyty i pożyczki wg pierwotnego terminu zapadalności - stan na koniec okresu sprawozdawczego | J47: B4. kredyty i pożyczki wg pozostałego terminu zapadalności - stan na koniec okresu sprawozdawczego
A48: (wg wartości nominalnej) | J48: (wg wartości nominalnej)
...

Sheet 72-fund.zarz.przez ZUS
A2: Nazwa jednostki sprawozdawczej | F2: Rb-UZ ROCZNE SPRAWOZDANIE UZUPEŁNIAJĄCE O STANIE ZOBOWIĄZAŃ | U2: =MAXA('20-państw.szk.wyż.:90-agencja wykonawcza'!U1) -> 0
G3: WG TYTUŁÓW DŁUŻNYCH | N3: Adresat:
G4: funduszy zarządzanych przez ZUS
A5: Adres jednostki sprawozdawczej
A7: Numer identyfikacyjny REGON | C7: liczba identyfik.jedn.
A8: 320633795 | C8: 0 | F8: wg stanu na koniec | H8: 4 | I8: kwartału | J8: roku | K8: 2022
A9: Nazwa województwa | H9: SYMBOLE
A10: Nazwa powiatu / związku | F10: WOJ. | G10: POWIAT | H10: GMINA | I10: TYP GM. | J10: ZWIĄZEK JST | K10: TYP ZW. | L10: GRUPA | M10: CZĘŚĆ BUDŻ.
A11: Nazwa gminy / związku | L11: 72
A13: A. Struktura walutowa tytułów dłużnych według wartości nominalnej
A15: Wyszczególnienie | C15: W a l u t a
C16: Ogółem (kol. 3+4+5+6+7) | D16: PLN | E16: EUR | F16: USD | G16: CHF | H16: Pozostałe waluty wg średniego kursu NBP | I16: Pozostałe waluty wg średniej arytmetycznej
C17: Ogółem (kol. 3+4+5+6+7) | I17: Pozostałe waluty wg średniej arytmetycznej
A18: 1 | C18: 2 | D18: 3 | E18: 4 | F18: 5 | G18: 6 | H18: 7 | I18: 8
A19: A. Zobowiązania ogółem (A1+A2+A3+A4) | C19: =D19+E19+F19+G19+H19 -> 0 | D19: =SUM(D20:D23) -> 0 | E19: =SUM(E20:E23) -> 0 | F19: =SUM(F20:F23) -> 0 | G19: =SUM(G20:G23) -> 0 | H19: =SUM(H20:H23) -> 0 | I19: =SUM(I20:I23) -> 0
A20: A1. papiery wartościowe | C20: =D20+E20+F20+G20+H20 -> 0
A21: A2. kredyty i pożyczki | C21: =D21+E21+F21+G21+H21 -> 0
A22: A3. przyjęte depozyty | C22: =D22+E22+F22+G22+H22 -> 0
A23: A4. wymagalne zobowiązania | C23: =D23+E23+F23+G23+H23 -> 0
A25: B. Struktura terminowa zobowiązań z tytułu zaciagniętych kredytów i pożyczek oraz wyemitowanych papierów wartościowych
A27: B1. papiery wartościowe wg pierwotnego terminu zapadalności - stan na koniec okresu sprawozdawczego | J27: B2. papiery wartościowe wg pozostałego terminu zapadalności - stan na koniec okresu sprawozdawczego
A28: (wg wartości nominalnej) | J28: (wg wartości nominalnej)
A30: papiery wartościowe | D30: zapadalność w latach | J30: papiery wartościowe | M30: zapadalność w latach
A31: wierzyciele | D31: łącznie (kol. 3+4+5) | E31: ( 0;1> | F31: ( 1;5> | G31: pow. 5 | J31: wierzyciele | M31: łącznie (kol. 3+4+5) | N31: ( 0;1> | O31: ( 1;5> | P31: pow. 5
A32: 1 | D32: 2 | E32: 3 | F32: 4 | G32: 5 | J32: 1 | M32: 2 | N32: 3 | O32: 4 | P32: 5
A33: 1. łącznie (w. 2+3+4+5+6+7+8+9+10+11+12+13) | D33: =SUM(D34:D45) -> 0 | E33: =SUM(E34:E45) -> 0 | F33: =SUM(F34:F45) -> 0 | G33: =SUM(G34:G45) -> 0 | J33: 1. łącznie (w. 2+3+4+5+6+7+8+9+10+11+12+13) | M33: =SUM(M34:M45) -> 0 | N33: =SUM(N34:N45) -> 0 | O33: =SUM(O34:O45) -> 0 | P33: =SUM(P34:P45) -> 0
A34: 2. grupa I | D34: =E34+F34+G34 -> 0 | J34: 2. grupa I | M34: =N34+O34+P34 -> 0
A35: 3. grupa II | D35: =E35+F35+G35 -> 0 | J35: 3. grupa II | M35: =N35+O35+P35 -> 0
A36: 4. grupa III | D36: =E36+F36+G36 -> 0 | J36: 4. grupa III | M36: =N36+O36+P36 -> 0
A37: 5.grupa IV | D37: =E37+F37+G37 -> 0 | J37: 5.grupa IV | M37: =N37+O37+P37 -> 0
A38: 6. bank centralny | D38: =E38+F38+G38 -> 0 | J38: 6. bank centralny | M38: =N38+O38+P38 -> 0
A39: 7. banki | D39: =E39+F39+G39 -> 0 | J39: 7. banki | M39: =N39+O39+P39 -> 0
A40: 8. pozostałe krajowe instytucje finansowe | D40: =E40+F40+G40 -> 0 | J40: 8. pozostałe krajowe instytucje finansowe | M40: =N40+O40+P40 -> 0
A41: 9. przedsiębiorstwa niefinansowe | D41: =E41+F41+G41 -> 0 | J41: 9. przedsiębiorstwa niefinansowe | M41: =N41+O41+P41 -> 0
A42: 10. gospodarstwa domowe | D42: =E42+F42+G42 -> 0 | J42: 10. gospodarstwa domowe | M42: =N42+O42+P42 -> 0
A43: 11. instytucje niekomercyjne działające na rzecz gospodarstw domowych | D43: =E43+F43+G43 -> 0 | J43: 11. instytucje niekomercyjne działające na rzecz gospodarstw domowych | M43: =N43+O43+P43 -> 0
A44: 12. podmioty nalezące do strefy euro | D44: =E44+F44+G44 -> 0 | J44: 12. podmioty nalezące do strefy euro | M44: =N44+O44+P44 -> 0
A45: 13. pozostałe podmioty zagraniczne | D45: =E45+F45+G45 -> 0 | J45: 13. pozostałe podmioty zagraniczne | M45: =N45+O45+P45 -> 0
A47: B3. kredyty i pożyczki wg pierwotnego terminu zapadalności - stan na koniec okresu sprawozdawczego | J47: B4. kredyty i pożyczki wg pozostałego terminu zapadalności - stan na koniec okresu sprawozdawczego
A48: (wg wartości nominalnej) | J48: (wg wartości nominalnej)
...

Sheet 73-KRUS
A2: Nazwa jednostki sprawozdawczej | F2: Rb-UZ ROCZNE SPRAWOZDANIE UZUPEŁNIAJĄCE O STANIE ZOBOWIĄZAŃ | U2: =MAXA('20-państw.szk.wyż.:90-agencja wykonawcza'!U1) -> 0
G3: WG TYTUŁÓW DŁUŻNYCH | N3: Adresat:
G4: KRUS oraz funduszy zarządzanych przez Prezesa KRUS
A5: Adres jednostki sprawozdawczej
A7: Numer identyfikacyjny REGON | C7: liczba identyfik.jedn.
A8: 320633795 | C8: 0 | F8: wg stanu na koniec | H8: 4 | I8: kwartału | J8: roku | K8: 2022
A9: Nazwa województwa | H9: SYMBOLE
A10: Nazwa powiatu / związku | F10: WOJ. | G10: POWIAT | H10: GMINA | I10: TYP GM. | J10: ZWIĄZEK JST | K10: TYP ZW. | L10: GRUPA | M10: CZĘŚĆ BUDŻ.
A11: Nazwa gminy / związku | L11: 73
A13: A. Struktura walutowa tytułów dłużnych według wartości nominalnej
A15: Wyszczególnienie | C15: W a l u t a
C16: Ogółem (kol. 3+4+5+6+7) | D16: PLN | E16: EUR | F16: USD | G16: CHF | H16: Pozostałe waluty wg średniego kursu NBP | I16: Pozostałe waluty wg średniej arytmetycznej
C17: Ogółem (kol. 3+4+5+6+7) | I17: Pozostałe waluty wg średniej arytmetycznej
A18: 1 | C18: 2 | D18: 3 | E18: 4 | F18: 5 | G18: 6 | H18: 7 | I18: 8
A19: A. Zobowiązania ogółem (A1+A2+A3+A4) | C19: =D19+E19+F19+G19+H19 -> 0 | D19: =SUM(D20:D23) -> 0 | E19: =SUM(E20:E23) -> 0 | F19: =SUM(F20:F23) -> 0 | G19: =SUM(G20:G23) -> 0 | H19: =SUM(H20:H23) -> 0 | I19: =SUM(I20:I23) -> 0
A20: A1. papiery wartościowe | C20: =D20+E20+F20+G20+H20 -> 0
A21: A2. kredyty i pożyczki | C21: =D21+E21+F21+G21+H21 -> 0
A22: A3. przyjęte depozyty | C22: =D22+E22+F22+G22+H22 -> 0
A23: A4. wymagalne zobowiązania | C23: =D23+E23+F23+G23+H23 -> 0
A25: B. Struktura terminowa zobowiązań z tytułu zaciagniętych kredytów i pożyczek oraz wyemitowanych papierów wartościowych
A27: B1. papiery wartościowe wg pierwotnego terminu zapadalności - stan na koniec okresu sprawozdawczego | J27: B2. papiery wartościowe wg pozostałego terminu zapadalności - stan na koniec okresu sprawozdawczego
A28: (wg wartości nominalnej) | J28: (wg wartości nominalnej)
A30: papiery wartościowe | D30: zapadalność w latach | J30: papiery wartościowe | M30: zapadalność w latach
A31: wierzyciele | D31: łącznie (kol. 3+4+5) | E31: ( 0;1> | F31: ( 1;5> | G31: pow. 5 | J31: wierzyciele | M31: łącznie (kol. 3+4+5) | N31: ( 0;1> | O31: ( 1;5> | P31: pow. 5
A32: 1 | D32: 2 | E32: 3 | F32: 4 | G32: 5 | J32: 1 | M32: 2 | N32: 3 | O32: 4 | P32: 5
A33: 1. łącznie (w. 2+3+4+5+6+7+8+9+10+11+12+13) | D33: =SUM(D34:D45) -> 0 | E33: =SUM(E34:E45) -> 0 | F33: =SUM(F34:F45) -> 0 | G33: =SUM(G34:G45) -> 0 | J33: 1. łącznie (w. 2+3+4+5+6+7+8+9+10+11+12+13) | M33: =SUM(M34:M45) -> 0 | N33: =SUM(N34:N45) -> 0 | O33: =SUM(O34:O45) -> 0 | P33: =SUM(P34:P45) -> 0
A34: 2. grupa I | D34: =E34+F34+G34 -> 0 | J34: 2. grupa I | M34: =N34+O34+P34 -> 0
A35: 3. grupa II | D35: =E35+F35+G35 -> 0 | J35: 3. grupa II | M35: =N35+O35+P35 -> 0
A36: 4. grupa III | D36: =E36+F36+G36 -> 0 | J36: 4. grupa III | M36: =N36+O36+P36 -> 0
A37: 5.grupa IV | D37: =E37+F37+G37 -> 0 | J37: 5.grupa IV | M37: =N37+O37+P37 -> 0
A38: 6. bank centralny | D38: =E38+F38+G38 -> 0 | J38: 6. bank centralny | M38: =N38+O38+P38 -> 0
A39: 7. banki | D39: =E39+F39+G39 -> 0 | J39: 7. banki | M39: =N39+O39+P39 -> 0
A40: 8. pozostałe krajowe instytucje finansowe | D40: =E40+F40+G40 -> 0 | J40: 8. pozostałe krajowe instytucje finansowe | M40: =N40+O40+P40 -> 0
A41: 9. przedsiębiorstwa niefinansowe | D41: =E41+F41+G41 -> 0 | J41: 9. przedsiębiorstwa niefinansowe | M41: =N41+O41+P41 -> 0
A42: 10. gospodarstwa domowe | D42: =E42+F42+G42 -> 0 | J42: 10. gospodarstwa domowe | M42: =N42+O42+P42 -> 0
A43: 11. instytucje niekomercyjne działające na rzecz gospodarstw domowych | D43: =E43+F43+G43 -> 0 | J43: 11. instytucje niekomercyjne działające na rzecz gospodarstw domowych | M43: =N43+O43+P43 -> 0
A44: 12. podmioty nalezące do strefy euro | D44: =E44+F44+G44 -> 0 | J44: 12. podmioty nalezące do strefy euro | M44: =N44+O44+P44 -> 0
A45: 13. pozostałe podmioty zagraniczne | D45: =E45+F45+G45 -> 0 | J45: 13. pozostałe podmioty zagraniczne | M45: =N45+O45+P45 -> 0
A47: B3. kredyty i pożyczki wg pierwotnego terminu zapadalności - stan na koniec okresu sprawozdawczego | J47: B4. kredyty i pożyczki wg pozostałego terminu zapadalności - stan na koniec okresu sprawozdawczego
A48: (wg wartości nominalnej) | J48: (wg wartości nominalnej)
...

Sheet 81-państw.osoba prawna
A2: Nazwa jednostki sprawozdawczej | F2: Rb-UZ ROCZNE SPRAWOZDANIE UZUPEŁNIAJĄCE O STANIE ZOBOWIĄZAŃ | U2: =MAXA('20-państw.szk.wyż.:90-agencja wykonawcza'!U1) -> 0
G3: WG TYTUŁÓW DŁUŻNYCH | N3: Adresat:
D4: państwowej osoby prawnej utworzonej na podstawie odrębnych ustaw w celu wykonywania zadań publicznych (z wyłączeniem agencji wykonawczych)
A5: Adres jednostki sprawozdawczej
A7: Numer identyfikacyjny REGON | C7: liczba identyfik.jedn.
A8: 320633795 | C8: 0 | F8: wg stanu na koniec | H8: 4 | I8: kwartału | J8: roku | K8: 2022
A9: Nazwa województwa | H9: SYMBOLE
A10: Nazwa powiatu / związku | F10: WOJ. | G10: POWIAT | H10: GMINA | I10: TYP GM. | J10: ZWIĄZEK JST | K10: TYP ZW. | L10: GRUPA | M10: CZĘŚĆ BUDŻ.
A11: Nazwa gminy / związku | L11: 81
A13: A. Struktura walutowa tytułów dłużnych według wartości nominalnej
A15: Wyszczególnienie | C15: W a l u t a
C16: Ogółem (kol. 3+4+5+6+7) | D16: PLN | E16: EUR | F16: USD | G16: CHF | H16: Pozostałe waluty wg średniego kursu NBP | I16: Pozostałe waluty wg średniej arytmetycznej
C17: Ogółem (kol. 3+4+5+6+7) | I17: Pozostałe waluty wg średniej arytmetycznej
A18: 1 | C18: 2 | D18: 3 | E18: 4 | F18: 5 | G18: 6 | H18: 7 | I18: 8
A19: A. Zobowiązania ogółem (A1+A2+A3+A4) | C19: =D19+E19+F19+G19+H19 -> 0 | D19: =SUM(D20:D23) -> 0 | E19: =SUM(E20:E23) -> 0 | F19: =SUM(F20:F23) -> 0 | G19: =SUM(G20:G23) -> 0 | H19: =SUM(H20:H23) -> 0 | I19: =SUM(I20:I23) -> 0
A20: A1. papiery wartościowe | C20: =D20+E20+F20+G20+H20 -> 0
A21: A2. kredyty i pożyczki | C21: =D21+E21+F21+G21+H21 -> 0
A22: A3. przyjęte depozyty | C22: =D22+E22+F22+G22+H22 -> 0
A23: A4. wymagalne zobowiązania | C23: =D23+E23+F23+G23+H23 -> 0
A25: B. Struktura terminowa zobowiązań z tytułu zaciagniętych kredytów i pożyczek oraz wyemitowanych papierów wartościowych
A27: B1. papiery wartościowe wg pierwotnego terminu zapadalności - stan na koniec okresu sprawozdawczego | J27: B2. papiery wartościowe wg pozostałego terminu zapadalności - stan na koniec okresu sprawozdawczego
A28: (wg wartości nominalnej) | J28: (wg wartości nominalnej)
A30: papiery wartościowe | D30: zapadalność w latach | J30: papiery wartościowe | M30: zapadalność w latach
A31: wierzyciele | D31: łącznie (kol. 3+4+5) | E31: ( 0;1> | F31: ( 1;5> | G31: pow. 5 | J31: wierzyciele | M31: łącznie (kol. 3+4+5) | N31: ( 0;1> | O31: ( 1;5> | P31: pow. 5
A32: 1 | D32: 2 | E32: 3 | F32: 4 | G32: 5 | J32: 1 | M32: 2 | N32: 3 | O32: 4 | P32: 5
A33: 1. łącznie (w. 2+3+4+5+6+7+8+9+10+11+12+13) | D33: =SUM(D34:D45) -> 0 | E33: =SUM(E34:E45) -> 0 | F33: =SUM(F34:F45) -> 0 | G33: =SUM(G34:G45) -> 0 | J33: 1. łącznie (w. 2+3+4+5+6+7+8+9+10+11+12+13) | M33: =SUM(M34:M45) -> 0 | N33: =SUM(N34:N45) -> 0 | O33: =SUM(O34:O45) -> 0 | P33: =SUM(P34:P45) -> 0
A34: 2. grupa I | D34: =E34+F34+G34 -> 0 | J34: 2. grupa I | M34: =N34+O34+P34 -> 0
A35: 3. grupa II | D35: =E35+F35+G35 -> 0 | J35: 3. grupa II | M35: =N35+O35+P35 -> 0
A36: 4. grupa III | D36: =E36+F36+G36 -> 0 | J36: 4. grupa III | M36: =N36+O36+P36 -> 0
A37: 5.grupa IV | D37: =E37+F37+G37 -> 0 | J37: 5.grupa IV | M37: =N37+O37+P37 -> 0
A38: 6. bank centralny | D38: =E38+F38+G38 -> 0 | J38: 6. bank centralny | M38: =N38+O38+P38 -> 0
A39: 7. banki | D39: =E39+F39+G39 -> 0 | J39: 7. banki | M39: =N39+O39+P39 -> 0
A40: 8. pozostałe krajowe instytucje finansowe | D40: =E40+F40+G40 -> 0 | J40: 8. pozostałe krajowe instytucje finansowe | M40: =N40+O40+P40 -> 0
A41: 9. przedsiębiorstwa niefinansowe | D41: =E41+F41+G41 -> 0 | J41: 9. przedsiębiorstwa niefinansowe | M41: =N41+O41+P41 -> 0
A42: 10. gospodarstwa domowe | D42: =E42+F42+G42 -> 0 | J42: 10. gospodarstwa domowe | M42: =N42+O42+P42 -> 0
A43: 11. instytucje niekomercyjne działające na rzecz gospodarstw domowych | D43: =E43+F43+G43 -> 0 | J43: 11. instytucje niekomercyjne działające na rzecz gospodarstw domowych | M43: =N43+O43+P43 -> 0
A44: 12. podmioty nalezące do strefy euro | D44: =E44+F44+G44 -> 0 | J44: 12. podmioty nalezące do strefy euro | M44: =N44+O44+P44 -> 0
A45: 13. pozostałe podmioty zagraniczne | D45: =E45+F45+G45 -> 0 | J45: 13. pozostałe podmioty zagraniczne | M45: =N45+O45+P45 -> 0
A47: B3. kredyty i pożyczki wg pierwotnego terminu zapadalności - stan na koniec okresu sprawozdawczego | J47: B4. kredyty i pożyczki wg pozostałego terminu zapadalności - stan na koniec okresu sprawozdawczego
A48: (wg wartości nominalnej) | J48: (wg wartości nominalnej)
...

Sheet 82-samorz.osoba prawna
A2: Nazwa jednostki sprawozdawczej | F2: Rb-UZ ROCZNE SPRAWOZDANIE UZUPEŁNIAJĄCE O STANIE ZOBOWIĄZAŃ | U2: =MAXA('20-państw.szk.wyż.:90-agencja wykonawcza'!U1) -> 0
G3: WG TYTUŁÓW DŁUŻNYCH | N3: Adresat:
D4: samorządowej osoby prawnej utworzonej na podstawie odrębnych ustaw w celu wykonywania zadań publicznych
A5: Adres jednostki sprawozdawczej
A7: Numer identyfikacyjny REGON | C7: liczba identyfik.jedn.
A8: 320633795 | C8: 0 | F8: wg stanu na koniec | H8: 4 | I8: kwartału | J8: roku | K8: 2022
A9: Nazwa województwa | H9: SYMBOLE
A10: Nazwa powiatu / związku | F10: WOJ. | G10: POWIAT | H10: GMINA | I10: TYP GM. | J10: ZWIĄZEK JST | K10: TYP ZW. | L10: GRUPA | M10: CZĘŚĆ BUDŻ.
A11: Nazwa gminy / związku | L11: 82
A13: A. Struktura walutowa tytułów dłużnych według wartości nominalnej
A15: Wyszczególnienie | C15: W a l u t a
C16: Ogółem (kol. 3+4+5+6+7) | D16: PLN | E16: EUR | F16: USD | G16: CHF | H16: Pozostałe waluty wg średniego kursu NBP | I16: Pozostałe waluty wg średniej arytmetycznej
C17: Ogółem (kol. 3+4+5+6+7) | I17: Pozostałe waluty wg średniej arytmetycznej
A18: 1 | C18: 2 | D18: 3 | E18: 4 | F18: 5 | G18: 6 | H18: 7 | I18: 8
A19: A. Zobowiązania ogółem (A1+A2+A3+A4) | C19: =D19+E19+F19+G19+H19 -> 0 | D19: =SUM(D20:D23) -> 0 | E19: =SUM(E20:E23) -> 0 | F19: =SUM(F20:F23) -> 0 | G19: =SUM(G20:G23) -> 0 | H19: =SUM(H20:H23) -> 0 | I19: =SUM(I20:I23) -> 0
A20: A1. papiery wartościowe | C20: =D20+E20+F20+G20+H20 -> 0
A21: A2. kredyty i pożyczki | C21: =D21+E21+F21+G21+H21 -> 0
A22: A3. przyjęte depozyty | C22: =D22+E22+F22+G22+H22 -> 0
A23: A4. wymagalne zobowiązania | C23: =D23+E23+F23+G23+H23 -> 0
A25: B. Struktura terminowa zobowiązań z tytułu zaciagniętych kredytów i pożyczek oraz wyemitowanych papierów wartościowych
A27: B1. papiery wartościowe wg pierwotnego terminu zapadalności - stan na koniec okresu sprawozdawczego | J27: B2. papiery wartościowe wg pozostałego terminu zapadalności - stan na koniec okresu sprawozdawczego
A28: (wg wartości nominalnej) | J28: (wg wartości nominalnej)
A30: papiery wartościowe | D30: zapadalność w latach | J30: papiery wartościowe | M30: zapadalność w latach
A31: wierzyciele | D31: łącznie (kol. 3+4+5) | E31: ( 0;1> | F31: ( 1;5> | G31: pow. 5 | J31: wierzyciele | M31: łącznie (kol. 3+4+5) | N31: ( 0;1> | O31: ( 1;5> | P31: pow. 5
A32: 1 | D32: 2 | E32: 3 | F32: 4 | G32: 5 | J32: 1 | M32: 2 | N32: 3 | O32: 4 | P32: 5
A33: 1. łącznie (w. 2+3+4+5+6+7+8+9+10+11+12+13) | D33: =SUM(D34:D45) -> 0 | E33: =SUM(E34:E45) -> 0 | F33: =SUM(F34:F45) -> 0 | G33: =SUM(G34:G45) -> 0 | J33: 1. łącznie (w. 2+3+4+5+6+7+8+9+10+11+12+13) | M33: =SUM(M34:M45) -> 0 | N33: =SUM(N34:N45) -> 0 | O33: =SUM(O34:O45) -> 0 | P33: =SUM(P34:P45) -> 0
A34: 2. grupa I | D34: =E34+F34+G34 -> 0 | J34: 2. grupa I | M34: =N34+O34+P34 -> 0
A35: 3. grupa II | D35: =E35+F35+G35 -> 0 | J35: 3. grupa II | M35: =N35+O35+P35 -> 0
