Workbook
Name JEDNOSTKA: '99-zbiorczo'!$A$3
Name KWARTAL: '99-zbiorczo'!$H$8
Name LID: '99-zbiorczo'!$C$8
Name LISTANAZW: #REF!
Name LISTAREG: #REF!
Name MAX_CB: '99-zbiorczo'!$U$12
Name MAX_KW: '99-zbiorczo'!$U$4
Name MAX_LID: '99-zbiorczo'!$U$8
Name MAX_ROK: '99-zbiorczo'!$U$6
Name MIN_CB: '99-zbiorczo'!$T$12
Name MIN_KW: '99-zbiorczo'!$T$4
Name MIN_LID: '99-zbiorczo'!$T$8
Name MIN_ROK: '99-zbiorczo'!$T$6
Name REGON: '99-zbiorczo'!$A$8
Name ROK: '99-zbiorczo'!$K$8

Sheet 11-państw.fund.cel.
U1: 0
A2: Nazwa jednostki sprawozdawczej | F2: Rb-UZ ROCZNE SPRAWOZDANIE UZUPEŁNIAJĄCE O STANIE ZOBOWIĄZAŃ | U2: =MAXA('20-państw.szk.wyż.:90-agencja wykonawcza'!U1) -> 0
G3: WG TYTUŁÓW DŁUŻNYCH | N3: Adresat:
F4: państwowego funduszu celowego posiadającego osobowość prawną
A5: Adres jednostki sprawozdawczej
A7: Numer identyfikacyjny REGON | C7: liczba identyfik.jedn. | U7: FALSE
A8: 320633795 | C8: 0 | F8: wg stanu na koniec | H8: 4 | I8: kwartału | J8: roku | K8: 2022
A9: Nazwa województwa | H9: SYMBOLE
A10: Nazwa powiatu / związku | F10: WOJ. | G10: POWIAT | H10: GMINA | I10: TYP GM. | J10: ZWIĄZEK JST | K10: TYP ZW. | L10: GRUPA | M10: CZĘŚĆ BUDŻ.
A11: Nazwa gminy / związku | L11: 11
A13: A. Struktura walutowa tytułów dłużnych według wartości nominalnej
A15: Wyszczególnienie | C15: W a l u t a
C16: Ogółem (kol. 3+4+5+6+7) | D16: PLN | E16: EUR | F16: USD | G16: CHF | H16: Pozostałe waluty wg średniego kursu NBP | I16: Pozostałe waluty wg średniej arytmetycznej
C17: Ogółem (kol. 3+4+5+6+7) | I17: Pozostałe waluty wg średniej arytmetycznej
A18: 1 | C18: 2 | D18: 3 | E18: 4 | F18: 5 | G18: 6 | H18: 7 | I18: 8
A19: A. Zobowiązania ogółem (A1+A2+A3+A4) | C19: =D19+E19+F19+G19+H19 -> 0 | D19: =SUM(D20:D23) -> 0 | E19: =SUM(E20:E23) -> 0 | F19: =SUM(F20:F23) -> 0 | G19: =SUM(G20:G23) -> 0 | H19: =SUM(H20:H23) -> 0 | I19: =SUM(I20:I23) -> 0
A20: A1. papiery wartościowe | C20: =D20+E20+F20+G20+H20 -> 0
A21: A2. kredyty i pożyczki | C21: =D21+E21+F21+G21+H21 -> 0
A22: A3. przyjęte depozyty | C22: =D22+E22+F22+G22+H22 -> 0
A23: A4. wymagalne zobowiązania | C23: =D23+E23+F23+G23+H23 -> 0
A25: B. Struktura terminowa zobowiązań z tytułu zaciagniętych kredytów i pożyczek oraz wyemitowanych papierów wartościowych
A27: B1. papiery wartościowe wg pierwotnego terminu zapadalności - stan na koniec okresu sprawozdawczego | J27: B2. papiery wartościowe wg pozostałego terminu zapadalności - stan na koniec okresu sprawozdawczego
A28: (wg wartości nominalnej) | J28: (wg wartości nominalnej)
A30: papiery wartościowe | D30: zapadalność w latach | J30: papiery wartościowe | M30: zapadalność w latach
A31: wierzyciele | D31: łącznie (kol. 3+4+5) | E31: ( 0;1> | F31: ( 1;5> | G31: pow. 5 | J31: wierzyciele | M31: łącznie (kol. 3+4+5) | N31: ( 0;1> | O31: ( 1;5> | P31: pow. 5
A32: 1 | D32: 2 | E32: 3 | F32: 4 | G32: 5 | J32: 1 | M32: 2 | N32: 3 | O32: 4 | P32: 5
A33: 1. łącznie (w. 2+3+4+5+6+7+8+9+10+11+12+13) | D33: =SUM(D34:D45) -> 0 | E33: =SUM(E34:E45) -> 0 | F33: =SUM(F34:F45) -> 0 | G33: =SUM(G34:G45) -> 0 | J33: 1. łącznie (w. 2+3+4+5+6+7+8+9+10+11+12+13) | M33: =SUM(M34:M45) -> 0 | N33: =SUM(N34:N45) -> 0 | O33: =SUM(O34:O45) -> 0 | P33: =SUM(P34:P45) -> 0
A34: 2. grupa I | D34: =E34+F34+G34 -> 0 | J34: 2. grupa I | M34: =N34+O34+P34 -> 0
A35: 3. grupa II | D35: =E35+F35+G35 -> 0 | J35: 3. grupa II | M35: =N35+O35+P35 -> 0
A36: 4. grupa III | D36: =E36+F36+G36 -> 0 | J36: 4. grupa III | M36: =N36+O36+P36 -> 0
A37: 5.grupa IV | D37: =E37+F37+G37 -> 0 | J37: 5.grupa IV | M37: =N37+O37+P37 -> 0
A38: 6. bank centralny | D38: =E38+F38+G38 -> 0 | J38: 6. bank centralny | M38: =N38+O38+P38 -> 0
A39: 7. banki | D39: =E39+F39+G39 -> 0 | J39: 7. banki | M39: =N39+O39+P39 -> 0
A40: 8. pozostałe krajowe instytucje finansowe | D40: =E40+F40+G40 -> 0 | J40: 8. pozostałe krajowe instytucje finansowe | M40: =N40+O40+P40 -> 0
A41: 9. przedsiębiorstwa niefinansowe | D41: =E41+F41+G41 -> 0 | J41: 9. przedsiębiorstwa niefinansowe | M41: =N41+O41+P41 -> 0
A42: 10. gospodarstwa domowe | D42: =E42+F42+G42 -> 0 | J42: 10. gospodarstwa domowe | M42: =N42+O42+P42 -> 0
A43: 11. instytucje niekomercyjne działające na rzecz gospodarstw domowych | D43: =E43+F43+G43 -> 0 | J43: 11. instytucje niekomercyjne działające na rzecz gospodarstw domowych | M43: =N43+O43+P43 -> 0
A44: 12. podmioty nalezące do strefy euro | D44: =E44+F44+G44 -> 0 | J44: 12. podmioty nalezące do strefy euro | M44: =N44+O44+P44 -> 0
A45: 13. pozostałe podmioty zagraniczne | D45: =E45+F45+G45 -> 0 | J45: 13. pozostałe podmioty zagraniczne | M45: =N45+O45+P45 -> 0
A47: B3. kredyty i pożyczki wg pierwotnego terminu zapadalności - stan na koniec okresu sprawozdawczego | J47: B4. kredyty i pożyczki wg pozostałego terminu zapadalności - stan na koniec okresu sprawozdawczego
A48: (wg wartości nominalnej) | J48: (wg wartości nominalnej)
A50: kredyty i pożyczki | D50: zapadalność w latach | J50: kredyty i pożyczki | M50: zapadalność w latach
A51: wierzyciele | D51: łącznie (kol. 3+4+5) | E51: ( 0;1> | F51: ( 1;5> | G51: pow. 5 | J51: wierzyciele | M51: łącznie (kol. 3+4+5) | N51: ( 0;1> | O51: ( 1;5> | P51: pow. 5
A52: 1 | D52: 2 | E52: 3 | F52: 4 | G52: 5 | J52: 1 | M52: 2 | N52: 3 | O52: 4 | P52: 5
A53: 1. łącznie (w. 2+3+4+5+6+7+8+9+10+11+12+13) | D53: =SUM(D54:D65) -> 0 | E53: =SUM(E54:E65) -> 0 | F53: =SUM(F54:F65) -> 0 | G53: =SUM(G54:G65) -> 0 | J53: 1. łącznie (w. 2+3+4+5+6+7+8+9+10+11+12+13) | M53: =SUM(M54:M65) -> 0 | N53: =SUM(N54:N65) -> 0 | O53: =SUM(O54:O65) -> 0 | P53: =SUM(P54:P65) -> 0
A54: 2. grupa I | D54: =E54+F54+G54 -> 0 | J54: 2. grupa I | M54: =N54+O54+P54 -> 0
A55: 3. grupa II | D55: =E55+F55+G55 -> 0 | J55: 3. grupa II | M55: =N55+O55+P55 -> 0
A56: 4. grupa III | D56: =E56+F56+G56 -> 0 | J56: 4. grupa III | M56: =N56+O56+P56 -> 0
A57: 5.grupa IV | D57: =E57+F57+G57 -> 0 | J57: 5.grupa IV | M57: =N57+O57+P57 -> 0
A58: 6. bank centralny | D58: =E58+F58+G58 -> 0 | J58: 6. bank centralny | M58: =N58+O58+P58 -> 0
A59: 7. banki | D59: =E59+F59+G59 -> 0 | J59: 7. banki | M59: =N59+O59+P59 -> 0
A60: 8. pozostałe krajowe instytucje finansowe | D60: =E60+F60+G60 -> 0 | J60: 8. pozostałe krajowe instytucje finansowe | M60: =N60+O60+P60 -> 0
A61: 9. przedsiębiorstwa niefinansowe | D61: =E61+F61+G61 -> 0 | J61: 9. przedsiębiorstwa niefinansowe | M61: =N61+O61+P61 -> 0
A62: 10. gospodarstwa domowe | D62: =E62+F62+G62 -> 0 | J62: 10. gospodarstwa domowe | M62: =N62+O62+P62 -> 0
A63: 11. instytucje niekomercyjne działające na rzecz gospodarstw domowych | D63: =E63+F63+G63 -> 0 | J63: 11. instytucje niekomercyjne działające na rzecz gospodarstw domowych | M63: =N63+O63+P63 -> 0
A64: 12. podmioty nalezące do strefy euro | D64: =E64+F64+G64 -> 0 | J64: 12. podmioty nalezące do strefy euro | M64: =N64+O64+P64 -> 0
A65: 13. pozostałe podmioty zagraniczne | D65: =E65+F65+G65 -> 0 | J65: 13. pozostałe podmioty zagraniczne | M65: =N65+O65+P65 -> 0
A73: . . . . . . . . . . . . . . . . . . . . . . . . . . . . . . . | E73: . . . . . . . . . . . | H73: . . . . . . . . . . . | K73: . . . . . . . . . . . . . . . . .
A74: Główny księgowy* / Skarbnik | E74: telefon | H74: rok m-c dzień | K74: Kierownik jednostki (jednostki obsługującej)/ Przewodniczący Zarządu
A75: * Nie dotyczy sprawozdań zbiorczych sporządzanych przez RIO. W przypadku braku głównego księgowego podpisuje tylko kierownik jednostki.

Sheet 20-państw.szk.wyż.
A2: Nazwa jednostki sprawozdawczej | F2: Rb-UZ ROCZNE SPRAWOZDANIE UZUPEŁNIAJĄCE O STANIE ZOBOWIĄZAŃ | U2: =MAXA('20-państw.szk.wyż.:90-agencja wykonawcza'!U1) -> 0
G3: WG TYTUŁÓW DŁUŻNYCH | N3: Adresat:
G4: uczelni publicznej
A5: Adres jednostki sprawozdawczej
A7: Numer identyfikacyjny REGON | C7: liczba identyfik.jedn.
A8: 320633795 | C8: 0 | F8: wg stanu na koniec | H8: 4 | I8: kwartału | J8: roku | K8: 2022
A9: Nazwa województwa | H9: SYMBOLE
A10: Nazwa powiatu / związku | F10: WOJ. | G10: POWIAT | H10: GMINA | I10: TYP GM. | J10: ZWIĄZEK JST | K10: TYP ZW. | L10: GRUPA | M10: CZĘŚĆ BUDŻ.
A11: Nazwa gminy / związku | L11: 20
A13: A. Struktura walutowa tytułów dłużnych według wartości nominalnej
A15: Wyszczególnienie | C15: W a l u t a
C16: Ogółem (kol. 3+4+5+6+7) | D16: PLN | E16: EUR | F16: USD | G16: CHF | H16: Pozostałe waluty wg średniego kursu NBP | I16: Pozostałe waluty wg średniej arytmetycznej
C17: Ogółem (kol. 3+4+5+6+7) | I17: Pozostałe waluty wg średniej arytmetycznej
A18: 1 | C18: 2 | D18: 3 | E18: 4 | F18: 5 | G18: 6 | H18: 7 | I18: 8
A19: A. Zobowiązania ogółem (A1+A2+A3+A4) | C19: =D19+E19+F19+G19+H19 -> 0 | D19: =SUM(D20:D23) -> 0 | E19: =SUM(E20:E23) -> 0 | F19: =SUM(F20:F23) -> 0 | G19: =SUM(G20:G23) -> 0 | H19: =SUM(H20:H23) -> 0 | I19: =SUM(I20:I23) -> 0
A20: A1. papiery wartościowe | C20: =D20+E20+F20+G20+H20 -> 0
A21: A2. kredyty i pożyczki | C21: =D21+E21+F21+G21+H21 -> 0
A22: A3. przyjęte depozyty | C22: =D22+E22+F22+G22+H22 -> 0
A23: A4. wymagalne zobowiązania | C23: =D23+E23+F23+G23+H23 -> 0
A25: B. Struktura terminowa zobowiązań z tytułu zaciagniętych kredytów i pożyczek oraz wyemitowanych papierów wartościowych
A27: B1. papiery wartościowe wg pierwotnego terminu zapadalności - stan na koniec okresu sprawozdawczego | J27: B2. papiery wartościowe wg pozostałego terminu zapadalności - stan na koniec okresu sprawozdawczego
A28: (wg wartości nominalnej) | J28: (wg wartości nominalnej)
A30: papiery wartościowe | D30: zapadalność w latach | J30: papiery wartościowe | M30: zapadalność w latach
A31: wierzyciele | D31: łącznie (kol. 3+4+5) | E31: ( 0;1> | F31: ( 1;5> | G31: pow. 5 | J31: wierzyciele | M31: łącznie (kol. 3+4+5) | N31: ( 0;1> | O31: ( 1;5> | P31: pow. 5
A32: 1 | D32: 2 | E32: 3 | F32: 4 | G32: 5 | J32: 1 | M32: 2 | N32: 3 | O32: 4 | P32: 5
A33: 1. łącznie (w. 2+3+4+5+6+7+8+9+10+11+12+13) | D33: =SUM(D34:D45) -> 0 | E33: =SUM(E34:E45) -> 0 | F33: =SUM(F34:F45) -> 0 | G33: =SUM(G34:G45) -> 0 | J33: 1. łącznie (w. 2+3+4+5+6+7+8+9+10+11+12+13) | M33: =SUM(M34:M45) -> 0 | N33: =SUM(N34:N45) -> 0 | O33: =SUM(O34:O45) -> 0 | P33: =SUM(P34:P45) -> 0
A34: 2. grupa I | D34: =E34+F34+G34 -> 0 | J34: 2. grupa I | M34: =N34+O34+P34 -> 0
A35: 3. grupa II | D35: =E35+F35+G35 -> 0 | J35: 3. grupa II | M35: =N35+O35+P35 -> 0
A36: 4. grupa III | D36: =E36+F36+G36 -> 0 | J36: 4. grupa III | M36: =N36+O36+P36 -> 0
A37: 5.grupa IV | D37: =E37+F37+G37 -> 0 | J37: 5.grupa IV | M37: =N37+O37+P37 -> 0
A38: 6. bank centralny | D38: =E38+F38+G38 -> 0 | J38: 6. bank centralny | M38: =N38+O38+P38 -> 0
A39: 7. banki | D39: =E39+F39+G39 -> 0 | J39: 7. banki | M39: =N39+O39+P39 -> 0
A40: 8. pozostałe krajowe instytucje finansowe | D40: =E40+F40+G40 -> 0 | J40: 8. pozostałe krajowe instytucje finansowe | M40: =N40+O40+P40 -> 0
A41: 9. przedsiębiorstwa niefinansowe | D41: =E41+F41+G41 -> 0 | J41: 9. przedsiębiorstwa niefinansowe | M41: =N41+O41+P41 -> 0
A42: 10. gospodarstwa domowe | D42: =E42+F42+G42 -> 0 | J42: 10. gospodarstwa domowe | M42: =N42+O42+P42 -> 0
A43: 11. instytucje niekomercyjne działające na rzecz gospodarstw domowych | D43: =E43+F43+G43 -> 0 | J43: 11. instytucje niekomercyjne działające na rzecz gospodarstw domowych | M43: =N43+O43+P43 -> 0
A44: 12. podmioty nalezące do strefy euro | D44: =E44+F44+G44 -> 0 | J44: 12. podmioty nalezące do strefy euro | M44: =N44+O44+P44 -> 0
A45: 13. pozostałe podmioty zagraniczne | D45: =E45+F45+G45 -> 0 | J45: 13. pozostałe podmioty zagraniczne | M45: =N45+O45+P45 -> 0
A47: B3. kredyty i pożyczki wg pierwotnego terminu zapadalności - stan na koniec okresu sprawozdawczego | J47: B4. kredyty i pożyczki wg pozostałego terminu zapadalności - stan na koniec okresu sprawozdawczego
A48: (wg wartości nominalnej) | J48: (wg wartości nominalnej)
A50: kredyty i pożyczki | D50: zapadalność w latach | J50: kredyty i pożyczki | M50: zapadalność w latach
A51: wierzyciele | D51: łącznie (kol. 3+4+5) | E51: ( 0;1> | F51: ( 1;5> | G51: pow. 5 | J51: wierzyciele | M51: łącznie (kol. 3+4+5) | N51: ( 0;1> | O51: ( 1;5> | P51: pow. 5
A52: 1 | D52: 2 | E52: 3 | F52: 4 | G52: 5 | J52: 1 | M52: 2 | N52: 3 | O52: 4 | P52: 5
A53: 1. łącznie (w. 2+3+4+5+6+7+8+9+10+11+12+13) | D53: =SUM(D54:D65) -> 0 | E53: =SUM(E54:E65) -> 0 | F53: =SUM(F54:F65) -> 0 | G53: =SUM(G54:G65) -> 0 | J53: 1. łącznie (w. 2+3+4+5+6+7+8+9+10+11+12+13) | M53: =SUM(M54:M65) -> 0 | N53: =SUM(N54:N65) -> 0 | O53: =SUM(O54:O65) -> 0 | P53: =SUM(P54:P65) -> 0
A54: 2. grupa I | D54: =E54+F54+G54 -> 0 | J54: 2. grupa I | M54: =N54+O54+P54 -> 0
A55: 3. grupa II | D55: =E55+F55+G55 -> 0 | J55: 3. grupa II | M55: =N55+O55+P55 -> 0
A56: 4. grupa III | D56: =E56+F56+G56 -> 0 | J56: 4. grupa III | M56: =N56+O56+P56 -> 0
A57: 5.grupa IV | D57: =E57+F57+G57 -> 0 | J57: 5.grupa IV | M57: =N57+O57+P57 -> 0
A58: 6. bank centralny | D58: =E58+F58+G58 -> 0 | J58: 6. bank centralny | M58: =N58+O58+P58 -> 0
A59: 7. banki | D59: =E59+F59+G59 -> 0 | J59: 7. banki | M59: =N59+O59+P59 -> 0
A60: 8. pozostałe krajowe instytucje finansowe | D60: =E60+F60+G60 -> 0 | J60: 8. pozostałe krajowe instytucje finansowe | M60: =N60+O60+P60 -> 0
A61: 9. przedsiębiorstwa niefinansowe | D61: =E61+F61+G61 -> 0 | J61: 9. przedsiębiorstwa niefinansowe | M61: =N61+O61+P61 -> 0
A62: 10. gospodarstwa domowe | D62: =E62+F62+G62 -> 0 | J62: 10. gospodarstwa domowe | M62: =N62+O62+P62 -> 0
A63: 11. instytucje niekomercyjne działające na rzecz gospodarstw domowych | D63: =E63+F63+G63 -> 0 | J63: 11. instytucje niekomercyjne działające na rzecz gospodarstw domowych | M63: =N63+O63+P63 -> 0
A64: 12. podmioty nalezące do strefy euro | D64: =E64+F64+G64 -> 0 | J64: 12. podmioty nalezące do strefy euro | M64: =N64+O64+P64 -> 0
A65: 13. pozostałe podmioty zagraniczne | D65: =E65+F65+G65 -> 0 | J65: 13. pozostałe podmioty zagraniczne | M65: =N65+O65+P65 -> 0
A73: . . . . . . . . . . . . . . . . . . . . . . . . . . . . . . . | E73: . . . . . . . . . . . | H73: . . . . . . . . . . . | K73: . . . . . . . . . . . . . . . . .
A74: Główny księgowy / Skarbnik | E74: telefon | H74: rok m-c dzień | K74: Kierownik jednostki (jednostki obsługującej)/ Przewodniczący Zarządu
A75: * Nie dotyczy sprawozdań zbiorczych sporządzanych przez RIO. W przypadku braku głównego księgowego podpisuje tylko kierownik jednostki.

Sheet 31-instytucje gosp budż
A2: Nazwa jednostki sprawozdawczej | F2: Rb-UZ ROCZNE SPRAWOZDANIE UZUPEŁNIAJĄCE O STANIE ZOBOWIĄZAŃ | U2: =MAXA('20-państw.szk.wyż.:90-agencja wykonawcza'!U1) -> 0
G3: WG TYTUŁÓW DŁUŻNYCH | N3: Adresat:
G4: instytucji gospodarki budżetowej
A5: Adres jednostki sprawozdawczej
A7: Numer identyfikacyjny REGON | C7: liczba identyfik.jedn.
A8: 320633795 | C8: 0 | F8: wg stanu na koniec | H8: 4 | I8: kwartału | J8: roku | K8: 2022
A9: Nazwa województwa | H9: SYMBOLE
A10: Nazwa powiatu / związku | F10: WOJ. | G10: POWIAT | H10: GMINA | I10: TYP GM. | J10: ZWIĄZEK JST | K10: TYP ZW. | L10: GRUPA | M10: CZĘŚĆ BUDŻ.
A11: Nazwa gminy / związku | L11: 31
A13: A. Struktura walutowa tytułów dłużnych według wartości nominalnej
A15: Wyszczególnienie | C15: W a l u t a
C16: Ogółem (kol. 3+4+5+6+7) | D16: PLN | E16: EUR | F16: USD | G16: CHF | H16: Pozostałe waluty wg średniego kursu NBP | I16: Pozostałe waluty wg średniej arytmetycznej
C17: Ogółem (kol. 3+4+5+6+7) | I17: Pozostałe waluty wg średniej arytmetycznej
A18: 1 | C18: 2 | D18: 3 | E18: 4 | F18: 5 | G18: 6 | H18: 7 | I18: 8
A19: A. Zobowiązania ogółem (A1+A2+A3+A4) | C19: =D19+E19+F19+G19+H19 -> 0 | D19: =SUM(D20:D23) -> 0 | E19: =SUM(E20:E23) -> 0 | F19: =SUM(F20:F23) -> 0 | G19: =SUM(G20:G23) -> 0 | H19: =SUM(H20:H23) -> 0 | I19: =SUM(I20:I23) -> 0
A20: A1. papiery wartościowe | C20: =D20+E20+F20+G20+H20 -> 0
A21: A2. kredyty i pożyczki | C21: =D21+E21+F21+G21+H21 -> 0
A22: A3. przyjęte depozyty | C22: =D22+E22+F22+G22+H22 -> 0
A23: A4. wymagalne zobowiązania | C23: =D23+E23+F23+G23+H23 -> 0
A25: B. Struktura terminowa zobowiązań z tytułu zaciagniętych kredytów i pożyczek oraz wyemitowanych papierów wartościowych
A27: B1. papiery wartościowe wg pierwotnego terminu zapadalności - stan na koniec okresu sprawozdawczego | J27: B2. papiery wartościowe wg pozostałego terminu zapadalności - stan na koniec okresu sprawozdawczego
A28: (wg wartości nominalnej) | J28: (wg wartości nominalnej)
A30: papiery wartościowe | D30: zapadalność w latach | J30: papiery wartościowe | M30: zapadalność w latach
A31: wierzyciele | D31: łącznie (kol. 3+4+5) | E31: ( 0;1> | F31: ( 1;5> | G31: pow. 5 | J31: wierzyciele | M31: łącznie (kol. 3+4+5) | N31: ( 0;1> | O31: ( 1;5> | P31: pow. 5
A32: 1 | D32: 2 | E32: 3 | F32: 4 | G32: 5 | J32: 1 | M32: 2 | N32: 3 | O32: 4 | P32: 5
A33: 1. łącznie (w. 2+3+4+5+6+7+8+9+10+11+12+13) | D33: =SUM(D34:D45) -> 0 | E33: =SUM(E34:E45) -> 0 | F33: =SUM(F34:F45) -> 0 | G33: =SUM(G34:G45) -> 0 | J33: 1. łącznie (w. 2+3+4+5+6+7+8+9+10+11+12+13) | M33: =SUM(M34:M45) -> 0 | N33: =SUM(N34:N45) -> 0 | O33: =SUM(O34:O45) -> 0 | P33: =SUM(P34:P45) -> 0
A34: 2. grupa I | D34: =E34+F34+G34 -> 0 | J34: 2. grupa I | M34: =N34+O34+P34 -> 0
A35: 3. grupa II | D35: =E35+F35+G35 -> 0 | J35: 3. grupa II | M35: =N35+O35+P35 -> 0
A36: 4. grupa III | D36: =E36+F36+G36 -> 0 | J36: 4. grupa III | M36: =N36+O36+P36 -> 0
A37: 5.grupa IV | D37: =E37+F37+G37 -> 0 | J37: 5.grupa IV | M37: =N37+O37+P37 -> 0
A38: 6. bank centralny | D38: =E38+F38+G38 -> 0 | J38: 6. bank centralny | M38: =N38+O38+P38 -> 0
A39: 7. banki | D39: =E39+F39+G39 -> 0 | J39: 7. banki | M39: =N39+O39+P39 -> 0
A40: 8. pozostałe krajowe instytucje finansowe | D40: =E40+F40+G40 -> 0 | J40: 8. pozostałe krajowe instytucje finansowe | M40: =N40+O40+P40 -> 0
A41: 9. przedsiębiorstwa niefinansowe | D41: =E41+F41+G41 -> 0 | J41: 9. przedsiębiorstwa niefinansowe | M41: =N41+O41+P41 -> 0
A42: 10. gospodarstwa domowe | D42: =E42+F42+G42 -> 0 | J42: 10. gospodarstwa domowe | M42: =N42+O42+P42 -> 0
A43: 11. instytucje niekomercyjne działające na rzecz gospodarstw domowych | D43: =E43+F43+G43 -> 0 | J43: 11. instytucje niekomercyjne działające na rzecz gospodarstw domowych | M43: =N43+O43+P43 -> 0
A44: 12. podmioty nalezące do strefy euro | D44: =E44+F44+G44 -> 0 | J44: 12. podmioty nalezące do strefy euro | M44: =N44+O44+P44 -> 0
A45: 13. pozostałe podmioty zagraniczne | D45: =E45+F45+G45 -> 0 | J45: 13. pozostałe podmioty zagraniczne | M45: =N45+O45+P45 -> 0
A47: B3. kredyty i pożyczki wg pierwotnego terminu zapadalności - stan na koniec okresu sprawozdawczego | J47: B4. kredyty i pożyczki wg pozostałego terminu zapadalności - stan na koniec okresu sprawozdawczego
A48: (wg wartości nominalnej) | J48: (wg wartości nominalnej)
A50: kredyty i pożyczki | D50: zapadalność w latach | J50: kredyty i pożyczki | M50: zapadalność w latach
A51: wierzyciele | D51: łącznie (kol. 3+4+5) | E51: ( 0;1> | F51: ( 1;5> | G51: pow. 5 | J51: wierzyciele | M51: łącznie (kol. 3+4+5) | N51: ( 0;1> | O51: ( 1;5> | P51: pow. 5
A52: 1 | D52: 2 | E52: 3 | F52: 4 | G52: 5 | J52: 1 | M52: 2 | N52: 3 | O52: 4 | P52: 5
A53: 1. łącznie (w. 2+3+4+5+6+7+8+9+10+11+12+13) | D53: =SUM(D54:D65) -> 0 | E53: =SUM(E54:E65) -> 0 | F53: =SUM(F54:F65) -> 0 | G53: =SUM(G54:G65) -> 0 | J53: 1. łącznie (w. 2+3+4+5+6+7+8+9+10+11+12+13) | M53: =SUM(M54:M65) -> 0 | N53: =SUM(N54:N65) -> 0 | O53: =SUM(O54:O65) -> 0 | P53: =SUM(P54:P65) -> 0
A54: 2. grupa I | D54: =E54+F54+G54 -> 0 | J54: 2. grupa I | M54: =N54+O54+P54 -> 0
A55: 3. grupa II | D55: =E55+F55+G55 -> 0 | J55: 3. grupa II | M55: =N55+O55+P55 -> 0
A56: 4. grupa III | D56: =E56+F56+G56 -> 0 | J56: 4. grupa III | M56: =N56+O56+P56 -> 0
A57: 5.grupa IV | D57: =E57+F57+G57 -> 0 | J57: 5.grupa IV | M57: =N57+O57+P57 -> 0
A58: 6. bank centralny | D58: =E58+F58+G58 -> 0 | J58: 6. bank centralny | M58: =N58+O58+P58 -> 0
A59: 7. banki | D59: =E59+F59+G59 -> 0 | J59: 7. banki | M59: =N59+O59+P59 -> 0
A60: 8. pozostałe krajowe instytucje finansowe | D60: =E60+F60+G60 -> 0 | J60: 8. pozostałe krajowe instytucje finansowe | M60: =N60+O60+P60 -> 0
A61: 9. przedsiębiorstwa niefinansowe | D61: =E61+F61+G61 -> 0 | J61: 9. przedsiębiorstwa niefinansowe | M61: =N61+O61+P61 -> 0
A62: 10. gospodarstwa domowe | D62: =E62+F62+G62 -> 0 | J62: 10. gospodarstwa domowe | M62: =N62+O62+P62 -> 0
A63: 11. instytucje niekomercyjne działające na rzecz gospodarstw domowych | D63: =E63+F63+G63 -> 0 | J63: 11. instytucje niekomercyjne działające na rzecz gospodarstw domowych | M63: =N63+O63+P63 -> 0
A64: 12. podmioty nalezące do strefy euro | D64: =E64+F64+G64 -> 0 | J64: 12. podmioty nalezące do strefy euro | M64: =N64+O64+P64 -> 0
A65: 13. pozostałe podmioty zagraniczne | D65: =E65+F65+G65 -> 0 | J65: 13. pozostałe podmioty zagraniczne | M65: =N65+O65+P65 -> 0
A73: . . . . . . . . . . . . . . . . . . . . . . . . . . . . . . . | E73: . . . . . . . . . . . | H73: . . . . . . . . . . . | K73: . . . . . . . . . . . . . . . . .
A74: Główny księgowy / Skarbnik | E74: telefon | H74: rok m-c dzień | K74: Kierownik jednostki (jednostki obsługującej)/ Przewodniczący Zarządu
A75: * Nie dotyczy sprawozdań zbiorczych sporządzanych przez RIO. W przypadku braku głównego księgowego podpisuje tylko kierownik jednostki.

Sheet 41-państw.inst.kult.
A2: Nazwa jednostki sprawozdawczej | F2: Rb-UZ ROCZNE SPRAWOZDANIE UZUPEŁNIAJĄCE O STANIE ZOBOWIĄZAŃ | U2: =MAXA('20-państw.szk.wyż.:90-agencja wykonawcza'!U1) -> 0
G3: WG TYTUŁÓW DŁUŻNYCH | N3: Adresat:
G4: państwowej instytucji kultury
A5: Adres jednostki sprawozdawczej
A7: Numer identyfikacyjny REGON | C7: liczba identyfik.jedn.
A8: 320633795 | C8: 0 | F8: wg stanu na koniec | H8: 4 | I8: kwartału | J8: roku | K8: 2022
A9: Nazwa województwa | H9: SYMBOLE
A10: Nazwa powiatu / związku | F10: WOJ. | G10: POWIAT | H10: GMINA | I10: TYP GM. | J10: ZWIĄZEK JST | K10: TYP ZW. | L10: GRUPA | M10: CZĘŚĆ BUDŻ.
A11: Nazwa gminy / związku | L11: 41
A13: A. Struktura walutowa tytułów dłużnych według wartości nominalnej
A15: Wyszczególnienie | C15: W a l u t a
C16: Ogółem (kol. 3+4+5+6+7) | D16: PLN | E16: EUR | F16: USD | G16: CHF | H16: Pozostałe waluty wg średniego kursu NBP | I16: Pozostałe waluty wg średniej arytmetycznej
C17: Ogółem (kol. 3+4+5+6+7) | I17: Pozostałe waluty wg średniej arytmetycznej
A18: 1 | C18: 2 | D18: 3 | E18: 4 | F18: 5 | G18: 6 | H18: 7 | I18: 8
A19: A. Zobowiązania ogółem (A1+A2+A3+A4) | C19: =D19+E19+F19+G19+H19 -> 0 | D19: =SUM(D20:D23) -> 0 | E19: =SUM(E20:E23) -> 0 | F19: =SUM(F20:F23) -> 0 | G19: =SUM(G20:G23) -> 0 | H19: =SUM(H20:H23) -> 0 | I19: =SUM(I20:I23) -> 0
A20: A1. papiery wartościowe | C20: =D20+E20+F20+G20+H20 -> 0
A21: A2. kredyty i pożyczki | C21: =D21+E21+F21+G21+H21 -> 0
A22: A3. przyjęte depozyty | C22: =D22+E22+F22+G22+H22 -> 0
A23: A4. wymagalne zobowiązania | C23: =D23+E23+F23+G23+H23 -> 0
A25: B. Struktura terminowa zobowiązań z tytułu zaciagniętych kredytów i pożyczek oraz wyemitowanych papierów wartościowych
A27: B1. papiery wartościowe wg pierwotnego terminu zapadalności - stan na koniec okresu sprawozdawczego | J27: B2. papiery wartościowe wg pozostałego terminu zapadalności - stan na koniec okresu sprawozdawczego
A28: (wg wartości nominalnej) | J28: (wg wartości nominalnej)
A30: papiery wartościowe | D30: zapadalność w latach | J30: papiery wartościowe | M30: zapadalność w latach
A31: wierzyciele | D31: łącznie (kol. 3+4+5) | E31: ( 0;1> | F31: ( 1;5> | G31: pow. 5 | J31: wierzyciele | M31: łącznie (kol. 3+4+5) | N31: ( 0;1> | O31: ( 1;5> | P31: pow. 5
A32: 1 | D32: 2 | E32: 3 | F32: 4 | G32: 5 | J32: 1 | M32: 2 | N32: 3 | O32: 4 | P32: 5
A33: 1. łącznie (w. 2+3+4+5+6+7+8+9+10+11+12+13) | D33: =SUM(D34:D45) -> 0 | E33: =SUM(E34:E45) -> 0 | F33: =SUM(F34:F45) -> 0 | G33: =SUM(G34:G45) -> 0 | J33: 1. łącznie (w. 2+3+4+5+6+7+8+9+10+11+12+13) | M33: =SUM(M34:M45) -> 0 | N33: =SUM(N34:N45) -> 0 | O33: =SUM(O34:O45) -> 0 | P33: =SUM(P34:P45) -> 0
A34: 2. grupa I | D34: =E34+F34+G34 -> 0 | J34: 2. grupa I | M34: =N34+O34+P34 -> 0
A35: 3. grupa II | D35: =E35+F35+G35 -> 0 | J35: 3. grupa II | M35: =N35+O35+P35 -> 0
A36: 4. grupa III | D36: =E36+F36+G36 -> 0 | J36: 4. grupa III | M36: =N36+O36+P36 -> 0
A37: 5.grupa IV | D37: =E37+F37+G37 -> 0 | J37: 5.grupa IV | M37: =N37+O37+P37 -> 0
A38: 6. bank centralny | D38: =E38+F38+G38 -> 0 | J38: 6. bank centralny | M38: =N38+O38+P38 -> 0
A39: 7. banki | D39: =E39+F39+G39 -> 0 | J39: 7. banki | M39: =N39+O39+P39 -> 0
A40: 8. pozostałe krajowe instytucje finansowe | D40: =E40+F40+G40 -> 0 | J40: 8. pozostałe krajowe instytucje finansowe | M40: =N40+O40+P40 -> 0
A41: 9. przedsiębiorstwa niefinansowe | D41: =E41+F41+G41 -> 0 | J41: 9. przedsiębiorstwa niefinansowe | M41: =N41+O41+P41 -> 0
A42: 10. gospodarstwa domowe | D42: =E42+F42+G42 -> 0 | J42: 10. gospodarstwa domowe | M42: =N42+O42+P42 -> 0
A43: 11. instytucje niekomercyjne działające na rzecz gospodarstw domowych | D43: =E43+F43+G43 -> 0 | J43: 11. instytucje niekomercyjne działające na rzecz gospodarstw domowych | M43: =N43+O43+P43 -> 0
A44: 12. podmioty nalezące do strefy euro | D44: =E44+F44+G44 -> 0 | J44: 12. podmioty nalezące do strefy euro | M44: =N44+O44+P44 -> 0
A45: 13. pozostałe podmioty zagraniczne | D45: =E45+F45+G45 -> 0 | J45: 13. pozostałe podmioty zagraniczne | M45: =N45+O45+P45 -> 0
A47: B3. kredyty i pożyczki wg pierwotnego terminu zapadalności - stan na koniec okresu sprawozdawczego | J47: B4. kredyty i pożyczki wg pozostałego terminu zapadalności - stan na koniec okresu sprawozdawczego
A48: (wg wartości nominalnej) | J48: (wg wartości nominalnej)
A50: kredyty i pożyczki | D50: zapadalność w latach | J50: kredyty i pożyczki | M50: zapadalność w latach
A51: wierzyciele | D51: łącznie (kol. 3+4+5) | E51: ( 0;1> | F51: ( 1;5> | G51: pow. 5 | J51: wierzyciele | M51: łącznie (kol. 3+4+5) | N51: ( 0;1> | O51: ( 1;5> | P51: pow. 5
A52: 1 | D52: 2 | E52: 3 | F52: 4 | G52: 5 | J52: 1 | M52: 2 | N52: 3 | O52: 4 | P52: 5
A53: 1. łącznie (w. 2+3+4+5+6+7+8+9+10+11+12+13) | D53: =SUM(D54:D65) -> 0 | E53: =SUM(E54:E65) -> 0 | F53: =SUM(F54:F65) -> 0 | G53: =SUM(G54:G65) -> 0 | J53: 1. łącznie (w. 2+3+4+5+6+7+8+9+10+11+12+13) | M53: =SUM(M54:M65) -> 0 | N53: =SUM(N54:N65) -> 0 | O53: =SUM(O54:O65) -> 0 | P53: =SUM(P54:P65) -> 0
A54: 2. grupa I | D54: =E54+F54+G54 -> 0 | J54: 2. grupa I | M54: =N54+O54+P54 -> 0
A55: 3. grupa II | D55: =E55+F55+G55 -> 0 | J55: 3. grupa II | M55: =N55+O55+P55 -> 0
A56: 4. grupa III | D56: =E56+F56+G56 -> 0 | J56: 4. grupa III | M56: =N56+O56+P56 -> 0
A57: 5.grupa IV | D57: =E57+F57+G57 -> 0 | J57: 5.grupa IV | M57: =N57+O57+P57 -> 0
A58: 6. bank centralny | D58: =E58+F58+G58 -> 0 | J58: 6. bank centralny | M58: =N58+O58+P58 -> 0
A59: 7. banki | D59: =E59+F59+G59 -> 0 | J59: 7. banki | M59: =N59+O59+P59 -> 0
A60: 8. pozostałe krajowe instytucje finansowe | D60: =E60+F60+G60 -> 0 | J60: 8. pozostałe krajowe instytucje finansowe | M60: =N60+O60+P60 -> 0
A61: 9. przedsiębiorstwa niefinansowe | D61: =E61+F61+G61 -> 0 | J61: 9. przedsiębiorstwa niefinansowe | M61: =N61+O61+P61 -> 0
A62: 10. gospodarstwa domowe | D62: =E62+F62+G62 -> 0 | J62: 10. gospodarstwa domowe | M62: =N62+O62+P62 -> 0
A63: 11. instytucje niekomercyjne działające na rzecz gospodarstw domowych | D63: =E63+F63+G63 -> 0 | J63: 11. instytucje niekomercyjne działające na rzecz gospodarstw domowych | M63: =N63+O63+P63 -> 0
A64: 12. podmioty nalezące do strefy euro | D64: =E64+F64+G64 -> 0 | J64: 12. podmioty nalezące do strefy euro | M64: =N64+O64+P64 -> 0
A65: 13. pozostałe podmioty zagraniczne | D65: =E65+F65+G65 -> 0 | J65: 13. pozostałe podmioty zagraniczne | M65: =N65+O65+P65 -> 0
A73: . . . . . . . . . . . . . . . . . . . . . . . . . . . . . . . | E73: . . . . . . . . . . . | H73: . . . . . . . . . . . | K73: . . . . . . . . . . . . . . . . .
A74: Główny księgowy / Skarbnik | E74: telefon | H74: rok m-c dzień | K74: Kierownik jednostki (jednostki obsługującej)/ Przewodniczący Zarządu
A75: * Nie dotyczy sprawozdań zbiorczych sporządzanych przez RIO. W przypadku braku głównego księgowego podpisuje tylko kierownik jednostki.

Sheet 42-samorz.inst.kult.
A2: Nazwa jednostki sprawozdawczej | F2: Rb-UZ ROCZNE SPRAWOZDANIE UZUPEŁNIAJĄCE O STANIE ZOBOWIĄZAŃ | U2: =MAXA('20-państw.szk.wyż.:90-agencja wykonawcza'!U1) -> 0
A3: Gminna Biblioteka Publiczna w Grzmiącej | G3: WG TYTUŁÓW DŁUŻNYCH | N3: Adresat:
G4: samorządowej instytucji kultury | N4: Gmina Grzmiąca, ul. 1 Maja 7, 78-450 Grzmiąca
A5: Adres jednostki sprawozdawczej
A6: ul. Kolejowa 2,78-450 Grzmiąca
A7: Numer identyfikacyjny REGON | C7: liczba identyfik.jedn.
A8: 320633795 | C8: 0 | F8: wg stanu na koniec | H8: 4 | I8: kwartału | J8: roku | K8: 2023
A9: Nazwa województwa | C9: Zachodniopomorskie | H9: SYMBOLE
A10: Nazwa powiatu / związku | C10: Szczecinecki | F10: WOJ. | G10: POWIAT | H10: GMINA | I10: TYP GM. | J10: ZWIĄZEK JST | K10: TYP ZW. | L10: GRUPA | M10: CZĘŚĆ BUDŻ. | U10: 1
A11: Nazwa gminy / związku | C11: Grzmiąca | F11: 32 | G11: 15 | H11: 5 | I11: 2 | L11: 42
A13: A. Struktura walutowa tytułów dłużnych według wartości nominalnej
A15: Wyszczególnienie | C15: W a l u t a
C16: Ogółem (kol. 3+4+5+6+7) | D16: PLN | E16: EUR | F16: USD | G16: CHF | H16: Pozostałe waluty wg średniego kursu NBP | I16: Pozostałe waluty wg średniej arytmetycznej
C17: Ogółem (kol. 3+4+5+6+7) | I17: Pozostałe waluty wg średniej arytmetycznej
A18: 1 | C18: 2 | D18: 3 | E18: 4 | F18: 5 | G18: 6 | H18: 7 | I18: 8
A19: A. Zobowiązania ogółem (A1+A2+A3+A4) | C19: =D19+E19+F19+G19+H19 -> 0 | D19: =SUM(D20:D23) -> 0 | E19: =SUM(E20:E23) -> 0 | F19: =SUM(F20:F23) -> 0 | G19: =SUM(G20:G23) -> 0 | H19: =SUM(H20:H23) -> 0 | I19: =SUM(I20:I23) -> 0
A20: A1. papiery wartościowe | C20: =D20+E20+F20+G20+H20 -> 0
A21: A2. kredyty i pożyczki | C21: =D21+E21+F21+G21+H21 -> 0
A22: A3. przyjęte depozyty | C22: =D22+E22+F22+G22+H22 -> 0
A23: A4. wymagalne zobowiązania | C23: =D23+E23+F23+G23+H23 -> 0
A25: B. Struktura terminowa zobowiązań z tytułu zaciagniętych kredytów i pożyczek oraz wyemitowanych papierów wartościowych
A27: B1. papiery wartościowe wg pierwotnego terminu zapadalności - stan na koniec okresu sprawozdawczego | J27: B2. papiery wartościowe wg pozostałego terminu zapadalności - stan na koniec okresu sprawozdawczego
A28: (wg wartości nominalnej) | J28: (wg wartości nominalnej)
A30: papiery wartościowe | D30: zapadalność w latach | J30: papiery wartościowe | M30: zapadalność w latach
A31: wierzyciele | D31: łącznie (kol. 3+4+5) | E31: ( 0;1> | F31: ( 1;5> | G31: pow. 5 | J31: wierzyciele | M31: łącznie (kol. 3+4+5) | N31: ( 0;1> | O31: ( 1;5> | P31: pow. 5
A32: 1 | D32: 2 | E32: 3 | F32: 4 | G32: 5 | J32: 1 | M32: 2 | N32: 3 | O32: 4 | P32: 5
A33: 1. łącznie (w. 2+3+4+5+6+7+8+9+10+11+12+13) | D33: =SUM(D34:D45) -> 0 | E33: =SUM(E34:E45) -> 0 | F33: =SUM(F34:F45) -> 0 | G33: =SUM(G34:G45) -> 0 | J33: 1. łącznie (w. 2+3+4+5+6+7+8+9+10+11+12+13) | M33: =SUM(M34:M45) -> 0 | N33: =SUM(N34:N45) -> 0 | O33: =SUM(O34:O45) -> 0 | P33: =SUM(P34:P45) -> 0
A34: 2. grupa I | D34: =E34+F34+G34 -> 0 | J34: 2. grupa I | M34: =N34+O34+P34 -> 0
A35: 3. grupa II | D35: =E35+F35+G35 -> 0 | J35: 3. grupa II | M35: =N35+O35+P35 -> 0
A36: 4. grupa III | D36: =E36+F36+G36 -> 0 | J36: 4. grupa III | M36: =N36+O36+P36 -> 0
A37: 5.grupa IV | D37: =E37+F37+G37 -> 0 | J37: 5.grupa IV | M37: =N37+O37+P37 -> 0
A38: 6. bank centralny | D38: =E38+F38+G38 -> 0 | J38: 6. bank centralny | M38: =N38+O38+P38 -> 0
A39: 7. banki | D39: =E39+F39+G39 -> 0 | J39: 7. banki | M39: =N39+O39+P39 -> 0
A40: 8. pozostałe krajowe instytucje finansowe | D40: =E40+F40+G40 -> 0 | J40: 8. pozostałe krajowe instytucje finansowe | M40: =N40+O40+P40 -> 0
A41: 9. przedsiębiorstwa niefinansowe | D41: =E41+F41+G41 -> 0 | J41: 9. przedsiębiorstwa niefinansowe | M41: =N41+O41+P41 -> 0
A42: 10. gospodarstwa domowe | D42: =E42+F42+G42 -> 0 | J42: 10. gospodarstwa domowe | M42: =N42+O42+P42 -> 0
A43: 11. instytucje niekomercyjne działające na rzecz gospodarstw domowych | D43: =E43+F43+G43 -> 0 | J43: 11. instytucje niekomercyjne działające na rzecz gospodarstw domowych | M43: =N43+O43+P43 -> 0
A44: 12. podmioty nalezące do strefy euro | D44: =E44+F44+G44 -> 0 | J44: 12. podmioty nalezące do strefy euro | M44: =N44+O44+P44 -> 0
A45: 13. pozostałe podmioty zagraniczne | D45: =E45+F45+G45 -> 0 | J45: 13. pozostałe podmioty zagraniczne | M45: =N45+O45+P45 -> 0
A47: B3. kredyty i pożyczki wg pierwotnego terminu zapadalności - stan na koniec okresu sprawozdawczego | J47: B4. kredyty i pożyczki wg pozostałego terminu zapadalności - stan na koniec okresu sprawozdawczego
A48: (wg wartości nominalnej) | J48: (wg wartości nominalnej)
A50: kredyty i pożyczki | D50: zapadalność w latach | J50: kredyty i pożyczki | M50: zapadalność w latach
A51: wierzyciele | D51: łącznie (kol. 3+4+5) | E51: ( 0;1> | F51: ( 1;5> | G51: pow. 5 | J51: wierzyciele | M51: łącznie (kol. 3+4+5) | N51: ( 0;1> | O51: ( 1;5> | P51: pow. 5
A52: 1 | D52: 2 | E52: 3 | F52: 4 | G52: 5 | J52: 1 | M52: 2 | N52: 3 | O52: 4 | P52: 5
A53: 1. łącznie (w. 2+3+4+5+6+7+8+9+10+11+12+13) | D53: =SUM(D54:D65) -> 0 | E53: =SUM(E54:E65) -> 0 | F53: =SUM(F54:F65) -> 0 | G53: =SUM(G54:G65) -> 0 | J53: 1. łącznie (w. 2+3+4+5+6+7+8+9+10+11+12+13) | M53: =SUM(M54:M65) -> 0 | N53: =SUM(N54:N65) -> 0 | O53: =SUM(O54:O65) -> 0 | P53: =SUM(P54:P65) -> 0
A54: 2. grupa I | D54: =E54+F54+G54 -> 0 | J54: 2. grupa I | M54: =N54+O54+P54 -> 0
A55: 3. grupa II | D55: =E55+F55+G55 -> 0 | J55: 3. grupa II | M55: =N55+O55+P55 -> 0
A56: 4. grupa III | D56: =E56+F56+G56 -> 0 | J56: 4. grupa III | M56: =N56+O56+P56 -> 0
A57: 5.grupa IV | D57: =E57+F57+G57 -> 0 | J57: 5.grupa IV | M57: =N57+O57+P57 -> 0
A58: 6. bank centralny | D58: =E58+F58+G58 -> 0 | J58: 6. bank centralny | M58: =N58+O58+P58 -> 0
A59: 7. banki | D59: =E59+F59+G59 -> 0 | J59: 7. banki | M59: =N59+O59+P59 -> 0
A60: 8. pozostałe krajowe instytucje finansowe | D60: =E60+F60+G60 -> 0 | J60: 8. pozostałe krajowe instytucje finansowe | M60: =N60+O60+P60 -> 0
A61: 9. przedsiębiorstwa niefinansowe | D61: =E61+F61+G61 -> 0 | J61: 9. przedsiębiorstwa niefinansowe | M61: =N61+O61+P61 -> 0
A62: 10. gospodarstwa domowe | D62: =E62+F62+G62 -> 0 | J62: 10. gospodarstwa domowe | M62: =N62+O62+P62 -> 0
A63: 11. instytucje niekomercyjne działające na rzecz gospodarstw domowych | D63: =E63+F63+G63 -> 0 | J63: 11. instytucje niekomercyjne działające na rzecz gospodarstw domowych | M63: =N63+O63+P63 -> 0
A64: 12. podmioty nalezące do strefy euro | D64: =E64+F64+G64 -> 0 | J64: 12. podmioty nalezące do strefy euro | M64: =N64+O64+P64 -> 0
A65: 13. pozostałe podmioty zagraniczne | D65: =E65+F65+G65 -> 0 | J65: 13. pozostałe podmioty zagraniczne | M65: =N65+O65+P65 -> 0
A72: Teresa Bielawska | E72: 943721057 | H72: 45306 | K72: Jadwiga Kasztelan-Massopust
A73: . . . . . . . . . . . . . . . . . . . . . . . . . . . . . . . | E73: . . . . . . . . . . . | H73: . . . . . . . . . . . | K73: . . . . . . . . . . . . . . . . .
A74: Główny księgowy / Skarbnik | E74: telefon | H74: rok m-c dzień | K74: Kierownik jednostki (jednostki obsługującej)/ Przewodniczący Zarządu
A75: * Nie dotyczy sprawozdań zbiorczych sporządzanych przez RIO. W przypadku braku głównego księgowego podpisuje tylko kierownik jednostki.

Sheet 50-PAN i jedn.tworz.przez PAN
A2: Nazwa jednostki sprawozdawczej | F2: Rb-UZ ROCZNE SPRAWOZDANIE UZUPEŁNIAJĄCE O STANIE ZOBOWIĄZAŃ | U2: =MAXA('20-państw.szk.wyż.:90-agencja wykonawcza'!U1) -> 0
G3: WG TYTUŁÓW DŁUŻNYCH | N3: Adresat:
F4: PAN i jednostki organizacyjnej tworzonej przez PAN
A5: Adres jednostki sprawozdawczej
A7: Numer identyfikacyjny REGON | C7: liczba identyfik.jedn.
A8: 320633795 | C8: 0 | F8: wg stanu na koniec | H8: 4 | I8: kwartału | J8: roku | K8: 2022
A9: Nazwa województwa | H9: SYMBOLE
A10: Nazwa powiatu / związku | F10: WOJ. | G10: POWIAT | H10: GMINA | I10: TYP GM. | J10: ZWIĄZEK JST | K10: TYP ZW. | L10: GRUPA | M10: CZĘŚĆ BUDŻ.
A11: Nazwa gminy / związku | L11: 50
A13: A. Struktura walutowa tytułów dłużnych według wartości nominalnej
A15: Wyszczególnienie | C15: W a l u t a
C16: Ogółem (kol. 3+4+5+6+7) | D16: PLN | E16: EUR | F16: USD | G16: CHF | H16: Pozostałe waluty wg średniego kursu NBP | I16: Pozostałe waluty wg średniej arytmetycznej
C17: Ogółem (kol. 3+4+5+6+7) | I17: Pozostałe waluty wg średniej arytmetycznej
A18: 1 | C18: 2 | D18: 3 | E18: 4 | F18: 5 | G18: 6 | H18: 7 | I18: 8
A19: A. Zobowiązania ogółem (A1+A2+A3+A4) | C19: =D19+E19+F19+G19+H19 -> 0 | D19: =SUM(D20:D23) -> 0 | E19: =SUM(E20:E23) -> 0 | F19: =SUM(F20:F23) -> 0 | G19: =SUM(G20:G23) -> 0 | H19: =SUM(H20:H23) -> 0 | I19: =SUM(I20:I23) -> 0
A20: A1. papiery wartościowe | C20: =D20+E20+F20+G20+H20 -> 0
A21: A2. kredyty i pożyczki | C21: =D21+E21+F21+G21+H21 -> 0
A22: A3. przyjęte depozyty | C22: =D22+E22+F22+G22+H22 -> 0
A23: A4. wymagalne zobowiązania | C23: =D23+E23+F23+G23+H23 -> 0
A25: B. Struktura terminowa zobowiązań z tytułu zaciagniętych kredytów i pożyczek oraz wyemitowanych papierów wartościowych
A27: B1. papiery wartościowe wg pierwotnego terminu zapadalności - stan na koniec okresu sprawozdawczego | J27: B2. papiery wartościowe wg pozostałego terminu zapadalności - stan na koniec okresu sprawozdawczego
A28: (wg wartości nominalnej) | J28: (wg wartości nominalnej)
A30: papiery wartościowe | D30: zapadalność w latach | J30: papiery wartościowe | M30: zapadalność w latach
A31: wierzyciele | D31: łącznie (kol. 3+4+5) | E31: ( 0;1> | F31: ( 1;5> | G31: pow. 5 | J31: wierzyciele | M31: łącznie (kol. 3+4+5) | N31: ( 0;1> | O31: ( 1;5> | P31: pow. 5
A32: 1 | D32: 2 | E32: 3 | F32: 4 | G32: 5 | J32: 1 | M32: 2 | N32: 3 | O32: 4 | P32: 5
A33: 1. łącznie (w. 2+3+4+5+6+7+8+9+10+11+12+13) | D33: =SUM(D34:D45) -> 0 | E33: =SUM(E34:E45) -> 0 | F33: =SUM(F34:F45) -> 0 | G33: =SUM(G34:G45) -> 0 | J33: 1. łącznie (w. 2+3+4+5+6+7+8+9+10+11+12+13) | M33: =SUM(M34:M45) -> 0 | N33: =SUM(N34:N45) -> 0 | O33: =SUM(O34:O45) -> 0 | P33: =SUM(P34:P45) -> 0
A34: 2. grupa I | D34: =E34+F34+G34 -> 0 | J34: 2. grupa I | M34: =N34+O34+P34 -> 0
A35: 3. grupa II | D35: =E35+F35+G35 -> 0 | J35: 3. grupa II | M35: =N35+O35+P35 -> 0
A36: 4. grupa III | D36: =E36+F36+G36 -> 0 | J36: 4. grupa III | M36: =N36+O36+P36 -> 0
A37: 5.grupa IV | D37: =E37+F37+G37 -> 0 | J37: 5.grupa IV | M37: =N37+O37+P37 -> 0
A38: 6. bank centralny | D38: =E38+F38+G38 -> 0 | J38: 6. bank centralny | M38: =N38+O38+P38 -> 0
A39: 7. banki | D39: =E39+F39+G39 -> 0 | J39: 7. banki | M39: =N39+O39+P39 -> 0
A40: 8. pozostałe krajowe instytucje finansowe | D40: =E40+F40+G40 -> 0 | J40: 8. pozostałe krajowe instytucje finansowe | M40: =N40+O40+P40 -> 0
A41: 9. przedsiębiorstwa niefinansowe | D41: =E41+F41+G41 -> 0 | J41: 9. przedsiębiorstwa niefinansowe | M41: =N41+O41+P41 -> 0
A42: 10. gospodarstwa domowe | D42: =E42+F42+G42 -> 0 | J42: 10. gospodarstwa domowe | M42: =N42+O42+P42 -> 0
A43: 11. instytucje niekomercyjne działające na rzecz gospodarstw domowych | D43: =E43+F43+G43 -> 0 | J43: 11. instytucje niekomercyjne działające na rzecz gospodarstw domowych | M43: =N43+O43+P43 -> 0
A44: 12. podmioty nalezące do strefy euro | D44: =E44+F44+G44 -> 0 | J44: 12. podmioty nalezące do strefy euro | M44: =N44+O44+P44 -> 0
A45: 13. pozostałe podmioty zagraniczne | D45: =E45+F45+G45 -> 0 | J45: 13. pozostałe podmioty zagraniczne | M45: =N45+O45+P45 -> 0
A47: B3. kredyty i pożyczki wg pierwotnego terminu zapadalności - stan na koniec okresu sprawozdawczego | J47: B4. kredyty i pożyczki wg pozostałego terminu zapadalności - stan na koniec okresu sprawozdawczego
A48: (wg wartości nominalnej) | J48: (wg wartości nominalnej)
A50: kredyty i pożyczki | D50: zapadalność w latach | J50: kredyty i pożyczki | M50: zapadalność w latach
A51: wierzyciele | D51: łącznie (kol. 3+4+5) | E51: ( 0;1> | F51: ( 1;5> | G51: pow. 5 | J51: wierzyciele | M51: łącznie (kol. 3+4+5) | N51: ( 0;1> | O51: ( 1;5> | P51: pow. 5
A52: 1 | D52: 2 | E52: 3 | F52: 4 | G52: 5 | J52: 1 | M52: 2 | N52: 3 | O52: 4 | P52: 5
A53: 1. łącznie (w. 2+3+4+5+6+7+8+9+10+11+12+13) | D53: =SUM(D54:D65) -> 0 | E53: =SUM(E54:E65) -> 0 | F53: =SUM(F54:F65) -> 0 | G53: =SUM(G54:G65) -> 0 | J53: 1. łącznie (w. 2+3+4+5+6+7+8+9+10+11+12+13) | M53: =SUM(M54:M65) -> 0 | N53: =SUM(N54:N65) -> 0 | O53: =SUM(O54:O65) -> 0 | P53: =SUM(P54:P65) -> 0
A54: 2. grupa I | D54: =E54+F54+G54 -> 0 | J54: 2. grupa I | M54: =N54+O54+P54 -> 0
A55: 3. grupa II | D55: =E55+F55+G55 -> 0 | J55: 3. grupa II | M55: =N55+O55+P55 -> 0
A56: 4. grupa III | D56: =E56+F56+G56 -> 0 | J56: 4. grupa III | M56: =N56+O56+P56 -> 0
A57: 5.grupa IV | D57: =E57+F57+G57 -> 0 | J57: 5.grupa IV | M57: =N57+O57+P57 -> 0
A58: 6. bank centralny | D58: =E58+F58+G58 -> 0 | J58: 6. bank centralny | M58: =N58+O58+P58 -> 0
A59: 7. banki | D59: =E59+F59+G59 -> 0 | J59: 7. banki | M59: =N59+O59+P59 -> 0
A60: 8. pozostałe krajowe instytucje finansowe | D60: =E60+F60+G60 -> 0 | J60: 8. pozostałe krajowe instytucje finansowe | M60: =N60+O60+P60 -> 0
A61: 9. przedsiębiorstwa niefinansowe | D61: =E61+F61+G61 -> 0 | J61: 9. przedsiębiorstwa niefinansowe | M61: =N61+O61+P61 -> 0
A62: 10. gospodarstwa domowe | D62: =E62+F62+G62 -> 0 | J62: 10. gospodarstwa domowe | M62: =N62+O62+P62 -> 0
A63: 11. instytucje niekomercyjne działające na rzecz gospodarstw domowych | D63: =E63+F63+G63 -> 0 | J63: 11. instytucje niekomercyjne działające na rzecz gospodarstw domowych | M63: =N63+O63+P63 -> 0
A64: 12. podmioty nalezące do strefy euro | D64: =E64+F64+G64 -> 0 | J64: 12. podmioty nalezące do strefy euro | M64: =N64+O64+P64 -> 0
A65: 13. pozostałe podmioty zagraniczne | D65: =E65+F65+G65 -> 0 | J65: 13. pozostałe podmioty zagraniczne | M65: =N65+O65+P65 -> 0
A73: . . . . . . . . . . . . . . . . . . . . . . . . . . . . . . . | E73: . . . . . . . . . . . | H73: . . . . . . . . . . . | K73: . . . . . . . . . . . . . . . . .
A74: Główny księgowy / Skarbnik | E74: telefon | H74: rok m-c dzień | K74: Kierownik jednostki (jednostki obsługującej)/ Przewodniczący Zarządu
A75: * Nie dotyczy sprawozdań zbiorczych sporządzanych przez RIO. W przypadku braku głównego księgowego podpisuje tylko kierownik jednostki.

Sheet 61-samodz.publ.ZOZ państw.
A2: Nazwa jednostki sprawozdawczej | F2: Rb-UZ ROCZNE SPRAWOZDANIE UZUPEŁNIAJĄCE O STANIE ZOBOWIĄZAŃ | U2: =MAXA('20-państw.szk.wyż.:90-agencja wykonawcza'!U1) -> 0
G3: WG TYTUŁÓW DŁUŻNYCH | N3: Adresat:
D4: samodzielnego publicznego zakładu opieki zdrowotnej, dla którego podmiotem tworzącym jest minister, centralny organ administracji rządowej, wojewoda, uczelnia medyczna
A5: Adres jednostki sprawozdawczej
A7: Numer identyfikacyjny REGON | C7: liczba identyfik.jedn.
A8: 320633795 | C8: 0 | F8: wg stanu na koniec | H8: 4 | I8: kwartału | J8: roku | K8: 2022
A9: Nazwa województwa | H9: SYMBOLE
A10: Nazwa powiatu / związku | F10: WOJ. | G10: POWIAT | H10: GMINA | I10: TYP GM. | J10: ZWIĄZEK JST | K10: TYP ZW. | L10: GRUPA | M10: CZĘŚĆ BUDŻ.
A11: Nazwa gminy / związku | L11: 61
A13: A. Struktura walutowa tytułów dłużnych według wartości nominalnej
A15: Wyszczególnienie | C15: W a l u t a
C16: Ogółem (kol. 3+4+5+6+7) | D16: PLN | E16: EUR | F16: USD | G16: CHF | H16: Pozostałe waluty wg średniego kursu NBP | I16: Pozostałe waluty wg średniej arytmetycznej
C17: Ogółem (kol. 3+4+5+6+7) | I17: Pozostałe waluty wg średniej arytmetycznej
A18: 1 | C18: 2 | D18: 3 | E18: 4 | F18: 5 | G18: 6 | H18: 7 | I18: 8
A19: A. Zobowiązania ogółem (A1+A2+A3+A4) | C19: =D19+E19+F19+G19+H19 -> 0 | D19: =SUM(D20:D23) -> 0 | E19: =SUM(E20:E23) -> 0 | F19: =SUM(F20:F23) -> 0 | G19: =SUM(G20:G23) -> 0 | H19: =SUM(H20:H23) -> 0 | I19: =SUM(I20:I23) -> 0
A20: A1. papiery wartościowe | C20: =D20+E20+F20+G20+H20 -> 0
A21: A2. kredyty i pożyczki | C21: =D21+E21+F21+G21+H21 -> 0
A22: A3. przyjęte depozyty | C22: =D22+E22+F22+G22+H22 -> 0
A23: A4. wymagalne zobowiązania | C23: =D23+E23+F23+G23+H23 -> 0
A25: B. Struktura terminowa zobowiązań z tytułu zaciagniętych kredytów i pożyczek oraz wyemitowanych papierów wartościowych
A27: B1. papiery wartościowe wg pierwotnego terminu zapadalności - stan na koniec okresu sprawozdawczego | J27: B2. papiery wartościowe wg pozostałego terminu zapadalności - stan na koniec okresu sprawozdawczego
A28: (wg wartości nominalnej) | J28: (wg wartości nominalnej)
A30: papiery wartościowe | D30: zapadalność w latach | J30: papiery wartościowe | M30: zapadalność w latach
A31: wierzyciele | D31: łącznie (kol. 3+4+5) | E31: ( 0;1> | F31: ( 1;5> | G31: pow. 5 | J31: wierzyciele | M31: łącznie (kol. 3+4+5) | N31: ( 0;1> | O31: ( 1;5> | P31: pow. 5
A32: 1 | D32: 2 | E32: 3 | F32: 4 | G32: 5 | J32: 1 | M32: 2 | N32: 3 | O32: 4 | P32: 5
A33: 1. łącznie (w. 2+3+4+5+6+7+8+9+10+11+12+13) | D33: =SUM(D34:D45) -> 0 | E33: =SUM(E34:E45) -> 0 | F33: =SUM(F34:F45) -> 0 | G33: =SUM(G34:G45) -> 0 | J33: 1. łącznie (w. 2+3+4+5+6+7+8+9+10+11+12+13) | M33: =SUM(M34:M45) -> 0 | N33: =SUM(N34:N45) -> 0 | O33: =SUM(O34:O45) -> 0 | P33: =SUM(P34:P45) -> 0
A34: 2. grupa I | D34: =E34+F34+G34 -> 0 | J34: 2. grupa I | M34: =N34+O34+P34 -> 0
A35: 3. grupa II | D35: =E35+F35+G35 -> 0 | J35: 3. grupa II | M35: =N35+O35+P35 -> 0
A36: 4. grupa III | D36: =E36+F36+G36 -> 0 | J36: 4. grupa III | M36: =N36+O36+P36 -> 0
A37: 5.grupa IV | D37: =E37+F37+G37 -> 0 | J37: 5.grupa IV | M37: =N37+O37+P37 -> 0
A38: 6. bank centralny | D38: =E38+F38+G38 -> 0 | J38: 6. bank centralny | M38: =N38+O38+P38 -> 0
A39: 7. banki | D39: =E39+F39+G39 -> 0 | J39: 7. banki | M39: =N39+O39+P39 -> 0
A40: 8. pozostałe krajowe instytucje finansowe | D40: =E40+F40+G40 -> 0 | J40: 8. pozostałe krajowe instytucje finansowe | M40: =N40+O40+P40 -> 0
A41: 9. przedsiębiorstwa niefinansowe | D41: =E41+F41+G41 -> 0 | J41: 9. przedsiębiorstwa niefinansowe | M41: =N41+O41+P41 -> 0
A42: 10. gospodarstwa domowe | D42: =E42+F42+G42 -> 0 | J42: 10. gospodarstwa domowe | M42: =N42+O42+P42 -> 0
A43: 11. instytucje niekomercyjne działające na rzecz gospodarstw domowych | D43: =E43+F43+G43 -> 0 | J43: 11. instytucje niekomercyjne działające na rzecz gospodarstw domowych | M43: =N43+O43+P43 -> 0
A44: 12. podmioty nalezące do strefy euro | D44: =E44+F44+G44 -> 0 | J44: 12. podmioty nalezące do strefy euro | M44: =N44+O44+P44 -> 0
A45: 13. pozostałe podmioty zagraniczne | D45: =E45+F45+G45 -> 0 | J45: 13. pozostałe podmioty zagraniczne | M45: =N45+O45+P45 -> 0
A47: B3. kredyty i pożyczki wg pierwotnego terminu zapadalności - stan na koniec okresu sprawozdawczego | J47: B4. kredyty i pożyczki wg pozostałego terminu zapadalności - stan na koniec okresu sprawozdawczego
A48: (wg wartości nominalnej) | J48: (wg wartości nominalnej)
A50: kredyty i pożyczki | D50: zapadalność w latach | J50: kredyty i pożyczki | M50: zapadalność w latach
A51: wierzyciele | D51: łącznie (kol. 3+4+5) | E51: ( 0;1> | F51: ( 1;5> | G51: pow. 5 | J51: wierzyciele | M51: łącznie (kol. 3+4+5) | N51: ( 0;1> | O51: ( 1;5> | P51: pow. 5
A52: 1 | D52: 2 | E52: 3 | F52: 4 | G52: 5 | J52: 1 | M52: 2 | N52: 3 | O52: 4 | P52: 5
A53: 1. łącznie (w. 2+3+4+5+6+7+8+9+10+11+12+13) | D53: =SUM(D54:D65) -> 0 | E53: =SUM(E54:E65) -> 0 | F53: =SUM(F54:F65) -> 0 | G53: =SUM(G54:G65) -> 0 | J53: 1. łącznie (w. 2+3+4+5+6+7+8+9+10+11+12+13) | M53: =SUM(M54:M65) -> 0 | N53: =SUM(N54:N65) -> 0 | O53: =SUM(O54:O65) -> 0 | P53: =SUM(P54:P65) -> 0
A54: 2. grupa I | D54: =E54+F54+G54 -> 0 | J54: 2. grupa I | M54: =N54+O54+P54 -> 0
A55: 3. grupa II | D55: =E55+F55+G55 -> 0 | J55: 3. grupa II | M55: =N55+O55+P55 -> 0
A56: 4. grupa III | D56: =E56+F56+G56 -> 0 | J56: 4. grupa III | M56: =N56+O56+P56 -> 0
A57: 5.grupa IV | D57: =E57+F57+G57 -> 0 | J57: 5.grupa IV | M57: =N57+O57+P57 -> 0
A58: 6. bank centralny | D58: =E58+F58+G58 -> 0 | J58: 6. bank centralny | M58: =N58+O58+P58 -> 0
A59: 7. banki | D59: =E59+F59+G59 -> 0 | J59: 7. banki | M59: =N59+O59+P59 -> 0
A60: 8. pozostałe krajowe instytucje finansowe | D60: =E60+F60+G60 -> 0 | J60: 8. pozostałe krajowe instytucje finansowe | M60: =N60+O60+P60 -> 0
A61: 9. przedsiębiorstwa niefinansowe | D61: =E61+F61+G61 -> 0 | J61: 9. przedsiębiorstwa niefinansowe | M61: =N61+O61+P61 -> 0
A62: 10. gospodarstwa domowe | D62: =E62+F62+G62 -> 0 | J62: 10. gospodarstwa domowe | M62: =N62+O62+P62 -> 0
A63: 11. instytucje niekomercyjne działające na rzecz gospodarstw domowych | D63: =E63+F63+G63 -> 0 | J63: 11. instytucje niekomercyjne działające na rzecz gospodarstw domowych | M63: =N63+O63+P63 -> 0
A64: 12. podmioty nalezące do strefy euro | D64: =E64+F64+G64 -> 0 | J64: 12. podmioty nalezące do strefy euro | M64: =N64+O64+P64 -> 0
A65: 13. pozostałe podmioty zagraniczne | D65: =E65+F65+G65 -> 0 | J65: 13. pozostałe podmioty zagraniczne | M65: =N65+O65+P65 -> 0
A73: . . . . . . . . . . . . . . . . . . . . . . . . . . . . . . . | E73: . . . . . . . . . . . | H73: . . . . . . . . . . . | K73: . . . . . . . . . . . . . . . . .
A74: Główny księgowy / Skarbnik | E74: telefon | H74: rok m-c dzień | K74: Kierownik jednostki (jednostki obsługującej)/ Przewodniczący Zarządu
A75: * Nie dotyczy sprawozdań zbiorczych sporządzanych przez RIO. W przypadku braku głównego księgowego podpisuje tylko kierownik jednostki.

Sheet 62-samodz.publ.ZOZ samorz.
A2: Nazwa jednostki sprawozdawczej | F2: Rb-UZ ROCZNE SPRAWOZDANIE UZUPEŁNIAJĄCE O STANIE ZOBOWIĄZAŃ | U2: =MAXA('20-państw.szk.wyż.:90-agencja wykonawcza'!U1) -> 0
G3: WG TYTUŁÓW DŁUŻNYCH | N3: Adresat:
D4: samodzielnego publicznego zakładu opieki zdrowotnej, dla którego podmiotem tworzącym jest jednostka samorządu terytorialnego
A5: Adres jednostki sprawozdawczej
A7: Numer identyfikacyjny REGON | C7: liczba identyfik.jedn.
A8: 320633795 | C8: 0 | F8: wg stanu na koniec | H8: 4 | I8: kwartału | J8: roku | K8: 2022
A9: Nazwa województwa | H9: SYMBOLE
A10: Nazwa powiatu / związku | F10: WOJ. | G10: POWIAT | H10: GMINA | I10: TYP GM. | J10: ZWIĄZEK JST | K10: TYP ZW. | L10: GRUPA | M10: CZĘŚĆ BUDŻ.
A11: Nazwa gminy / związku | L11: 62
A13: A. Struktura walutowa tytułów dłużnych według wartości nominalnej
A15: Wyszczególnienie | C15: W a l u t a
C16: Ogółem (kol. 3+4+5+6+7) | D16: PLN | E16: EUR | F16: USD | G16: CHF | H16: Pozostałe waluty wg średniego kursu NBP | I16: Pozostałe waluty wg średniej arytmetycznej
C17: Ogółem (kol. 3+4+5+6+7) | I17: Pozostałe waluty wg średniej arytmetycznej
A18: 1 | C18: 2 | D18: 3 | E18: 4 | F18: 5 | G18: 6 | H18: 7 | I18: 8
A19: A. Zobowiązania ogółem (A1+A2+A3+A4) | C19: =D19+E19+F19+G19+H19 -> 0 | D19: =SUM(D20:D23) -> 0 | E19: =SUM(E20:E23) -> 0 | F19: =SUM(F20:F23) -> 0 | G19: =SUM(G20:G23) -> 0 | H19: =SUM(H20:H23) -> 0 | I19: =SUM(I20:I23) -> 0
A20: A1. papiery wartościowe | C20: =D20+E20+F20+G20+H20 -> 0
A21: A2. kredyty i pożyczki | C21: =D21+E21+F21+G21+H21 -> 0
A22: A3. przyjęte depozyty | C22: =D22+E22+F22+G22+H22 -> 0
A23: A4. wymagalne zobowiązania | C23: =D23+E23+F23+G23+H23 -> 0
A25: B. Struktura terminowa zobowiązań z tytułu zaciagniętych kredytów i pożyczek oraz wyemitowanych papierów wartościowych
A27: B1. papiery wartościowe wg pierwotnego terminu zapadalności - stan na koniec okresu sprawozdawczego | J27: B2. papiery wartościowe wg pozostałego terminu zapadalności - stan na koniec okresu sprawozdawczego
A28: (wg wartości nominalnej) | J28: (wg wartości nominalnej)
A30: papiery wartościowe | D30: zapadalność w latach | J30: papiery wartościowe | M30: zapadalność w latach
A31: wierzyciele | D31: łącznie (kol. 3+4+5) | E31: ( 0;1> | F31: ( 1;5> | G31: pow. 5 | J31: wierzyciele | M31: łącznie (kol. 3+4+5) | N31: ( 0;1> | O31: ( 1;5> | P31: pow. 5
A32: 1 | D32: 2 | E32: 3 | F32: 4 | G32: 5 | J32: 1 | M32: 2 | N32: 3 | O32: 4 | P32: 5
A33: 1. łącznie (w. 2+3+4+5+6+7+8+9+10+11+12+13) | D33: =SUM(D34:D45) -> 0 | E33: =SUM(E34:E45) -> 0 | F33: =SUM(F34:F45) -> 0 | G33: =SUM(G34:G45) -> 0 | J33: 1. łącznie (w. 2+3+4+5+6+7+8+9+10+11+12+13) | M33: =SUM(M34:M45) -> 0 | N33: =SUM(N34:N45) -> 0 | O33: =SUM(O34:O45) -> 0 | P33: =SUM(P34:P45) -> 0
A34: 2. grupa I | D34: =E34+F34+G34 -> 0 | J34: 2. grupa I | M34: =N34+O34+P34 -> 0
A35: 3. grupa II | D35: =E35+F35+G35 -> 0 | J35: 3. grupa II | M35: =N35+O35+P35 -> 0
A36: 4. grupa III | D36: =E36+F36+G36 -> 0 | J36: 4. grupa III | M36: =N36+O36+P36 -> 0
A37: 5.grupa IV | D37: =E37+F37+G37 -> 0 | J37: 5.grupa IV | M37: =N37+O37+P37 -> 0
A38: 6. bank centralny | D38: =E38+F38+G38 -> 0 | J38: 6. bank centralny | M38: =N38+O38+P38 -> 0
A39: 7. banki | D39: =E39+F39+G39 -> 0 | J39: 7. banki | M39: =N39+O39+P39 -> 0
A40: 8. pozostałe krajowe instytucje finansowe | D40: =E40+F40+G40 -> 0 | J40: 8. pozostałe krajowe instytucje finansowe | M40: =N40+O40+P40 -> 0
A41: 9. przedsiębiorstwa niefinansowe | D41: =E41+F41+G41 -> 0 | J41: 9. przedsiębiorstwa niefinansowe | M41: =N41+O41+P41 -> 0
A42: 10. gospodarstwa domowe | D42: =E42+F42+G42 -> 0 | J42: 10. gospodarstwa domowe | M42: =N42+O42+P42 -> 0
A43: 11. instytucje niekomercyjne działające na rzecz gospodarstw domowych | D43: =E43+F43+G43 -> 0 | J43: 11. instytucje niekomercyjne działające na rzecz gospodarstw domowych | M43: =N43+O43+P43 -> 0
A44: 12. podmioty nalezące do strefy euro | D44: =E44+F44+G44 -> 0 | J44: 12. podmioty nalezące do strefy euro | M44: =N44+O44+P44 -> 0
A45: 13. pozostałe podmioty zagraniczne | D45: =E45+F45+G45 -> 0 | J45: 13. pozostałe podmioty zagraniczne | M45: =N45+O45+P45 -> 0
A47: B3. kredyty i pożyczki wg pierwotnego terminu zapadalności - stan na koniec okresu sprawozdawczego | J47: B4. kredyty i pożyczki wg pozostałego terminu zapadalności - stan na koniec okresu sprawozdawczego
A48: (wg wartości nominalnej) | J48: (wg wartości nominalnej)
A50: kredyty i pożyczki | D50: zapadalność w latach | J50: kredyty i pożyczki | M50: zapadalność w latach
A51: wierzyciele | D51: łącznie (kol. 3+4+5) | E51: ( 0;1> | F51: ( 1;5> | G51: pow. 5 | J51: wierzyciele | M51: łącznie (kol. 3+4+5) | N51: ( 0;1> | O51: ( 1;5> | P51: pow. 5
A52: 1 | D52: 2 | E52: 3 | F52: 4 | G52: 5 | J52: 1 | M52: 2 | N52: 3 | O52: 4 | P52: 5
A53: 1. łącznie (w. 2+3+4+5+6+7+8+9+10+11+12+13) | D53: =SUM(D54:D65) -> 0 | E53: =SUM(E54:E65) -> 0 | F53: =SUM(F54:F65) -> 0 | G53: =SUM(G54:G65) -> 0 | J53: 1. łącznie (w. 2+3+4+5+6+7+8+9+10+11+12+13) | M53: =SUM(M54:M65) -> 0 | N53: =SUM(N54:N65) -> 0 | O53: =SUM(O54:O65) -> 0 | P53: =SUM(P54:P65) -> 0
A54: 2. grupa I | D54: =E54+F54+G54 -> 0 | J54: 2. grupa I | M54: =N54+O54+P54 -> 0
A55: 3. grupa II | D55: =E55+F55+G55 -> 0 | J55: 3. grupa II | M55: =N55+O55+P55 -> 0
A56: 4. grupa III | D56: =E56+F56+G56 -> 0 | J56: 4. grupa III | M56: =N56+O56+P56 -> 0
A57: 5.grupa IV | D57: =E57+F57+G57 -> 0 | J57: 5.grupa IV | M57: =N57+O57+P57 -> 0
A58: 6. bank centralny | D58: =E58+F58+G58 -> 0 | J58: 6. bank centralny | M58: =N58+O58+P58 -> 0
A59: 7. banki | D59: =E59+F59+G59 -> 0 | J59: 7. banki | M59: =N59+O59+P59 -> 0
A60: 8. pozostałe krajowe instytucje finansowe | D60: =E60+F60+G60 -> 0 | J60: 8. pozostałe krajowe instytucje finansowe | M60: =N60+O60+P60 -> 0
A61: 9. przedsiębiorstwa niefinansowe | D61: =E61+F61+G61 -> 0 | J61: 9. przedsiębiorstwa niefinansowe | M61: =N61+O61+P61 -> 0
A62: 10. gospodarstwa domowe | D62: =E62+F62+G62 -> 0 | J62: 10. gospodarstwa domowe | M62: =N62+O62+P62 -> 0
A63: 11. instytucje niekomercyjne działające na rzecz gospodarstw domowych | D63: =E63+F63+G63 -> 0 | J63: 11. instytucje niekomercyjne działające na rzecz gospodarstw domowych | M63: =N63+O63+P63 -> 0
A64: 12. podmioty nalezące do strefy euro | D64: =E64+F64+G64 -> 0 | J64: 12. podmioty nalezące do strefy euro | M64: =N64+O64+P64 -> 0
A65: 13. pozostałe podmioty zagraniczne | D65: =E65+F65+G65 -> 0 | J65: 13. pozostałe podmioty zagraniczne | M65: =N65+O65+P65 -> 0
A73: . . . . . . . . . . . . . . . . . . . . . . . . . . . . . . . | E73: . . . . . . . . . . . | H73: . . . . . . . . . . . | K73: . . . . . . . . . . . . . . . . .
A74: Główny księgowy / Skarbnik | E74: telefon | H74: rok m-c dzień | K74: Kierownik jednostki (jednostki obsługującej)/ Przewodniczący Zarządu
A75: * Nie dotyczy sprawozdań zbiorczych sporządzanych przez RIO. W przypadku braku głównego księgowego podpisuje tylko kierownik jednostki.

Sheet 63-Narodowy Fundusz Zdrowia
A2: Nazwa jednostki sprawozdawczej | F2: Rb-UZ ROCZNE SPRAWOZDANIE UZUPEŁNIAJĄCE O STANIE ZOBOWIĄZAŃ | U2: =MAXA('20-państw.szk.wyż.:90-agencja wykonawcza'!U1) -> 0
G3: WG TYTUŁÓW DŁUŻNYCH | N3: Adresat:
G4: Narodowego Funduszu Zdrowia
A5: Adres jednostki sprawozdawczej
A7: Numer identyfikacyjny REGON | C7: liczba identyfik.jedn.
A8: 320633795 | C8: 0 | F8: wg stanu na koniec | H8: 4 | I8: kwartału | J8: roku | K8: 2022
A9: Nazwa województwa | H9: SYMBOLE
A10: Nazwa powiatu / związku | F10: WOJ. | G10: POWIAT | H10: GMINA | I10: TYP GM. | J10: ZWIĄZEK JST | K10: TYP ZW. | L10: GRUPA | M10: CZĘŚĆ BUDŻ.
A11: Nazwa gminy / związku | L11: 63
A13: A. Struktura walutowa tytułów dłużnych według wartości nominalnej
A15: Wyszczególnienie | C15: W a l u t a
C16: Ogółem (kol. 3+4+5+6+7) | D16: PLN | E16: EUR | F16: USD | G16: CHF | H16: Pozostałe waluty wg średniego kursu NBP | I16: Pozostałe waluty wg średniej arytmetycznej
C17: Ogółem (kol. 3+4+5+6+7) | I17: Pozostałe waluty wg średniej arytmetycznej
A18: 1 | C18: 2 | D18: 3 | E18: 4 | F18: 5 | G18: 6 | H18: 7 | I18: 8
A19: A. Zobowiązania ogółem (A1+A2+A3+A4) | C19: =D19+E19+F19+G19+H19 -> 0 | D19: =SUM(D20:D23) -> 0 | E19: =SUM(E20:E23) -> 0 | F19: =SUM(F20:F23) -> 0 | G19: =SUM(G20:G23) -> 0 | H19: =SUM(H20:H23) -> 0 | I19: =SUM(I20:I23) -> 0
A20: A1. papiery wartościowe | C20: =D20+E20+F20+G20+H20 -> 0
A21: A2. kredyty i pożyczki | C21: =D21+E21+F21+G21+H21 -> 0
A22: A3. przyjęte depozyty | C22: =D22+E22+F22+G22+H22 -> 0
A23: A4. wymagalne zobowiązania | C23: =D23+E23+F23+G23+H23 -> 0
A25: B. Struktura terminowa zobowiązań z tytułu zaciagniętych kredytów i pożyczek oraz wyemitowanych papierów wartościowych
A27: B1. papiery wartościowe wg pierwotnego terminu zapadalności - stan na koniec okresu sprawozdawczego | J27: B2. papiery wartościowe wg pozostałego terminu zapadalności - stan na koniec okresu sprawozdawczego
A28: (wg wartości nominalnej) | J28: (wg wartości nominalnej)
A30: papiery wartościowe | D30: zapadalność w latach | J30: papiery wartościowe | M30: zapadalność w latach
A31: wierzyciele | D31: łącznie (kol. 3+4+5) | E31: ( 0;1> | F31: ( 1;5> | G31: pow. 5 | J31: wierzyciele | M31: łącznie (kol. 3+4+5) | N31: ( 0;1> | O31: ( 1;5> | P31: pow. 5
A32: 1 | D32: 2 | E32: 3 | F32: 4 | G32: 5 | J32: 1 | M32: 2 | N32: 3 | O32: 4 | P32: 5
A33: 1. łącznie (w. 2+3+4+5+6+7+8+9+10+11+12+13) | D33: =SUM(D34:D45) -> 0 | E33: =SUM(E34:E45) -> 0 | F33: =SUM(F34:F45) -> 0 | G33: =SUM(G34:G45) -> 0 | J33: 1. łącznie (w. 2+3+4+5+6+7+8+9+10+11+12+13) | M33: =SUM(M34:M45) -> 0 | N33: =SUM(N34:N45) -> 0 | O33: =SUM(O34:O45) -> 0 | P33: =SUM(P34:P45) -> 0
A34: 2. grupa I | D34: =E34+F34+G34 -> 0 | J34: 2. grupa I | M34: =N34+O34+P34 -> 0
A35: 3. grupa II | D35: =E35+F35+G35 -> 0 | J35: 3. grupa II | M35: =N35+O35+P35 -> 0
A36: 4. grupa III | D36: =E36+F36+G36 -> 0 | J36: 4. grupa III | M36: =N36+O36+P36 -> 0
A37: 5.grupa IV | D37: =E37+F37+G37 -> 0 | J37: 5.grupa IV | M37: =N37+O37+P37 -> 0
A38: 6. bank centralny | D38: =E38+F38+G38 -> 0 | J38: 6. bank centralny | M38: =N38+O38+P38 -> 0
A39: 7. banki | D39: =E39+F39+G39 -> 0 | J39: 7. banki | M39: =N39+O39+P39 -> 0
A40: 8. pozostałe krajowe instytucje finansowe | D40: =E40+F40+G40 -> 0 | J40: 8. pozostałe krajowe instytucje finansowe | M40: =N40+O40+P40 -> 0
A41: 9. przedsiębiorstwa niefinansowe | D41: =E41+F41+G41 -> 0 | J41: 9. przedsiębiorstwa niefinansowe | M41: =N41+O41+P41 -> 0
A42: 10. gospodarstwa domowe | D42: =E42+F42+G42 -> 0 | J42: 10. gospodarstwa domowe | M42: =N42+O42+P42 -> 0
A43: 11. instytucje niekomercyjne działające na rzecz gospodarstw domowych | D43: =E43+F43+G43 -> 0 | J43: 11. instytucje niekomercyjne działające na rzecz gospodarstw domowych | M43: =N43+O43+P43 -> 0
A44: 12. podmioty nalezące do strefy euro | D44: =E44+F44+G44 -> 0 | J44: 12. podmioty nalezące do strefy euro | M44: =N44+O44+P44 -> 0
A45: 13. pozostałe podmioty zagraniczne | D45: =E45+F45+G45 -> 0 | J45: 13. pozostałe podmioty zagraniczne | M45: =N45+O45+P45 -> 0
A47: B3. kredyty i pożyczki wg pierwotnego terminu zapadalności - stan na koniec okresu sprawozdawczego | J47: B4. kredyty i pożyczki wg pozostałego terminu zapadalności - stan na koniec okresu sprawozdawczego
A48: (wg wartości nominalnej) | J48: (wg wartości nominalnej)
A50: kredyty i pożyczki | D50: zapadalność w latach | J50: kredyty i pożyczki | M50: zapadalność w latach
A51: wierzyciele | D51: łącznie (kol. 3+4+5) | E51: ( 0;1> | F51: ( 1;5> | G51: pow. 5 | J51: wierzyciele | M51: łącznie (kol. 3+4+5) | N51: ( 0;1> | O51: ( 1;5> | P51: pow. 5
A52: 1 | D52: 2 | E52: 3 | F52: 4 | G52: 5 | J52: 1 | M52: 2 | N52: 3 | O52: 4 | P52: 5
A53: 1. łącznie (w. 2+3+4+5+6+7+8+9+10+11+12+13) | D53: =SUM(D54:D65) -> 0 | E53: =SUM(E54:E65) -> 0 | F53: =SUM(F54:F65) -> 0 | G53: =SUM(G54:G65) -> 0 | J53: 1. łącznie (w. 2+3+4+5+6+7+8+9+10+11+12+13) | M53: =SUM(M54:M65) -> 0 | N53: =SUM(N54:N65) -> 0 | O53: =SUM(O54:O65) -> 0 | P53: =SUM(P54:P65) -> 0
A54: 2. grupa I | D54: =E54+F54+G54 -> 0 | J54: 2. grupa I | M54: =N54+O54+P54 -> 0
A55: 3. grupa II | D55: =E55+F55+G55 -> 0 | J55: 3. grupa II | M55: =N55+O55+P55 -> 0
A56: 4. grupa III | D56: =E56+F56+G56 -> 0 | J56: 4. grupa III | M56: =N56+O56+P56 -> 0
A57: 5.grupa IV | D57: =E57+F57+G57 -> 0 | J57: 5.grupa IV | M57: =N57+O57+P57 -> 0
A58: 6. bank centralny | D58: =E58+F58+G58 -> 0 | J58: 6. bank centralny | M58: =N58+O58+P58 -> 0
A59: 7. banki | D59: =E59+F59+G59 -> 0 | J59: 7. banki | M59: =N59+O59+P59 -> 0
A60: 8. pozostałe krajowe instytucje finansowe | D60: =E60+F60+G60 -> 0 | J60: 8. pozostałe krajowe instytucje finansowe | M60: =N60+O60+P60 -> 0
A61: 9. przedsiębiorstwa niefinansowe | D61: =E61+F61+G61 -> 0 | J61: 9. przedsiębiorstwa niefinansowe | M61: =N61+O61+P61 -> 0
A62: 10. gospodarstwa domowe | D62: =E62+F62+G62 -> 0 | J62: 10. gospodarstwa domowe | M62: =N62+O62+P62 -> 0
A63: 11. instytucje niekomercyjne działające na rzecz gospodarstw domowych | D63: =E63+F63+G63 -> 0 | J63: 11. instytucje niekomercyjne działające na rzecz gospodarstw domowych | M63: =N63+O63+P63 -> 0
A64: 12. podmioty nalezące do strefy euro | D64: =E64+F64+G64 -> 0 | J64: 12. podmioty nalezące do strefy euro | M64: =N64+O64+P64 -> 0
A65: 13. pozostałe podmioty zagraniczne | D65: =E65+F65+G65 -> 0 | J65: 13. pozostałe podmioty zagraniczne | M65: =N65+O65+P65 -> 0
A73: . . . . . . . . . . . . . . . . . . . . . . . . . . . . . . . | E73: . . . . . . . . . . . | H73: . . . . . . . . . . . | K73: . . . . . . . . . . . . . . . . .
A74: Główny księgowy / Skarbnik | E74: telefon | H74: rok m-c dzień | K74: Kierownik jednostki (jednostki obsługującej)/ Przewodniczący Zarządu
A75: * Nie dotyczy sprawozdań zbiorczych sporządzanych przez RIO. W przypadku braku głównego księgowego podpisuje tylko kierownik jednostki.

Sheet 71-ZUS
A2: Nazwa jednostki sprawozdawczej | F2: Rb-UZ ROCZNE SPRAWOZDANIE UZUPEŁNIAJĄCE O STANIE ZOBOWIĄZAŃ | U2: =MAXA('20-państw.szk.wyż.:90-agencja wykonawcza'!U1) -> 0
G3: WG TYTUŁÓW DŁUŻNYCH | N3: Adresat:
G4: ZUS
A5: Adres jednostki sprawozdawczej
A7: Numer identyfikacyjny REGON | C7: liczba identyfik.jedn.
A8: 320633795 | C8: 0 | F8: wg stanu na koniec | H8: 4 | I8: kwartału | J8: roku | K8: 2022
A9: Nazwa województwa | H9: SYMBOLE
A10: Nazwa powiatu / związku | F10: WOJ. | G10: POWIAT | H10: GMINA | I10: TYP GM. | J10: ZWIĄZEK JST | K10: TYP ZW. | L10: GRUPA | M10: CZĘŚĆ BUDŻ.
A11: Nazwa gminy / związku | L11: 71
A13: A. Struktura walutowa tytułów dłużnych według wartości nominalnej
A15: Wyszczególnienie | C15: W a l u t a
C16: Ogółem (kol. 3+4+5+6+7) | D16: PLN | E16: EUR | F16: USD | G16: CHF | H16: Pozostałe waluty wg średniego kursu NBP | I16: Pozostałe waluty wg średniej arytmetycznej
C17: Ogółem (kol. 3+4+5+6+7) | I17: Pozostałe waluty wg średniej arytmetycznej
A18: 1 | C18: 2 | D18: 3 | E18: 4 | F18: 5 | G18: 6 | H18: 7 | I18: 8
A19: A. Zobowiązania ogółem (A1+A2+A3+A4) | C19: =D19+E19+F19+G19+H19 -> 0 | D19: =SUM(D20:D23) -> 0 | E19: =SUM(E20:E23) -> 0 | F19: =SUM(F20:F23) -> 0 | G19: =SUM(G20:G23) -> 0 | H19: =SUM(H20:H23) -> 0 | I19: =SUM(I20:I23) -> 0
A20: A1. papiery wartościowe | C20: =D20+E20+F20+G20+H20 -> 0
A21: A2. kredyty i pożyczki | C21: =D21+E21+F21+G21+H21 -> 0
A22: A3. przyjęte depozyty | C22: =D22+E22+F22+G22+H22 -> 0
A23: A4. wymagalne zobowiązania | C23: =D23+E23+F23+G23+H23 -> 0
A25: B. Struktura terminowa zobowiązań z tytułu zaciagniętych kredytów i pożyczek oraz wyemitowanych papierów wartościowych
A27: B1. papiery wartościowe wg pierwotnego terminu zapadalności - stan na koniec okresu sprawozdawczego | J27: B2. papiery wartościowe wg pozostałego terminu zapadalności - stan na koniec okresu sprawozdawczego
A28: (wg wartości nominalnej) | J28: (wg wartości nominalnej)
A30: papiery wartościowe | D30: zapadalność w latach | J30: papiery wartościowe | M30: zapadalność w latach
A31: wierzyciele | D31: łącznie (kol. 3+4+5) | E31: ( 0;1> | F31: ( 1;5> | G31: pow. 5 | J31: wierzyciele | M31: łącznie (kol. 3+4+5) | N31: ( 0;1> | O31: ( 1;5> | P31: pow. 5
A32: 1 | D32: 2 | E32: 3 | F32: 4 | G32: 5 | J32: 1 | M32: 2 | N32: 3 | O32: 4 | P32: 5
A33: 1. łącznie (w. 2+3+4+5+6+7+8+9+10+11+12+13) | D33: =SUM(D34:D45) -> 0 | E33: =SUM(E34:E45) -> 0 | F33: =SUM(F34:F45) -> 0 | G33: =SUM(G34:G45) -> 0 | J33: 1. łącznie (w. 2+3+4+5+6+7+8+9+10+11+12+13) | M33: =SUM(M34:M45) -> 0 | N33: =SUM(N34:N45) -> 0 | O33: =SUM(O34:O45) -> 0 | P33: =SUM(P34:P45) -> 0
A34: 2. grupa I | D34: =E34+F34+G34 -> 0 | J34: 2. grupa I | M34: =N34+O34+P34 -> 0
A35: 3. grupa II | D35: =E35+F35+G35 -> 0 | J35: 3. grupa II | M35: =N35+O35+P35 -> 0
A36: 4. grupa III | D36: =E36+F36+G36 -> 0 | J36: 4. grupa III | M36: =N36+O36+P36 -> 0
A37: 5.grupa IV | D37: =E37+F37+G37 -> 0 | J37: 5.grupa IV | M37: =N37+O37+P37 -> 0
A38: 6. bank centralny | D38: =E38+F38+G38 -> 0 | J38: 6. bank centralny | M38: =N38+O38+P38 -> 0
A39: 7. banki | D39: =E39+F39+G39 -> 0 | J39: 7. banki | M39: =N39+O39+P39 -> 0
A40: 8. pozostałe krajowe instytucje finansowe | D40: =E40+F40+G40 -> 0 | J40: 8. pozostałe krajowe instytucje finansowe | M40: =N40+O40+P40 -> 0
A41: 9. przedsiębiorstwa niefinansowe | D41: =E41+F41+G41 -> 0 | J41: 9. przedsiębiorstwa niefinansowe | M41: =N41+O41+P41 -> 0
A42: 10. gospodarstwa domowe | D42: =E42+F42+G42 -> 0 | J42: 10. gospodarstwa domowe | M42: =N42+O42+P42 -> 0
A43: 11. instytucje niekomercyjne działające na rzecz gospodarstw domowych | D43: =E43+F43+G43 -> 0 | J43: 11. instytucje niekomercyjne działające na rzecz gospodarstw domowych | M43: =N43+O43+P43 -> 0
A44: 12. podmioty nalezące do strefy euro | D44: =E44+F44+G44 -> 0 | J44: 12. podmioty nalezące do strefy euro | M44: =N44+O44+P44 -> 0
A45: 13. pozostałe podmioty zagraniczne | D45: =E45+F45+G45 -> 0 | J45: 13. pozostałe podmioty zagraniczne | M45: =N45+O45+P45 -> 0
A47: B3. kredyty i pożyczki wg pierwotnego terminu zapadalności - stan na koniec okresu sprawozdawczego | J47: B4. kredyty i pożyczki wg pozostałego terminu zapadalności - stan na koniec okresu sprawozdawczego
A48: (wg wartości nominalnej) | J48: (wg wartości nominalnej)
A50: kredyty i pożyczki | D50: zapadalność w latach | J50: kredyty i pożyczki | M50: zapadalność w latach
A51: wierzyciele | D51: łącznie (kol. 3+4+5) | E51: ( 0;1> | F51: ( 1;5> | G51: pow. 5 | J51: wierzyciele | M51: łącznie (kol. 3+4+5) | N51: ( 0;1> | O51: ( 1;5> | P51: pow. 5
A52: 1 | D52: 2 | E52: 3 | F52: 4 | G52: 5 | J52: 1 | M52: 2 | N52: 3 | O52: 4 | P52: 5
A53: 1. łącznie (w. 2+3+4+5+6+7+8+9+10+11+12+13) | D53: =SUM(D54:D65) -> 0 | E53: =SUM(E54:E65) -> 0 | F53: =SUM(F54:F65) -> 0 | G53: =SUM(G54:G65) -> 0 | J53: 1. łącznie (w. 2+3+4+5+6+7+8+9+10+11+12+13) | M53: =SUM(M54:M65) -> 0 | N53: =SUM(N54:N65) -> 0 | O53: =SUM(O54:O65) -> 0 | P53: =SUM(P54:P65) -> 0
A54: 2. grupa I | D54: =E54+F54+G54 -> 0 | J54: 2. grupa I | M54: =N54+O54+P54 -> 0
A55: 3. grupa II | D55: =E55+F55+G55 -> 0 | J55: 3. grupa II | M55: =N55+O55+P55 -> 0
A56: 4. grupa III | D56: =E56+F56+G56 -> 0 | J56: 4. grupa III | M56: =N56+O56+P56 -> 0
A57: 5.grupa IV | D57: =E57+F57+G57 -> 0 | J57: 5.grupa IV | M57: =N57+O57+P57 -> 0
A58: 6. bank centralny | D58: =E58+F58+G58 -> 0 | J58: 6. bank centralny | M58: =N58+O58+P58 -> 0
A59: 7. banki | D59: =E59+F59+G59 -> 0 | J59: 7. banki | M59: =N59+O59+P59 -> 0
A60: 8. pozostałe krajowe instytucje finansowe | D60: =E60+F60+G60 -> 0 | J60: 8. pozostałe krajowe instytucje finansowe | M60: =N60+O60+P60 -> 0
A61: 9. przedsiębiorstwa niefinansowe | D61: =E61+F61+G61 -> 0 | J61: 9. przedsiębiorstwa niefinansowe | M61: =N61+O61+P61 -> 0
A62: 10. gospodarstwa domowe | D62: =E62+F62+G62 -> 0 | J62: 10. gospodarstwa domowe | M62: =N62+O62+P62 -> 0
A63: 11. instytucje niekomercyjne działające na rzecz gospodarstw domowych | D63: =E63+F63+G63 -> 0 | J63: 11. instytucje niekomercyjne działające na rzecz gospodarstw domowych | M63: =N63+O63+P63 -> 0
A64: 12. podmioty nalezące do strefy euro | D64: =E64+F64+G64 -> 0 | J64: 12. podmioty nalezące do strefy euro | M64: =N64+O64+P64 -> 0
A65: 13. pozostałe podmioty zagraniczne | D65: =E65+F65+G65 -> 0 | J65: 13. pozostałe podmioty zagraniczne | M65: =N65+O65+P65 -> 0
A73: . . . . . . . . . . . . . . . . . . . . . . . . . . . . . . . | E73: . . . . . . . . . . . | H73: . . . . . . . . . . . | K73: . . . . . . . . . . . . . . . . .
A74: Główny księgowy / Skarbnik | E74: telefon | H74: rok m-c dzień | K74: Kierownik jednostki (jednostki obsługującej)/ Przewodniczący Zarządu
A75: * Nie dotyczy sprawozdań zbiorczych sporządzanych przez RIO. W przypadku braku głównego księgowego podpisuje tylko kierownik jednostki.

Sheet 72-fund.zarz.przez ZUS
A2: Nazwa jednostki sprawozdawczej | F2: Rb-UZ ROCZNE SPRAWOZDANIE UZUPEŁNIAJĄCE O STANIE ZOBOWIĄZAŃ | U2: =MAXA('20-państw.szk.wyż.:90-agencja wykonawcza'!U1) -> 0
G3: WG TYTUŁÓW DŁUŻNYCH | N3: Adresat:
G4: funduszy zarządzanych przez ZUS
A5: Adres jednostki sprawozdawczej
A7: Numer identyfikacyjny REGON | C7: liczba identyfik.jedn.
A8: 320633795 | C8: 0 | F8: wg stanu na koniec | H8: 4 | I8: kwartału | J8: roku | K8: 2022
A9: Nazwa województwa | H9: SYMBOLE
A10: Nazwa powiatu / związku | F10: WOJ. | G10: POWIAT | H10: GMINA | I10: TYP GM. | J10: ZWIĄZEK JST | K10: TYP ZW. | L10: GRUPA | M10: CZĘŚĆ BUDŻ.
A11: Nazwa gminy / związku | L11: 72
A13: A. Struktura walutowa tytułów dłużnych według wartości nominalnej
A15: Wyszczególnienie | C15: W a l u t a
C16: Ogółem (kol. 3+4+5+6+7) | D16: PLN | E16: EUR | F16: USD | G16: CHF | H16: Pozostałe waluty wg średniego kursu NBP | I16: Pozostałe waluty wg średniej arytmetycznej
C17: Ogółem (kol. 3+4+5+6+7) | I17: Pozostałe waluty wg średniej arytmetycznej
A18: 1 | C18: 2 | D18: 3 | E18: 4 | F18: 5 | G18: 6 | H18: 7 | I18: 8
A19: A. Zobowiązania ogółem (A1+A2+A3+A4) | C19: =D19+E19+F19+G19+H19 -> 0 | D19: =SUM(D20:D23) -> 0 | E19: =SUM(E20:E23) -> 0 | F19: =SUM(F20:F23) -> 0 | G19: =SUM(G20:G23) -> 0 | H19: =SUM(H20:H23) -> 0 | I19: =SUM(I20:I23) -> 0
A20: A1. papiery wartościowe | C20: =D20+E20+F20+G20+H20 -> 0
A21: A2. kredyty i pożyczki | C21: =D21+E21+F21+G21+H21 -> 0
A22: A3. przyjęte depozyty | C22: =D22+E22+F22+G22+H22 -> 0
A23: A4. wymagalne zobowiązania | C23: =D23+E23+F23+G23+H23 -> 0
A25: B. Struktura terminowa zobowiązań z tytułu zaciagniętych kredytów i pożyczek oraz wyemitowanych papierów wartościowych
A27: B1. papiery wartościowe wg pierwotnego terminu zapadalności - stan na koniec okresu sprawozdawczego | J27: B2. papiery wartościowe wg pozostałego terminu zapadalności - stan na koniec okresu sprawozdawczego
A28: (wg wartości nominalnej) | J28: (wg wartości nominalnej)
A30: papiery wartościowe | D30: zapadalność w latach | J30: papiery wartościowe | M30: zapadalność w latach
A31: wierzyciele | D31: łącznie (kol. 3+4+5) | E31: ( 0;1> | F31: ( 1;5> | G31: pow. 5 | J31: wierzyciele | M31: łącznie (kol. 3+4+5) | N31: ( 0;1> | O31: ( 1;5> | P31: pow. 5
A32: 1 | D32: 2 | E32: 3 | F32: 4 | G32: 5 | J32: 1 | M32: 2 | N32: 3 | O32: 4 | P32: 5
A33: 1. łącznie (w. 2+3+4+5+6+7+8+9+10+11+12+13) | D33: =SUM(D34:D45) -> 0 | E33: =SUM(E34:E45) -> 0 | F33: =SUM(F34:F45) -> 0 | G33: =SUM(G34:G45) -> 0 | J33: 1. łącznie (w. 2+3+4+5+6+7+8+9+10+11+12+13) | M33: =SUM(M34:M45) -> 0 | N33: =SUM(N34:N45) -> 0 | O33: =SUM(O34:O45) -> 0 | P33: =SUM(P34:P45) -> 0
A34: 2. grupa I | D34: =E34+F34+G34 -> 0 | J34: 2. grupa I | M34: =N34+O34+P34 -> 0
A35: 3. grupa II | D35: =E35+F35+G35 -> 0 | J35: 3. grupa II | M35: =N35+O35+P35 -> 0
A36: 4. grupa III | D36: =E36+F36+G36 -> 0 | J36: 4. grupa III | M36: =N36+O36+P36 -> 0
A37: 5.grupa IV | D37: =E37+F37+G37 -> 0 | J37: 5.grupa IV | M37: =N37+O37+P37 -> 0
A38: 6. bank centralny | D38: =E38+F38+G38 -> 0 | J38: 6. bank centralny | M38: =N38+O38+P38 -> 0
A39: 7. banki | D39: =E39+F39+G39 -> 0 | J39: 7. banki | M39: =N39+O39+P39 -> 0
A40: 8. pozostałe krajowe instytucje finansowe | D40: =E40+F40+G40 -> 0 | J40: 8. pozostałe krajowe instytucje finansowe | M40: =N40+O40+P40 -> 0
A41: 9. przedsiębiorstwa niefinansowe | D41: =E41+F41+G41 -> 0 | J41: 9. przedsiębiorstwa niefinansowe | M41: =N41+O41+P41 -> 0
A42: 10. gospodarstwa domowe | D42: =E42+F42+G42 -> 0 | J42: 10. gospodarstwa domowe | M42: =N42+O42+P42 -> 0
A43: 11. instytucje niekomercyjne działające na rzecz gospodarstw domowych | D43: =E43+F43+G43 -> 0 | J43: 11. instytucje niekomercyjne działające na rzecz gospodarstw domowych | M43: =N43+O43+P43 -> 0
A44: 12. podmioty nalezące do strefy euro | D44: =E44+F44+G44 -> 0 | J44: 12. podmioty nalezące do strefy euro | M44: =N44+O44+P44 -> 0
A45: 13. pozostałe podmioty zagraniczne | D45: =E45+F45+G45 -> 0 | J45: 13. pozostałe podmioty zagraniczne | M45: =N45+O45+P45 -> 0
A47: B3. kredyty i pożyczki wg pierwotnego terminu zapadalności - stan na koniec okresu sprawozdawczego | J47: B4. kredyty i pożyczki wg pozostałego terminu zapadalności - stan na koniec okresu sprawozdawczego
A48: (wg wartości nominalnej) | J48: (wg wartości nominalnej)
A50: kredyty i pożyczki | D50: zapadalność w latach | J50: kredyty i pożyczki | M50: zapadalność w latach
A51: wierzyciele | D51: łącznie (kol. 3+4+5) | E51: ( 0;1> | F51: ( 1;5> | G51: pow. 5 | J51: wierzyciele | M51: łącznie (kol. 3+4+5) | N51: ( 0;1> | O51: ( 1;5> | P51: pow. 5
A52: 1 | D52: 2 | E52: 3 | F52: 4 | G52: 5 | J52: 1 | M52: 2 | N52: 3 | O52: 4 | P52: 5
A53: 1. łącznie (w. 2+3+4+5+6+7+8+9+10+11+12+13) | D53: =SUM(D54:D65) -> 0 | E53: =SUM(E54:E65) -> 0 | F53: =SUM(F54:F65) -> 0 | G53: =SUM(G54:G65) -> 0 | J53: 1. łącznie (w. 2+3+4+5+6+7+8+9+10+11+12+13) | M53: =SUM(M54:M65) -> 0 | N53: =SUM(N54:N65) -> 0 | O53: =SUM(O54:O65) -> 0 | P53: =SUM(P54:P65) -> 0
A54: 2. grupa I | D54: =E54+F54+G54 -> 0 | J54: 2. grupa I | M54: =N54+O54+P54 -> 0
A55: 3. grupa II | D55: =E55+F55+G55 -> 0 | J55: 3. grupa II | M55: =N55+O55+P55 -> 0
A56: 4. grupa III | D56: =E56+F56+G56 -> 0 | J56: 4. grupa III | M56: =N56+O56+P56 -> 0
A57: 5.grupa IV | D57: =E57+F57+G57 -> 0 | J57: 5.grupa IV | M57: =N57+O57+P57 -> 0
A58: 6. bank centralny | D58: =E58+F58+G58 -> 0 | J58: 6. bank centralny | M58: =N58+O58+P58 -> 0
A59: 7. banki | D59: =E59+F59+G59 -> 0 | J59: 7. banki | M59: =N59+O59+P59 -> 0
A60: 8. pozostałe krajowe instytucje finansowe | D60: =E60+F60+G60 -> 0 | J60: 8. pozostałe krajowe instytucje finansowe | M60: =N60+O60+P60 -> 0
A61: 9. przedsiębiorstwa niefinansowe | D61: =E61+F61+G61 -> 0 | J61: 9. przedsiębiorstwa niefinansowe | M61: =N61+O61+P61 -> 0
A62: 10. gospodarstwa domowe | D62: =E62+F62+G62 -> 0 | J62: 10. gospodarstwa domowe | M62: =N62+O62+P62 -> 0
A63: 11. instytucje niekomercyjne działające na rzecz gospodarstw domowych | D63: =E63+F63+G63 -> 0 | J63: 11. instytucje niekomercyjne działające na rzecz gospodarstw domowych | M63: =N63+O63+P63 -> 0
A64: 12. podmioty nalezące do strefy euro | D64: =E64+F64+G64 -> 0 | J64: 12. podmioty nalezące do strefy euro | M64: =N64+O64+P64 -> 0
A65: 13. pozostałe podmioty zagraniczne | D65: =E65+F65+G65 -> 0 | J65: 13. pozostałe podmioty zagraniczne | M65: =N65+O65+P65 -> 0
A73: . . . . . . . . . . . . . . . . . . . . . . . . . . . . . . . | E73: . . . . . . . . . . . | H73: . . . . . . . . . . . | K73: . . . . . . . . . . . . . . . . .
A74: Główny księgowy / Skarbnik | E74: telefon | H74: rok m-c dzień | K74: Kierownik jednostki (jednostki obsługującej)/ Przewodniczący Zarządu
A75: * Nie dotyczy sprawozdań zbiorczych sporządzanych przez RIO. W przypadku braku głównego księgowego podpisuje tylko kierownik jednostki.

Sheet 73-KRUS
A2: Nazwa jednostki sprawozdawczej | F2: Rb-UZ ROCZNE SPRAWOZDANIE UZUPEŁNIAJĄCE O STANIE ZOBOWIĄZAŃ | U2: =MAXA('20-państw.szk.wyż.:90-agencja wykonawcza'!U1) -> 0
G3: WG TYTUŁÓW DŁUŻNYCH | N3: Adresat:
G4: KRUS oraz funduszy zarządzanych przez Prezesa KRUS
A5: Adres jednostki sprawozdawczej
A7: Numer identyfikacyjny REGON | C7: liczba identyfik.jedn.
A8: 320633795 | C8: 0 | F8: wg stanu na koniec | H8: 4 | I8: kwartału | J8: roku | K8: 2022
A9: Nazwa województwa | H9: SYMBOLE
A10: Nazwa powiatu / związku | F10: WOJ. | G10: POWIAT | H10: GMINA | I10: TYP GM. | J10: ZWIĄZEK JST | K10: TYP ZW. | L10: GRUPA | M10: CZĘŚĆ BUDŻ.
A11: Nazwa gminy / związku | L11: 73
A13: A. Struktura walutowa tytułów dłużnych według wartości nominalnej
A15: Wyszczególnienie | C15: W a l u t a
C16: Ogółem (kol. 3+4+5+6+7) | D16: PLN | E16: EUR | F16: USD | G16: CHF | H16: Pozostałe waluty wg średniego kursu NBP | I16: Pozostałe waluty wg średniej arytmetycznej
C17: Ogółem (kol. 3+4+5+6+7) | I17: Pozostałe waluty wg średniej arytmetycznej
A18: 1 | C18: 2 | D18: 3 | E18: 4 | F18: 5 | G18: 6 | H18: 7 | I18: 8
A19: A. Zobowiązania ogółem (A1+A2+A3+A4) | C19: =D19+E19+F19+G19+H19 -> 0 | D19: =SUM(D20:D23) -> 0 | E19: =SUM(E20:E23) -> 0 | F19: =SUM(F20:F23) -> 0 | G19: =SUM(G20:G23) -> 0 | H19: =SUM(H20:H23) -> 0 | I19: =SUM(I20:I23) -> 0
A20: A1. papiery wartościowe | C20: =D20+E20+F20+G20+H20 -> 0
A21: A2. kredyty i pożyczki | C21: =D21+E21+F21+G21+H21 -> 0
A22: A3. przyjęte depozyty | C22: =D22+E22+F22+G22+H22 -> 0
A23: A4. wymagalne zobowiązania | C23: =D23+E23+F23+G23+H23 -> 0
A25: B. Struktura terminowa zobowiązań z tytułu zaciagniętych kredytów i pożyczek oraz wyemitowanych papierów wartościowych
A27: B1. papiery wartościowe wg pierwotnego terminu zapadalności - stan na koniec okresu sprawozdawczego | J27: B2. papiery wartościowe wg pozostałego terminu zapadalności - stan na koniec okresu sprawozdawczego
A28: (wg wartości nominalnej) | J28: (wg wartości nominalnej)
A30: papiery wartościowe | D30: zapadalność w latach | J30: papiery wartościowe | M30: zapadalność w latach
A31: wierzyciele | D31: łącznie (kol. 3+4+5) | E31: ( 0;1> | F31: ( 1;5> | G31: pow. 5 | J31: wierzyciele | M31: łącznie (kol. 3+4+5) | N31: ( 0;1> | O31: ( 1;5> | P31: pow. 5
A32: 1 | D32: 2 | E32: 3 | F32: 4 | G32: 5 | J32: 1 | M32: 2 | N32: 3 | O32: 4 | P32: 5
A33: 1. łącznie (w. 2+3+4+5+6+7+8+9+10+11+12+13) | D33: =SUM(D34:D45) -> 0 | E33: =SUM(E34:E45) -> 0 | F33: =SUM(F34:F45) -> 0 | G33: =SUM(G34:G45) -> 0 | J33: 1. łącznie (w. 2+3+4+5+6+7+8+9+10+11+12+13) | M33: =SUM(M34:M45) -> 0 | N33: =SUM(N34:N45) -> 0 | O33: =SUM(O34:O45) -> 0 | P33: =SUM(P34:P45) -> 0
A34: 2. grupa I | D34: =E34+F34+G34 -> 0 | J34: 2. grupa I | M34: =N34+O34+P34 -> 0
A35: 3. grupa II | D35: =E35+F35+G35 -> 0 | J35: 3. grupa II | M35: =N35+O35+P35 -> 0
A36: 4. grupa III | D36: =E36+F36+G36 -> 0 | J36: 4. grupa III | M36: =N36+O36+P36 -> 0
A37: 5.grupa IV | D37: =E37+F37+G37 -> 0 | J37: 5.grupa IV | M37: =N37+O37+P37 -> 0
A38: 6. bank centralny | D38: =E38+F38+G38 -> 0 | J38: 6. bank centralny | M38: =N38+O38+P38 -> 0
A39: 7. banki | D39: =E39+F39+G39 -> 0 | J39: 7. banki | M39: =N39+O39+P39 -> 0
A40: 8. pozostałe krajowe instytucje finansowe | D40: =E40+F40+G40 -> 0 | J40: 8. pozostałe krajowe instytucje finansowe | M40: =N40+O40+P40 -> 0
A41: 9. przedsiębiorstwa niefinansowe | D41: =E41+F41+G41 -> 0 | J41: 9. przedsiębiorstwa niefinansowe | M41: =N41+O41+P41 -> 0
A42: 10. gospodarstwa domowe | D42: =E42+F42+G42 -> 0 | J42: 10. gospodarstwa domowe | M42: =N42+O42+P42 -> 0
A43: 11. instytucje niekomercyjne działające na rzecz gospodarstw domowych | D43: =E43+F43+G43 -> 0 | J43: 11. instytucje niekomercyjne działające na rzecz gospodarstw domowych | M43: =N43+O43+P43 -> 0
A44: 12. podmioty nalezące do strefy euro | D44: =E44+F44+G44 -> 0 | J44: 12. podmioty nalezące do strefy euro | M44: =N44+O44+P44 -> 0
A45: 13. pozostałe podmioty zagraniczne | D45: =E45+F45+G45 -> 0 | J45: 13. pozostałe podmioty zagraniczne | M45: =N45+O45+P45 -> 0
A47: B3. kredyty i pożyczki wg pierwotnego terminu zapadalności - stan na koniec okresu sprawozdawczego | J47: B4. kredyty i pożyczki wg pozostałego terminu zapadalności - stan na koniec okresu sprawozdawczego
A48: (wg wartości nominalnej) | J48: (wg wartości nominalnej)
A50: kredyty i pożyczki | D50: zapadalność w latach | J50: kredyty i pożyczki | M50: zapadalność w latach
A51: wierzyciele | D51: łącznie (kol. 3+4+5) | E51: ( 0;1> | F51: ( 1;5> | G51: pow. 5 | J51: wierzyciele | M51: łącznie (kol. 3+4+5) | N51: ( 0;1> | O51: ( 1;5> | P51: pow. 5
A52: 1 | D52: 2 | E52: 3 | F52: 4 | G52: 5 | J52: 1 | M52: 2 | N52: 3 | O52: 4 | P52: 5
A53: 1. łącznie (w. 2+3+4+5+6+7+8+9+10+11+12+13) | D53: =SUM(D54:D65) -> 0 | E53: =SUM(E54:E65) -> 0 | F53: =SUM(F54:F65) -> 0 | G53: =SUM(G54:G65) -> 0 | J53: 1. łącznie (w. 2+3+4+5+6+7+8+9+10+11+12+13) | M53: =SUM(M54:M65) -> 0 | N53: =SUM(N54:N65) -> 0 | O53: =SUM(O54:O65) -> 0 | P53: =SUM(P54:P65) -> 0
A54: 2. grupa I | D54: =E54+F54+G54 -> 0 | J54: 2. grupa I | M54: =N54+O54+P54 -> 0
A55: 3. grupa II | D55: =E55+F55+G55 -> 0 | J55: 3. grupa II | M55: =N55+O55+P55 -> 0
A56: 4. grupa III | D56: =E56+F56+G56 -> 0 | J56: 4. grupa III | M56: =N56+O56+P56 -> 0
A57: 5.grupa IV | D57: =E57+F57+G57 -> 0 | J57: 5.grupa IV | M57: =N57+O57+P57 -> 0
A58: 6. bank centralny | D58: =E58+F58+G58 -> 0 | J58: 6. bank centralny | M58: =N58+O58+P58 -> 0
A59: 7. banki | D59: =E59+F59+G59 -> 0 | J59: 7. banki | M59: =N59+O59+P59 -> 0
A60: 8. pozostałe krajowe instytucje finansowe | D60: =E60+F60+G60 -> 0 | J60: 8. pozostałe krajowe instytucje finansowe | M60: =N60+O60+P60 -> 0
A61: 9. przedsiębiorstwa niefinansowe | D61: =E61+F61+G61 -> 0 | J61: 9. przedsiębiorstwa niefinansowe | M61: =N61+O61+P61 -> 0
A62: 10. gospodarstwa domowe | D62: =E62+F62+G62 -> 0 | J62: 10. gospodarstwa domowe | M62: =N62+O62+P62 -> 0
A63: 11. instytucje niekomercyjne działające na rzecz gospodarstw domowych | D63: =E63+F63+G63 -> 0 | J63: 11. instytucje niekomercyjne działające na rzecz gospodarstw domowych | M63: =N63+O63+P63 -> 0
A64: 12. podmioty nalezące do strefy euro | D64: =E64+F64+G64 -> 0 | J64: 12. podmioty nalezące do strefy euro | M64: =N64+O64+P64 -> 0
A65: 13. pozostałe podmioty zagraniczne | D65: =E65+F65+G65 -> 0 | J65: 13. pozostałe podmioty zagraniczne | M65: =N65+O65+P65 -> 0
A73: . . . . . . . . . . . . . . . . . . . . . . . . . . . . . . . | E73: . . . . . . . . . . . | H73: . . . . . . . . . . . | K73: . . . . . . . . . . . . . . . . .
A74: Główny księgowy / Skarbnik | E74: telefon | H74: rok m-c dzień | K74: Kierownik jednostki (jednostki obsługującej)/ Przewodniczący Zarządu
A75: * Nie dotyczy sprawozdań zbiorczych sporządzanych przez RIO. W przypadku braku głównego księgowego podpisuje tylko kierownik jednostki.

Sheet 81-państw.osoba prawna
A2: Nazwa jednostki sprawozdawczej | F2: Rb-UZ ROCZNE SPRAWOZDANIE UZUPEŁNIAJĄCE O STANIE ZOBOWIĄZAŃ | U2: =MAXA('20-państw.szk.wyż.:90-agencja wykonawcza'!U1) -> 0
G3: WG TYTUŁÓW DŁUŻNYCH | N3: Adresat:
D4: państwowej osoby prawnej utworzonej na podstawie odrębnych ustaw w celu wykonywania zadań publicznych (z wyłączeniem agencji wykonawczych)
A5: Adres jednostki sprawozdawczej
A7: Numer identyfikacyjny REGON | C7: liczba identyfik.jedn.
A8: 320633795 | C8: 0 | F8: wg stanu na koniec | H8: 4 | I8: kwartału | J8: roku | K8: 2022
A9: Nazwa województwa | H9: SYMBOLE
A10: Nazwa powiatu / związku | F10: WOJ. | G10: POWIAT | H10: GMINA | I10: TYP GM. | J10: ZWIĄZEK JST | K10: TYP ZW. | L10: GRUPA | M10: CZĘŚĆ BUDŻ.
A11: Nazwa gminy / związku | L11: 81
A13: A. Struktura walutowa tytułów dłużnych według wartości nominalnej
A15: Wyszczególnienie | C15: W a l u t a
C16: Ogółem (kol. 3+4+5+6+7) | D16: PLN | E16: EUR | F16: USD | G16: CHF | H16: Pozostałe waluty wg średniego kursu NBP | I16: Pozostałe waluty wg średniej arytmetycznej
C17: Ogółem (kol. 3+4+5+6+7) | I17: Pozostałe waluty wg średniej arytmetycznej
A18: 1 | C18: 2 | D18: 3 | E18: 4 | F18: 5 | G18: 6 | H18: 7 | I18: 8
A19: A. Zobowiązania ogółem (A1+A2+A3+A4) | C19: =D19+E19+F19+G19+H19 -> 0 | D19: =SUM(D20:D23) -> 0 | E19: =SUM(E20:E23) -> 0 | F19: =SUM(F20:F23) -> 0 | G19: =SUM(G20:G23) -> 0 | H19: =SUM(H20:H23) -> 0 | I19: =SUM(I20:I23) -> 0
A20: A1. papiery wartościowe | C20: =D20+E20+F20+G20+H20 -> 0
A21: A2. kredyty i pożyczki | C21: =D21+E21+F21+G21+H21 -> 0
A22: A3. przyjęte depozyty | C22: =D22+E22+F22+G22+H22 -> 0
A23: A4. wymagalne zobowiązania | C23: =D23+E23+F23+G23+H23 -> 0
A25: B. Struktura terminowa zobowiązań z tytułu zaciagniętych kredytów i pożyczek oraz wyemitowanych papierów wartościowych
A27: B1. papiery wartościowe wg pierwotnego terminu zapadalności - stan na koniec okresu sprawozdawczego | J27: B2. papiery wartościowe wg pozostałego terminu zapadalności - stan na koniec okresu sprawozdawczego
A28: (wg wartości nominalnej) | J28: (wg wartości nominalnej)
A30: papiery wartościowe | D30: zapadalność w latach | J30: papiery wartościowe | M30: zapadalność w latach
A31: wierzyciele | D31: łącznie (kol. 3+4+5) | E31: ( 0;1> | F31: ( 1;5> | G31: pow. 5 | J31: wierzyciele | M31: łącznie (kol. 3+4+5) | N31: ( 0;1> | O31: ( 1;5> | P31: pow. 5
A32: 1 | D32: 2 | E32: 3 | F32: 4 | G32: 5 | J32: 1 | M32: 2 | N32: 3 | O32: 4 | P32: 5
A33: 1. łącznie (w. 2+3+4+5+6+7+8+9+10+11+12+13) | D33: =SUM(D34:D45) -> 0 | E33: =SUM(E34:E45) -> 0 | F33: =SUM(F34:F45) -> 0 | G33: =SUM(G34:G45) -> 0 | J33: 1. łącznie (w. 2+3+4+5+6+7+8+9+10+11+12+13) | M33: =SUM(M34:M45) -> 0 | N33: =SUM(N34:N45) -> 0 | O33: =SUM(O34:O45) -> 0 | P33: =SUM(P34:P45) -> 0
A34: 2. grupa I | D34: =E34+F34+G34 -> 0 | J34: 2. grupa I | M34: =N34+O34+P34 -> 0
A35: 3. grupa II | D35: =E35+F35+G35 -> 0 | J35: 3. grupa II | M35: =N35+O35+P35 -> 0
A36: 4. grupa III | D36: =E36+F36+G36 -> 0 | J36: 4. grupa III | M36: =N36+O36+P36 -> 0
A37: 5.grupa IV | D37: =E37+F37+G37 -> 0 | J37: 5.grupa IV | M37: =N37+O37+P37 -> 0
A38: 6. bank centralny | D38: =E38+F38+G38 -> 0 | J38: 6. bank centralny | M38: =N38+O38+P38 -> 0
A39: 7. banki | D39: =E39+F39+G39 -> 0 | J39: 7. banki | M39: =N39+O39+P39 -> 0
A40: 8. pozostałe krajowe instytucje finansowe | D40: =E40+F40+G40 -> 0 | J40: 8. pozostałe krajowe instytucje finansowe | M40: =N40+O40+P40 -> 0
A41: 9. przedsiębiorstwa niefinansowe | D41: =E41+F41+G41 -> 0 | J41: 9. przedsiębiorstwa niefinansowe | M41: =N41+O41+P41 -> 0
A42: 10. gospodarstwa domowe | D42: =E42+F42+G42 -> 0 | J42: 10. gospodarstwa domowe | M42: =N42+O42+P42 -> 0
A43: 11. instytucje niekomercyjne działające na rzecz gospodarstw domowych | D43: =E43+F43+G43 -> 0 | J43: 11. instytucje niekomercyjne działające na rzecz gospodarstw domowych | M43: =N43+O43+P43 -> 0
A44: 12. podmioty nalezące do strefy euro | D44: =E44+F44+G44 -> 0 | J44: 12. podmioty nalezące do strefy euro | M44: =N44+O44+P44 -> 0
A45: 13. pozostałe podmioty zagraniczne | D45: =E45+F45+G45 -> 0 | J45: 13. pozostałe podmioty zagraniczne | M45: =N45+O45+P45 -> 0
A47: B3. kredyty i pożyczki wg pierwotnego terminu zapadalności - stan na koniec okresu sprawozdawczego | J47: B4. kredyty i pożyczki wg pozostałego terminu zapadalności - stan na koniec okresu sprawozdawczego
A48: (wg wartości nominalnej) | J48: (wg wartości nominalnej)
A50: kredyty i pożyczki | D50: zapadalność w latach | J50: kredyty i pożyczki | M50: zapadalność w latach
A51: wierzyciele | D51: łącznie (kol. 3+4+5) | E51: ( 0;1> | F51: ( 1;5> | G51: pow. 5 | J51: wierzyciele | M51: łącznie (kol. 3+4+5) | N51: ( 0;1> | O51: ( 1;5> | P51: pow. 5
A52: 1 | D52: 2 | E52: 3 | F52: 4 | G52: 5 | J52: 1 | M52: 2 | N52: 3 | O52: 4 | P52: 5
A53: 1. łącznie (w. 2+3+4+5+6+7+8+9+10+11+12+13) | D53: =SUM(D54:D65) -> 0 | E53: =SUM(E54:E65) -> 0 | F53: =SUM(F54:F65) -> 0 | G53: =SUM(G54:G65) -> 0 | J53: 1. łącznie (w. 2+3+4+5+6+7+8+9+10+11+12+13) | M53: =SUM(M54:M65) -> 0 | N53: =SUM(N54:N65) -> 0 | O53: =SUM(O54:O65) -> 0 | P53: =SUM(P54:P65) -> 0
A54: 2. grupa I | D54: =E54+F54+G54 -> 0 | J54: 2. grupa I | M54: =N54+O54+P54 -> 0
A55: 3. grupa II | D55: =E55+F55+G55 -> 0 | J55: 3. grupa II | M55: =N55+O55+P55 -> 0
A56: 4. grupa III | D56: =E56+F56+G56 -> 0 | J56: 4. grupa III | M56: =N56+O56+P56 -> 0
A57: 5.grupa IV | D57: =E57+F57+G57 -> 0 | J57: 5.grupa IV | M57: =N57+O57+P57 -> 0
A58: 6. bank centralny | D58: =E58+F58+G58 -> 0 | J58: 6. bank centralny | M58: =N58+O58+P58 -> 0
A59: 7. banki | D59: =E59+F59+G59 -> 0 | J59: 7. banki | M59: =N59+O59+P59 -> 0
A60: 8. pozostałe krajowe instytucje finansowe | D60: =E60+F60+G60 -> 0 | J60: 8. pozostałe krajowe instytucje finansowe | M60: =N60+O60+P60 -> 0
A61: 9. przedsiębiorstwa niefinansowe | D61: =E61+F61+G61 -> 0 | J61: 9. przedsiębiorstwa niefinansowe | M61: =N61+O61+P61 -> 0
A62: 10. gospodarstwa domowe | D62: =E62+F62+G62 -> 0 | J62: 10. gospodarstwa domowe | M62: =N62+O62+P62 -> 0
A63: 11. instytucje niekomercyjne działające na rzecz gospodarstw domowych | D63: =E63+F63+G63 -> 0 | J63: 11. instytucje niekomercyjne działające na rzecz gospodarstw domowych | M63: =N63+O63+P63 -> 0
A64: 12. podmioty nalezące do strefy euro | D64: =E64+F64+G64 -> 0 | J64: 12. podmioty nalezące do strefy euro | M64: =N64+O64+P64 -> 0
A65: 13. pozostałe podmioty zagraniczne | D65: =E65+F65+G65 -> 0 | J65: 13. pozostałe podmioty zagraniczne | M65: =N65+O65+P65 -> 0
A73: . . . . . . . . . . . . . . . . . . . . . . . . . . . . . . . | E73: . . . . . . . . . . . | H73: . . . . . . . . . . . | K73: . . . . . . . . . . . . . . . . .
A74: Główny księgowy / Skarbnik | E74: telefon | H74: rok m-c dzień | K74: Kierownik jednostki (jednostki obsługującej)/ Przewodniczący Zarządu
A75: * Nie dotyczy sprawozdań zbiorczych sporządzanych przez RIO. W przypadku braku głównego księgowego podpisuje tylko kierownik jednostki.

Sheet 82-samorz.osoba prawna
A2: Nazwa jednostki sprawozdawczej | F2: Rb-UZ ROCZNE SPRAWOZDANIE UZUPEŁNIAJĄCE O STANIE ZOBOWIĄZAŃ | U2: =MAXA('20-państw.szk.wyż.:90-agencja wykonawcza'!U1) -> 0
G3: WG TYTUŁÓW DŁUŻNYCH | N3: Adresat:
D4: samorządowej osoby prawnej utworzonej na podstawie odrębnych ustaw w celu wykonywania zadań publicznych
A5: Adres jednostki sprawozdawczej
A7: Numer identyfikacyjny REGON | C7: liczba identyfik.jedn.
A8: 320633795 | C8: 0 | F8: wg stanu na koniec | H8: 4 | I8: kwartału | J8: roku | K8: 2022
A9: Nazwa województwa | H9: SYMBOLE
A10: Nazwa powiatu / związku | F10: WOJ. | G10: POWIAT | H10: GMINA | I10: TYP GM. | J10: ZWIĄZEK JST | K10: TYP ZW. | L10: GRUPA | M10: CZĘŚĆ BUDŻ.
A11: Nazwa gminy / związku | L11: 82
A13: A. Struktura walutowa tytułów dłużnych według wartości nominalnej
A15: Wyszczególnienie | C15: W a l u t a
C16: Ogółem (kol. 3+4+5+6+7) | D16: PLN | E16: EUR | F16: USD | G16: CHF | H16: Pozostałe waluty wg średniego kursu NBP | I16: Pozostałe waluty wg średniej arytmetycznej
C17: Ogółem (kol. 3+4+5+6+7) | I17: Pozostałe waluty wg średniej arytmetycznej
A18: 1 | C18: 2 | D18: 3 | E18: 4 | F18: 5 | G18: 6 | H18: 7 | I18: 8
A19: A. Zobowiązania ogółem (A1+A2+A3+A4) | C19: =D19+E19+F19+G19+H19 -> 0 | D19: =SUM(D20:D23) -> 0 | E19: =SUM(E20:E23) -> 0 | F19: =SUM(F20:F23) -> 0 | G19: =SUM(G20:G23) -> 0 | H19: =SUM(H20:H23) -> 0 | I19: =SUM(I20:I23) -> 0
A20: A1. papiery wartościowe | C20: =D20+E20+F20+G20+H20 -> 0
A21: A2. kredyty i pożyczki | C21: =D21+E21+F21+G21+H21 -> 0
A22: A3. przyjęte depozyty | C22: =D22+E22+F22+G22+H22 -> 0
A23: A4. wymagalne zobowiązania | C23: =D23+E23+F23+G23+H23 -> 0
A25: B. Struktura terminowa zobowiązań z tytułu zaciagniętych kredytów i pożyczek oraz wyemitowanych papierów wartościowych
A27: B1. papiery wartościowe wg pierwotnego terminu zapadalności - stan na koniec okresu sprawozdawczego | J27: B2. papiery wartościowe wg pozostałego terminu zapadalności - stan na koniec okresu sprawozdawczego
A28: (wg wartości nominalnej) | J28: (wg wartości nominalnej)
A30: papiery wartościowe | D30: zapadalność w latach | J30: papiery wartościowe | M30: zapadalność w latach
A31: wierzyciele | D31: łącznie (kol. 3+4+5) | E31: ( 0;1> | F31: ( 1;5> | G31: pow. 5 | J31: wierzyciele | M31: łącznie (kol. 3+4+5) | N31: ( 0;1> | O31: ( 1;5> | P31: pow. 5
A32: 1 | D32: 2 | E32: 3 | F32: 4 | G32: 5 | J32: 1 | M32: 2 | N32: 3 | O32: 4 | P32: 5
A33: 1. łącznie (w. 2+3+4+5+6+7+8+9+10+11+12+13) | D33: =SUM(D34:D45) -> 0 | E33: =SUM(E34:E45) -> 0 | F33: =SUM(F34:F45) -> 0 | G33: =SUM(G34:G45) -> 0 | J33: 1. łącznie (w. 2+3+4+5+6+7+8+9+10+11+12+13) | M33: =SUM(M34:M45) -> 0 | N33: =SUM(N34:N45) -> 0 | O33: =SUM(O34:O45) -> 0 | P33: =SUM(P34:P45) -> 0
A34: 2. grupa I | D34: =E34+F34+G34 -> 0 | J34: 2. grupa I | M34: =N34+O34+P34 -> 0
A35: 3. grupa II | D35: =E35+F35+G35 -> 0 | J35: 3. grupa II | M35: =N35+O35+P35 -> 0
A36: 4. grupa III | D36: =E36+F36+G36 -> 0 | J36: 4. grupa III | M36: =N36+O36+P36 -> 0
A37: 5.grupa IV | D37: =E37+F37+G37 -> 0 | J37: 5.grupa IV | M37: =N37+O37+P37 -> 0
A38: 6. bank centralny | D38: =E38+F38+G38 -> 0 | J38: 6. bank centralny | M38: =N38+O38+P38 -> 0
A39: 7. banki | D39: =E39+F39+G39 -> 0 | J39: 7. banki | M39: =N39+O39+P39 -> 0
A40: 8. pozostałe krajowe instytucje finansowe | D40: =E40+F40+G40 -> 0 | J40: 8. pozostałe krajowe instytucje finansowe | M40: =N40+O40+P40 -> 0
A41: 9. przedsiębiorstwa niefinansowe | D41: =E41+F41+G41 -> 0 | J41: 9. przedsiębiorstwa niefinansowe | M41: =N41+O41+P41 -> 0
A42: 10. gospodarstwa domowe | D42: =E42+F42+G42 -> 0 | J42: 10. gospodarstwa domowe | M42: =N42+O42+P42 -> 0
A43: 11. instytucje niekomercyjne działające na rzecz gospodarstw domowych | D43: =E43+F43+G43 -> 0 | J43: 11. instytucje niekomercyjne działające na rzecz gospodarstw domowych | M43: =N43+O43+P43 -> 0
A44: 12. podmioty nalezące do strefy euro | D44: =E44+F44+G44 -> 0 | J44: 12. podmioty nalezące do strefy euro | M44: =N44+O44+P44 -> 0
A45: 13. pozostałe podmioty zagraniczne | D45: =E45+F45+G45 -> 0 | J45: 13. pozostałe podmioty zagraniczne | M45: =N45+O45+P45 -> 0
A47: B3. kredyty i pożyczki wg pierwotnego terminu zapadalności - stan na koniec okresu sprawozdawczego | J47: B4. kredyty i pożyczki wg pozostałego terminu zapadalności - stan na koniec okresu sprawozdawczego
A48: (wg wartości nominalnej) | J48: (wg wartości nominalnej)
A50: kredyty i pożyczki | D50: zapadalność w latach | J50: kredyty i pożyczki | M50: zapadalność w latach
A51: wierzyciele | D51: łącznie (kol. 3+4+5) | E51: ( 0;1> | F51: ( 1;5> | G51: pow. 5 | J51: wierzyciele | M51: łącznie (kol. 3+4+5) | N51: ( 0;1> | O51: ( 1;5> | P51: pow. 5
A52: 1 | D52: 2 | E52: 3 | F52: 4 | G52: 5 | J52: 1 | M52: 2 | N52: 3 | O52: 4 | P52: 5
A53: 1. łącznie (w. 2+3+4+5+6+7+8+9+10+11+12+13) | D53: =SUM(D54:D65) -> 0 | E53: =SUM(E54:E65) -> 0 | F53: =SUM(F54:F65) -> 0 | G53: =SUM(G54:G65) -> 0 | J53: 1. łącznie (w. 2+3+4+5+6+7+8+9+10+11+12+13) | M53: =SUM(M54:M65) -> 0 | N53: =SUM(N54:N65) -> 0 | O53: =SUM(O54:O65) -> 0 | P53: =SUM(P54:P65) -> 0
A54: 2. grupa I | D54: =E54+F54+G54 -> 0 | J54: 2. grupa I | M54: =N54+O54+P54 -> 0
A55: 3. grupa II | D55: =E55+F55+G55 -> 0 | J55: 3. grupa II | M55: =N55+O55+P55 -> 0
A56: 4. grupa III | D56: =E56+F56+G56 -> 0 | J56: 4. grupa III | M56: =N56+O56+P56 -> 0
A57: 5.grupa IV | D57: =E57+F57+G57 -> 0 | J57: 5.grupa IV | M57: =N57+O57+P57 -> 0
A58: 6. bank centralny | D58: =E58+F58+G58 -> 0 | J58: 6. bank centralny | M58: =N58+O58+P58 -> 0
A59: 7. banki | D59: =E59+F59+G59 -> 0 | J59: 7. banki | M59: =N59+O59+P59 -> 0
A60: 8. pozostałe krajowe instytucje finansowe | D60: =E60+F60+G60 -> 0 | J60: 8. pozostałe krajowe instytucje finansowe | M60: =N60+O60+P60 -> 0
A61: 9. przedsiębiorstwa niefinansowe | D61: =E61+F61+G61 -> 0 | J61: 9. przedsiębiorstwa niefinansowe | M61: =N61+O61+P61 -> 0
A62: 10. gospodarstwa domowe | D62: =E62+F62+G62 -> 0 | J62: 10. gospodarstwa domowe | M62: =N62+O62+P62 -> 0
A63: 11. instytucje niekomercyjne działające na rzecz gospodarstw domowych | D63: =E63+F63+G63 -> 0 | J63: 11. instytucje niekomercyjne działające na rzecz gospodarstw domowych | M63: =N63+O63+P63 -> 0
A64: 12. podmioty nalezące do strefy euro | D64: =E64+F64+G64 -> 0 | J64: 12. podmioty nalezące do strefy euro | M64: =N64+O64+P64 -> 0
A65: 13. pozostałe podmioty zagraniczne | D65: =E65+F65+G65 -> 0 | J65: 13. pozostałe podmioty zagraniczne | M65: =N65+O65+P65 -> 0
A73: . . . . . . . . . . . . . . . . . . . . . . . . . . . . . . . | E73: . . . . . . . . . . . | H73: . . . . . . . . . . . | K73: . . . . . . . . . . . . . . . . .
A74: Główny księgowy / Skarbnik | E74: telefon | H74: rok m-c dzień | K74: Kierownik jednostki (jednostki obsługującej)/ Przewodniczący Zarządu
A75: * Nie dotyczy sprawozdań zbiorczych sporządzanych przez RIO. W przypadku braku głównego księgowego podpisuje tylko kierownik jednostki.

Sheet 90-agencja wykonawcza
A2: Nazwa jednostki sprawozdawczej | F2: Rb-UZ ROCZNE SPRAWOZDANIE UZUPEŁNIAJĄCE O STANIE ZOBOWIĄZAŃ | U2: =MAXA('20-państw.szk.wyż.:90-agencja wykonawcza'!U1) -> 0
G3: WG TYTUŁÓW DŁUŻNYCH | N3: Adresat:
F4: agencji wykonawczej
A5: Adres jednostki sprawozdawczej
A7: Numer identyfikacyjny REGON | C7: liczba identyfik.jedn.
A8: 320633795 | C8: 0 | F8: wg stanu na koniec | H8: 4 | I8: kwartału | J8: roku | K8: 2022
A9: Nazwa województwa | H9: SYMBOLE
A10: Nazwa powiatu / związku | F10: WOJ. | G10: POWIAT | H10: GMINA | I10: TYP GM. | J10: ZWIĄZEK JST | K10: TYP ZW. | L10: GRUPA | M10: CZĘŚĆ BUDŻ.
A11: Nazwa gminy / związku | L11: 90
A13: A. Struktura walutowa tytułów dłużnych według wartości nominalnej
A15: Wyszczególnienie | C15: W a l u t a
C16: Ogółem (kol. 3+4+5+6+7) | D16: PLN | E16: EUR | F16: USD | G16: CHF | H16: Pozostałe waluty wg średniego kursu NBP | I16: Pozostałe waluty wg średniej arytmetycznej
C17: Ogółem (kol. 3+4+5+6+7) | I17: Pozostałe waluty wg średniej arytmetycznej
A18: 1 | C18: 2 | D18: 3 | E18: 4 | F18: 5 | G18: 6 | H18: 7 | I18: 8
A19: A. Zobowiązania ogółem (A1+A2+A3+A4) | C19: =D19+E19+F19+G19+H19 -> 0 | D19: =SUM(D20:D23) -> 0 | E19: =SUM(E20:E23) -> 0 | F19: =SUM(F20:F23) -> 0 | G19: =SUM(G20:G23) -> 0 | H19: =SUM(H20:H23) -> 0 | I19: =SUM(I20:I23) -> 0
A20: A1. papiery wartościowe | C20: =D20+E20+F20+G20+H20 -> 0
A21: A2. kredyty i pożyczki | C21: =D21+E21+F21+G21+H21 -> 0
A22: A3. przyjęte depozyty | C22: =D22+E22+F22+G22+H22 -> 0
A23: A4. wymagalne zobowiązania | C23: =D23+E23+F23+G23+H23 -> 0
A25: B. Struktura terminowa zobowiązań z tytułu zaciagniętych kredytów i pożyczek oraz wyemitowanych papierów wartościowych
A27: B1. papiery wartościowe wg pierwotnego terminu zapadalności - stan na koniec okresu sprawozdawczego | J27: B2. papiery wartościowe wg pozostałego terminu zapadalności - stan na koniec okresu sprawozdawczego
A28: (wg wartości nominalnej) | J28: (wg wartości nominalnej)
A30: papiery wartościowe | D30: zapadalność w latach | J30: papiery wartościowe | M30: zapadalność w latach
A31: wierzyciele | D31: łącznie (kol. 3+4+5) | E31: ( 0;1> | F31: ( 1;5> | G31: pow. 5 | J31: wierzyciele | M31: łącznie (kol. 3+4+5) | N31: ( 0;1> | O31: ( 1;5> | P31: pow. 5
A32: 1 | D32: 2 | E32: 3 | F32: 4 | G32: 5 | J32: 1 | M32: 2 | N32: 3 | O32: 4 | P32: 5
A33: 1. łącznie (w. 2+3+4+5+6+7+8+9+10+11+12+13) | D33: =SUM(D34:D45) -> 0 | E33: =SUM(E34:E45) -> 0 | F33: =SUM(F34:F45) -> 0 | G33: =SUM(G34:G45) -> 0 | J33: 1. łącznie (w. 2+3+4+5+6+7+8+9+10+11+12+13) | M33: =SUM(M34:M45) -> 0 | N33: =SUM(N34:N45) -> 0 | O33: =SUM(O34:O45) -> 0 | P33: =SUM(P34:P45) -> 0
A34: 2. grupa I | D34: =E34+F34+G34 -> 0 | J34: 2. grupa I | M34: =N34+O34+P34 -> 0
A35: 3. grupa II | D35: =E35+F35+G35 -> 0 | J35: 3. grupa II | M35: =N35+O35+P35 -> 0
A36: 4. grupa III | D36: =E36+F36+G36 -> 0 | J36: 4. grupa III | M36: =N36+O36+P36 -> 0
A37: 5.grupa IV | D37: =E37+F37+G37 -> 0 | J37: 5.grupa IV | M37: =N37+O37+P37 -> 0
A38: 6. bank centralny | D38: =E38+F38+G38 -> 0 | J38: 6. bank centralny | M38: =N38+O38+P38 -> 0
A39: 7. banki | D39: =E39+F39+G39 -> 0 | J39: 7. banki | M39: =N39+O39+P39 -> 0
A40: 8. pozostałe krajowe instytucje finansowe | D40: =E40+F40+G40 -> 0 | J40: 8. pozostałe krajowe instytucje finansowe | M40: =N40+O40+P40 -> 0
A41: 9. przedsiębiorstwa niefinansowe | D41: =E41+F41+G41 -> 0 | J41: 9. przedsiębiorstwa niefinansowe | M41: =N41+O41+P41 -> 0
A42: 10. gospodarstwa domowe | D42: =E42+F42+G42 -> 0 | J42: 10. gospodarstwa domowe | M42: =N42+O42+P42 -> 0
A43: 11. instytucje niekomercyjne działające na rzecz gospodarstw domowych | D43: =E43+F43+G43 -> 0 | J43: 11. instytucje niekomercyjne działające na rzecz gospodarstw domowych | M43: =N43+O43+P43 -> 0
A44: 12. podmioty nalezące do strefy euro | D44: =E44+F44+G44 -> 0 | J44: 12. podmioty nalezące do strefy euro | M44: =N44+O44+P44 -> 0
A45: 13. pozostałe podmioty zagraniczne | D45: =E45+F45+G45 -> 0 | J45: 13. pozostałe podmioty zagraniczne | M45: =N45+O45+P45 -> 0
A47: B3. kredyty i pożyczki wg pierwotnego terminu zapadalności - stan na koniec okresu sprawozdawczego | J47: B4. kredyty i pożyczki wg pozostałego terminu zapadalności - stan na koniec okresu sprawozdawczego
A48: (wg wartości nominalnej) | J48: (wg wartości nominalnej)
A50: kredyty i pożyczki | D50: zapadalność w latach | J50: kredyty i pożyczki | M50: zapadalność w latach
A51: wierzyciele | D51: łącznie (kol. 3+4+5) | E51: ( 0;1> | F51: ( 1;5> | G51: pow. 5 | J51: wierzyciele | M51: łącznie (kol. 3+4+5) | N51: ( 0;1> | O51: ( 1;5> | P51: pow. 5
A52: 1 | D52: 2 | E52: 3 | F52: 4 | G52: 5 | J52: 1 | M52: 2 | N52: 3 | O52: 4 | P52: 5
A53: 1. łącznie (w. 2+3+4+5+6+7+8+9+10+11+12+13) | D53: =SUM(D54:D65) -> 0 | E53: =SUM(E54:E65) -> 0 | F53: =SUM(F54:F65) -> 0 | G53: =SUM(G54:G65) -> 0 | J53: 1. łącznie (w. 2+3+4+5+6+7+8+9+10+11+12+13) | M53: =SUM(M54:M65) -> 0 | N53: =SUM(N54:N65) -> 0 | O53: =SUM(O54:O65) -> 0 | P53: =SUM(P54:P65) -> 0
A54: 2. grupa I | D54: =E54+F54+G54 -> 0 | J54: 2. grupa I | M54: =N54+O54+P54 -> 0
A55: 3. grupa II | D55: =E55+F55+G55 -> 0 | J55: 3. grupa II | M55: =N55+O55+P55 -> 0
A56: 4. grupa III | D56: =E56+F56+G56 -> 0 | J56: 4. grupa III | M56: =N56+O56+P56 -> 0
A57: 5.grupa IV | D57: =E57+F57+G57 -> 0 | J57: 5.grupa IV | M57: =N57+O57+P57 -> 0
A58: 6. bank centralny | D58: =E58+F58+G58 -> 0 | J58: 6. bank centralny | M58: =N58+O58+P58 -> 0
A59: 7. banki | D59: =E59+F59+G59 -> 0 | J59: 7. banki | M59: =N59+O59+P59 -> 0
A60: 8. pozostałe krajowe instytucje finansowe | D60: =E60+F60+G60 -> 0 | J60: 8. pozostałe krajowe instytucje finansowe | M60: =N60+O60+P60 -> 0
A61: 9. przedsiębiorstwa niefinansowe | D61: =E61+F61+G61 -> 0 | J61: 9. przedsiębiorstwa niefinansowe | M61: =N61+O61+P61 -> 0
A62: 10. gospodarstwa domowe | D62: =E62+F62+G62 -> 0 | J62: 10. gospodarstwa domowe | M62: =N62+O62+P62 -> 0
A63: 11. instytucje niekomercyjne działające na rzecz gospodarstw domowych | D63: =E63+F63+G63 -> 0 | J63: 11. instytucje niekomercyjne działające na rzecz gospodarstw domowych | M63: =N63+O63+P63 -> 0
A64: 12. podmioty nalezące do strefy euro | D64: =E64+F64+G64 -> 0 | J64: 12. podmioty nalezące do strefy euro | M64: =N64+O64+P64 -> 0
A65: 13. pozostałe podmioty zagraniczne | D65: =E65+F65+G65 -> 0 | J65: 13. pozostałe podmioty zagraniczne | M65: =N65+O65+P65 -> 0
A73: . . . . . . . . . . . . . . . . . . . . . . . . . . . . . . . | E73: . . . . . . . . . . . | H73: . . . . . . . . . . . | K73: . . . . . . . . . . . . . . . . .
A74: Główny księgowy / Skarbnik | E74: telefon | H74: rok m-c dzień | K74: Kierownik jednostki (jednostki obsługującej)/ Przewodniczący Zarządu
A75: * Nie dotyczy sprawozdań zbiorczych sporządzanych przez RIO. W przypadku braku głównego księgowego podpisuje tylko kierownik jednostki.

Sheet 99-zbiorczo
U1: 0
A2: Nazwa jednostki sprawozdawczej | F2: Rb-UZ ROCZNE SPRAWOZDANIE UZUPEŁNIAJĄCE O STANIE ZOBOWIĄZAŃ | U2: =MAX('11-państw.fund.cel.:90-agencja wykonawcza'!U1) -> 0 | V2: regon
A3: =IF(B137="brak nazwy",IF(B138="brak nazwy","Brak nazwy",B138),B137) -> Gminna Biblioteka Publiczna w Grzmiącej | G3: WG TYTUŁÓW DŁUŻNYCH | N3: Adresat: | U3: =COUNTA('11-państw.fund.cel.:90-agencja wykonawcza'!H8) -> 15 | V3: kwartal
T4: =MIN('11-państw.fund.cel.:90-agencja wykonawcza'!H8) -> 4 | U4: =MAX('11-państw.fund.cel.:90-agencja wykonawcza'!H8) -> 4
A5: Adres jednostki sprawozdawczej | U5: =COUNTA('11-państw.fund.cel.:90-agencja wykonawcza'!K8) -> 15 | V5: rok
T6: =MIN('11-państw.fund.cel.:90-agencja wykonawcza'!K8) -> 2022 | U6: =MAX('11-państw.fund.cel.:90-agencja wykonawcza'!K8) -> 2023
A7: Numer identyfikacyjny REGON | C7: liczba identyfik.jedn. | U7: =COUNTA('11-państw.fund.cel.:90-agencja wykonawcza'!C8) -> 15
A8: =IF(B116="brak regonu",IF(B117="brak regonu","Brak nr REGON",B117),B116) -> 320633795 | C8: =IF(U7<>0,IF(U8=T8,U8,""),"") -> 0 | F8: wg stanu na koniec | H8: 4 | I8: kwartału | J8: roku | K8: =IF(U5=0,"Brak roku",U6) -> 2023 | T8: =MIN('11-państw.fund.cel.:90-agencja wykonawcza'!C8) -> 0 | U8: =MAX('11-państw.fund.cel.:90-agencja wykonawcza'!C8) -> 0 | V8: licz.ident.jedn.
A9: Nazwa województwa | H9: SYMBOLE
A10: Nazwa powiatu / związku | F10: WOJ. | G10: POWIAT | H10: GMINA | I10: TYP GM. | J10: ZWIĄZEK JST | K10: TYP ZW. | L10: GRUPA | M10: CZĘŚĆ BUDŻ. | T10: =MIN('11-państw.fund.cel.:90-agencja wykonawcza'!U10) -> 1 | U10: =MAX('11-państw.fund.cel.:90-agencja wykonawcza'!U10) -> 1
A11: Nazwa gminy / związku | L11: 99
T12: =MIN('11-państw.fund.cel.:90-agencja wykonawcza'!M11) -> 0 | U12: =MAX('11-państw.fund.cel.:90-agencja wykonawcza'!M11) -> 0
A13: A. Struktura walutowa tytułów dłużnych według wartości nominalnej
A15: Wyszczególnienie | C15: W a l u t a
C16: Ogółem (kol. 3+4+5+6+7) | D16: PLN | E16: EUR | F16: USD | G16: CHF | H16: Pozostałe waluty wg średniego kursu NBP | I16: Pozostałe waluty wg średniej arytmetycznej
C17: Ogółem (kol. 3+4+5+6+7) | I17: Pozostałe waluty wg średniej arytmetycznej
A18: 1 | C18: 2 | D18: 3 | E18: 4 | F18: 5 | G18: 6 | H18: 7 | I18: 8
A19: A. Zobowiązania ogółem (A1+A2+A3+A4) | C19: =SUM('11-państw.fund.cel.:90-agencja wykonawcza'!C19) -> 0 | D19: =SUM('11-państw.fund.cel.:90-agencja wykonawcza'!D19) -> 0 | E19: =SUM('11-państw.fund.cel.:90-agencja wykonawcza'!E19) -> 0 | F19: =SUM('11-państw.fund.cel.:90-agencja wykonawcza'!F19) -> 0 | G19: =SUM('11-państw.fund.cel.:90-agencja wykonawcza'!G19) -> 0 | H19: =SUM('11-państw.fund.cel.:90-agencja wykonawcza'!H19) -> 0 | I19: =SUM('11-państw.fund.cel.:90-agencja wykonawcza'!I19) -> 0
A20: A1. papiery wartościowe | C20: =SUM('11-państw.fund.cel.:90-agencja wykonawcza'!C20) -> 0 | D20: =SUM('11-państw.fund.cel.:90-agencja wykonawcza'!D20) -> 0 | E20: =SUM('11-państw.fund.cel.:90-agencja wykonawcza'!E20) -> 0 | F20: =SUM('11-państw.fund.cel.:90-agencja wykonawcza'!F20) -> 0 | G20: =SUM('11-państw.fund.cel.:90-agencja wykonawcza'!G20) -> 0 | H20: =SUM('11-państw.fund.cel.:90-agencja wykonawcza'!H20) -> 0 | I20: =SUM('11-państw.fund.cel.:90-agencja wykonawcza'!I20) -> 0
A21: A2. kredyty i pożyczki | C21: =SUM('11-państw.fund.cel.:90-agencja wykonawcza'!C21) -> 0 | D21: =SUM('11-państw.fund.cel.:90-agencja wykonawcza'!D21) -> 0 | E21: =SUM('11-państw.fund.cel.:90-agencja wykonawcza'!E21) -> 0 | F21: =SUM('11-państw.fund.cel.:90-agencja wykonawcza'!F21) -> 0 | G21: =SUM('11-państw.fund.cel.:90-agencja wykonawcza'!G21) -> 0 | H21: =SUM('11-państw.fund.cel.:90-agencja wykonawcza'!H21) -> 0 | I21: =SUM('11-państw.fund.cel.:90-agencja wykonawcza'!I21) -> 0
A22: A3. przyjęte depozyty | C22: =SUM('11-państw.fund.cel.:90-agencja wykonawcza'!C22) -> 0 | D22: =SUM('11-państw.fund.cel.:90-agencja wykonawcza'!D22) -> 0 | E22: =SUM('11-państw.fund.cel.:90-agencja wykonawcza'!E22) -> 0 | F22: =SUM('11-państw.fund.cel.:90-agencja wykonawcza'!F22) -> 0 | G22: =SUM('11-państw.fund.cel.:90-agencja wykonawcza'!G22) -> 0 | H22: =SUM('11-państw.fund.cel.:90-agencja wykonawcza'!H22) -> 0 | I22: =SUM('11-państw.fund.cel.:90-agencja wykonawcza'!I22) -> 0
A23: A4. wymagalne zobowiązania | C23: =SUM('11-państw.fund.cel.:90-agencja wykonawcza'!C23) -> 0 | D23: =SUM('11-państw.fund.cel.:90-agencja wykonawcza'!D23) -> 0 | E23: =SUM('11-państw.fund.cel.:90-agencja wykonawcza'!E23) -> 0 | F23: =SUM('11-państw.fund.cel.:90-agencja wykonawcza'!F23) -> 0 | G23: =SUM('11-państw.fund.cel.:90-agencja wykonawcza'!G23) -> 0 | H23: =SUM('11-państw.fund.cel.:90-agencja wykonawcza'!H23) -> 0 | I23: =SUM('11-państw.fund.cel.:90-agencja wykonawcza'!I23) -> 0
A25: B. Struktura terminowa zobowiązań z tytułu zaciagniętych kredytów i pożyczek oraz wyemitowanych papierów wartościowych
A27: B1. papiery wartościowe wg pierwotnego terminu zapadalności - stan na koniec okresu sprawozdawczego | J27: B2. papiery wartościowe wg pozostałego terminu zapadalności - stan na koniec okresu sprawozdawczego
A28: (wg wartości nominalnej) | J28: (wg wartości nominalnej)
A30: papiery wartościowe | D30: zapadalność w latach | J30: papiery wartościowe | M30: zapadalność w latach
A31: wierzyciele | D31: łącznie (kol. 3+4+5) | E31: ( 0;1> | F31: ( 1;5> | G31: pow. 5 | J31: wierzyciele | M31: łącznie (kol. 3+4+5) | N31: ( 0;1> | O31: ( 1;5> | P31: pow. 5
A32: 1 | D32: 2 | E32: 3 | F32: 4 | G32: 5 | J32: 1 | M32: 2 | N32: 3 | O32: 4 | P32: 5
A33: 1. łącznie (w. 2+3+4+5+6+7+8+9+10+11+12+13) | D33: =SUM('11-państw.fund.cel.:90-agencja wykonawcza'!D33) -> 0 | E33: =SUM('11-państw.fund.cel.:90-agencja wykonawcza'!E33) -> 0 | F33: =SUM('11-państw.fund.cel.:90-agencja wykonawcza'!F33) -> 0 | G33: =SUM('11-państw.fund.cel.:90-agencja wykonawcza'!G33) -> 0 | J33: 1. łącznie (w. 2+3+4+5+6+7+8+9+10+11+12+13) | M33: =SUM('11-państw.fund.cel.:90-agencja wykonawcza'!M33) -> 0 | N33: =SUM('11-państw.fund.cel.:90-agencja wykonawcza'!N33) -> 0 | O33: =SUM('11-państw.fund.cel.:90-agencja wykonawcza'!O33) -> 0 | P33: =SUM('11-państw.fund.cel.:90-agencja wykonawcza'!P33) -> 0
A34: 2. grupa I | D34: =SUM('11-państw.fund.cel.:90-agencja wykonawcza'!D34) -> 0 | E34: =SUM('11-państw.fund.cel.:90-agencja wykonawcza'!E34) -> 0 | F34: =SUM('11-państw.fund.cel.:90-agencja wykonawcza'!F34) -> 0 | G34: =SUM('11-państw.fund.cel.:90-agencja wykonawcza'!G34) -> 0 | J34: 2. grupa I | M34: =SUM('11-państw.fund.cel.:90-agencja wykonawcza'!M34) -> 0 | N34: =SUM('11-państw.fund.cel.:90-agencja wykonawcza'!N34) -> 0 | O34: =SUM('11-państw.fund.cel.:90-agencja wykonawcza'!O34) -> 0 | P34: =SUM('11-państw.fund.cel.:90-agencja wykonawcza'!P34) -> 0
A35: 3. grupa II | D35: =SUM('11-państw.fund.cel.:90-agencja wykonawcza'!D35) -> 0 | E35: =SUM('11-państw.fund.cel.:90-agencja wykonawcza'!E35) -> 0 | F35: =SUM('11-państw.fund.cel.:90-agencja wykonawcza'!F35) -> 0 | G35: =SUM('11-państw.fund.cel.:90-agencja wykonawcza'!G35) -> 0 | J35: 3. grupa II | M35: =SUM('11-państw.fund.cel.:90-agencja wykonawcza'!M35) -> 0 | N35: =SUM('11-państw.fund.cel.:90-agencja wykonawcza'!N35) -> 0 | O35: =SUM('11-państw.fund.cel.:90-agencja wykonawcza'!O35) -> 0 | P35: =SUM('11-państw.fund.cel.:90-agencja wykonawcza'!P35) -> 0
A36: 4. grupa III | D36: =SUM('11-państw.fund.cel.:90-agencja wykonawcza'!D36) -> 0 | E36: =SUM('11-państw.fund.cel.:90-agencja wykonawcza'!E36) -> 0 | F36: =SUM('11-państw.fund.cel.:90-agencja wykonawcza'!F36) -> 0 | G36: =SUM('11-państw.fund.cel.:90-agencja wykonawcza'!G36) -> 0 | J36: 4. grupa III | M36: =SUM('11-państw.fund.cel.:90-agencja wykonawcza'!M36) -> 0 | N36: =SUM('11-państw.fund.cel.:90-agencja wykonawcza'!N36) -> 0 | O36: =SUM('11-państw.fund.cel.:90-agencja wykonawcza'!O36) -> 0 | P36: =SUM('11-państw.fund.cel.:90-agencja wykonawcza'!P36) -> 0
A37: 5.grupa IV | D37: =SUM('11-państw.fund.cel.:90-agencja wykonawcza'!D37) -> 0 | E37: =SUM('11-państw.fund.cel.:90-agencja wykonawcza'!E37) -> 0 | F37: =SUM('11-państw.fund.cel.:90-agencja wykonawcza'!F37) -> 0 | G37: =SUM('11-państw.fund.cel.:90-agencja wykonawcza'!G37) -> 0 | J37: 5.grupa IV | M37: =SUM('11-państw.fund.cel.:90-agencja wykonawcza'!M37) -> 0 | N37: =SUM('11-państw.fund.cel.:90-agencja wykonawcza'!N37) -> 0 | O37: =SUM('11-państw.fund.cel.:90-agencja wykonawcza'!O37) -> 0 | P37: =SUM('11-państw.fund.cel.:90-agencja wykonawcza'!P37) -> 0
A38: 6. bank centralny | D38: =SUM('11-państw.fund.cel.:90-agencja wykonawcza'!D38) -> 0 | E38: =SUM('11-państw.fund.cel.:90-agencja wykonawcza'!E38) -> 0 | F38: =SUM('11-państw.fund.cel.:90-agencja wykonawcza'!F38) -> 0 | G38: =SUM('11-państw.fund.cel.:90-agencja wykonawcza'!G38) -> 0 | J38: 6. bank centralny | M38: =SUM('11-państw.fund.cel.:90-agencja wykonawcza'!M38) -> 0 | N38: =SUM('11-państw.fund.cel.:90-agencja wykonawcza'!N38) -> 0 | O38: =SUM('11-państw.fund.cel.:90-agencja wykonawcza'!O38) -> 0 | P38: =SUM('11-państw.fund.cel.:90-agencja wykonawcza'!P38) -> 0
A39: 7. banki | D39: =SUM('11-państw.fund.cel.:90-agencja wykonawcza'!D39) -> 0 | E39: =SUM('11-państw.fund.cel.:90-agencja wykonawcza'!E39) -> 0 | F39: =SUM('11-państw.fund.cel.:90-agencja wykonawcza'!F39) -> 0 | G39: =SUM('11-państw.fund.cel.:90-agencja wykonawcza'!G39) -> 0 | J39: 7. banki | M39: =SUM('11-państw.fund.cel.:90-agencja wykonawcza'!M39) -> 0 | N39: =SUM('11-państw.fund.cel.:90-agencja wykonawcza'!N39) -> 0 | O39: =SUM('11-państw.fund.cel.:90-agencja wykonawcza'!O39) -> 0 | P39: =SUM('11-państw.fund.cel.:90-agencja wykonawcza'!P39) -> 0
A40: 8. pozostałe krajowe instytucje finansowe | D40: =SUM('11-państw.fund.cel.:90-agencja wykonawcza'!D40) -> 0 | E40: =SUM('11-państw.fund.cel.:90-agencja wykonawcza'!E40) -> 0 | F40: =SUM('11-państw.fund.cel.:90-agencja wykonawcza'!F40) -> 0 | G40: =SUM('11-państw.fund.cel.:90-agencja wykonawcza'!G40) -> 0 | J40: 8. pozostałe krajowe instytucje finansowe | M40: =SUM('11-państw.fund.cel.:90-agencja wykonawcza'!M40) -> 0 | N40: =SUM('11-państw.fund.cel.:90-agencja wykonawcza'!N40) -> 0 | O40: =SUM('11-państw.fund.cel.:90-agencja wykonawcza'!O40) -> 0 | P40: =SUM('11-państw.fund.cel.:90-agencja wykonawcza'!P40) -> 0
A41: 9. przedsiębiorstwa niefinansowe | D41: =SUM('11-państw.fund.cel.:90-agencja wykonawcza'!D41) -> 0 | E41: =SUM('11-państw.fund.cel.:90-agencja wykonawcza'!E41) -> 0 | F41: =SUM('11-państw.fund.cel.:90-agencja wykonawcza'!F41) -> 0 | G41: =SUM('11-państw.fund.cel.:90-agencja wykonawcza'!G41) -> 0 | J41: 9. przedsiębiorstwa niefinansowe | M41: =SUM('11-państw.fund.cel.:90-agencja wykonawcza'!M41) -> 0 | N41: =SUM('11-państw.fund.cel.:90-agencja wykonawcza'!N41) -> 0 | O41: =SUM('11-państw.fund.cel.:90-agencja wykonawcza'!O41) -> 0 | P41: =SUM('11-państw.fund.cel.:90-agencja wykonawcza'!P41) -> 0
A42: 10. gospodarstwa domowe | D42: =SUM('11-państw.fund.cel.:90-agencja wykonawcza'!D42) -> 0 | E42: =SUM('11-państw.fund.cel.:90-agencja wykonawcza'!E42) -> 0 | F42: =SUM('11-państw.fund.cel.:90-agencja wykonawcza'!F42) -> 0 | G42: =SUM('11-państw.fund.cel.:90-agencja wykonawcza'!G42) -> 0 | J42: 10. gospodarstwa domowe | M42: =SUM('11-państw.fund.cel.:90-agencja wykonawcza'!M42) -> 0 | N42: =SUM('11-państw.fund.cel.:90-agencja wykonawcza'!N42) -> 0 | O42: =SUM('11-państw.fund.cel.:90-agencja wykonawcza'!O42) -> 0 | P42: =SUM('11-państw.fund.cel.:90-agencja wykonawcza'!P42) -> 0
A43: 11. instytucje niekomercyjne działające na rzecz gospodarstw domowych | D43: =SUM('11-państw.fund.cel.:90-agencja wykonawcza'!D43) -> 0 | E43: =SUM('11-państw.fund.cel.:90-agencja wykonawcza'!E43) -> 0 | F43: =SUM('11-państw.fund.cel.:90-agencja wykonawcza'!F43) -> 0 | G43: =SUM('11-państw.fund.cel.:90-agencja wykonawcza'!G43) -> 0 | J43: 11. instytucje niekomercyjne działające na rzecz gospodarstw domowych | M43: =SUM('11-państw.fund.cel.:90-agencja wykonawcza'!M43) -> 0 | N43: =SUM('11-państw.fund.cel.:90-agencja wykonawcza'!N43) -> 0 | O43: =SUM('11-państw.fund.cel.:90-agencja wykonawcza'!O43) -> 0 | P43: =SUM('11-państw.fund.cel.:90-agencja wykonawcza'!P43) -> 0
A44: 12. podmioty nalezące do strefy euro | D44: =SUM('11-państw.fund.cel.:90-agencja wykonawcza'!D44) -> 0 | E44: =SUM('11-państw.fund.cel.:90-agencja wykonawcza'!E44) -> 0 | F44: =SUM('11-państw.fund.cel.:90-agencja wykonawcza'!F44) -> 0 | G44: =SUM('11-państw.fund.cel.:90-agencja wykonawcza'!G44) -> 0 | J44: 12. podmioty nalezące do strefy euro | M44: =SUM('11-państw.fund.cel.:90-agencja wykonawcza'!M44) -> 0 | N44: =SUM('11-państw.fund.cel.:90-agencja wykonawcza'!N44) -> 0 | O44: =SUM('11-państw.fund.cel.:90-agencja wykonawcza'!O44) -> 0 | P44: =SUM('11-państw.fund.cel.:90-agencja wykonawcza'!P44) -> 0
A45: 13. pozostałe podmioty zagraniczne | D45: =SUM('11-państw.fund.cel.:90-agencja wykonawcza'!D45) -> 0 | E45: =SUM('11-państw.fund.cel.:90-agencja wykonawcza'!E45) -> 0 | F45: =SUM('11-państw.fund.cel.:90-agencja wykonawcza'!F45) -> 0 | G45: =SUM('11-państw.fund.cel.:90-agencja wykonawcza'!G45) -> 0 | J45: 13. pozostałe podmioty zagraniczne | M45: =SUM('11-państw.fund.cel.:90-agencja wykonawcza'!M45) -> 0 | N45: =SUM('11-państw.fund.cel.:90-agencja wykonawcza'!N45) -> 0 | O45: =SUM('11-państw.fund.cel.:90-agencja wykonawcza'!O45) -> 0 | P45: =SUM('11-państw.fund.cel.:90-agencja wykonawcza'!P45) -> 0
A47: B3. kredyty i pożyczki wg pierwotnego terminu zapadalności - stan na koniec okresu sprawozdawczego | J47: B4. kredyty i pożyczki wg pozostałego terminu zapadalności - stan na koniec okresu sprawozdawczego
A48: (wg wartości nominalnej) | J48: (wg wartości nominalnej)
A50: kredyty i pożyczki | D50: zapadalność w latach | J50: kredyty i pożyczki | M50: zapadalność w latach
A51: wierzyciele | D51: łącznie (kol. 3+4+5) | E51: ( 0;1> | F51: ( 1;5> | G51: pow. 5 | J51: wierzyciele | M51: łącznie (kol. 3+4+5) | N51: ( 0;1> | O51: ( 1;5> | P51: pow. 5
A52: 1 | D52: 2 | E52: 3 | F52: 4 | G52: 5 | J52: 1 | M52: 2 | N52: 3 | O52: 4 | P52: 5
A53: 1. łącznie (w. 2+3+4+5+6+7+8+9+10+11+12+13) | D53: =SUM('11-państw.fund.cel.:90-agencja wykonawcza'!D53) -> 0 | E53: =SUM('11-państw.fund.cel.:90-agencja wykonawcza'!E53) -> 0 | F53: =SUM('11-państw.fund.cel.:90-agencja wykonawcza'!F53) -> 0 | G53: =SUM('11-państw.fund.cel.:90-agencja wykonawcza'!G53) -> 0 | J53: 1. łącznie (w. 2+3+4+5+6+7+8+9+10+11+12+13) | M53: =SUM('11-państw.fund.cel.:90-agencja wykonawcza'!M53) -> 0 | N53: =SUM('11-państw.fund.cel.:90-agencja wykonawcza'!N53) -> 0 | O53: =SUM('11-państw.fund.cel.:90-agencja wykonawcza'!O53) -> 0 | P53: =SUM('11-państw.fund.cel.:90-agencja wykonawcza'!P53) -> 0
A54: 2. grupa I | D54: =SUM('11-państw.fund.cel.:90-agencja wykonawcza'!D54) -> 0 | E54: =SUM('11-państw.fund.cel.:90-agencja wykonawcza'!E54) -> 0 | F54: =SUM('11-państw.fund.cel.:90-agencja wykonawcza'!F54) -> 0 | G54: =SUM('11-państw.fund.cel.:90-agencja wykonawcza'!G54) -> 0 | J54: 2. grupa I | M54: =SUM('11-państw.fund.cel.:90-agencja wykonawcza'!M54) -> 0 | N54: =SUM('11-państw.fund.cel.:90-agencja wykonawcza'!N54) -> 0 | O54: =SUM('11-państw.fund.cel.:90-agencja wykonawcza'!O54) -> 0 | P54: =SUM('11-państw.fund.cel.:90-agencja wykonawcza'!P54) -> 0
A55: 3. grupa II | D55: =SUM('11-państw.fund.cel.:90-agencja wykonawcza'!D55) -> 0 | E55: =SUM('11-państw.fund.cel.:90-agencja wykonawcza'!E55) -> 0 | F55: =SUM('11-państw.fund.cel.:90-agencja wykonawcza'!F55) -> 0 | G55: =SUM('11-państw.fund.cel.:90-agencja wykonawcza'!G55) -> 0 | J55: 3. grupa II | M55: =SUM('11-państw.fund.cel.:90-agencja wykonawcza'!M55) -> 0 | N55: =SUM('11-państw.fund.cel.:90-agencja wykonawcza'!N55) -> 0 | O55: =SUM('11-państw.fund.cel.:90-agencja wykonawcza'!O55) -> 0 | P55: =SUM('11-państw.fund.cel.:90-agencja wykonawcza'!P55) -> 0
A56: 4. grupa III | D56: =SUM('11-państw.fund.cel.:90-agencja wykonawcza'!D56) -> 0 | E56: =SUM('11-państw.fund.cel.:90-agencja wykonawcza'!E56) -> 0 | F56: =SUM('11-państw.fund.cel.:90-agencja wykonawcza'!F56) -> 0 | G56: =SUM('11-państw.fund.cel.:90-agencja wykonawcza'!G56) -> 0 | J56: 4. grupa III | M56: =SUM('11-państw.fund.cel.:90-agencja wykonawcza'!M56) -> 0 | N56: =SUM('11-państw.fund.cel.:90-agencja wykonawcza'!N56) -> 0 | O56: =SUM('11-państw.fund.cel.:90-agencja wykonawcza'!O56) -> 0 | P56: =SUM('11-państw.fund.cel.:90-agencja wykonawcza'!P56) -> 0
A57: 5.grupa IV | D57: =SUM('11-państw.fund.cel.:90-agencja wykonawcza'!D57) -> 0 | E57: =SUM('11-państw.fund.cel.:90-agencja wykonawcza'!E57) -> 0 | F57: =SUM('11-państw.fund.cel.:90-agencja wykonawcza'!F57) -> 0 | G57: =SUM('11-państw.fund.cel.:90-agencja wykonawcza'!G57) -> 0 | J57: 5.grupa IV | M57: =SUM('11-państw.fund.cel.:90-agencja wykonawcza'!M57) -> 0 | N57: =SUM('11-państw.fund.cel.:90-agencja wykonawcza'!N57) -> 0 | O57: =SUM('11-państw.fund.cel.:90-agencja wykonawcza'!O57) -> 0 | P57: =SUM('11-państw.fund.cel.:90-agencja wykonawcza'!P57) -> 0
A58: 6. bank centralny | D58: =SUM('11-państw.fund.cel.:90-agencja wykonawcza'!D58) -> 0 | E58: =SUM('11-państw.fund.cel.:90-agencja wykonawcza'!E58) -> 0 | F58: =SUM('11-państw.fund.cel.:90-agencja wykonawcza'!F58) -> 0 | G58: =SUM('11-państw.fund.cel.:90-agencja wykonawcza'!G58) -> 0 | J58: 6. bank centralny | M58: =SUM('11-państw.fund.cel.:90-agencja wykonawcza'!M58) -> 0 | N58: =SUM('11-państw.fund.cel.:90-agencja wykonawcza'!N58) -> 0 | O58: =SUM('11-państw.fund.cel.:90-agencja wykonawcza'!O58) -> 0 | P58: =SUM('11-państw.fund.cel.:90-agencja wykonawcza'!P58) -> 0
A59: 7. banki | D59: =SUM('11-państw.fund.cel.:90-agencja wykonawcza'!D59) -> 0 | E59: =SUM('11-państw.fund.cel.:90-agencja wykonawcza'!E59) -> 0 | F59: =SUM('11-państw.fund.cel.:90-agencja wykonawcza'!F59) -> 0 | G59: =SUM('11-państw.fund.cel.:90-agencja wykonawcza'!G59) -> 0 | J59: 7. banki | M59: =SUM('11-państw.fund.cel.:90-agencja wykonawcza'!M59) -> 0 | N59: =SUM('11-państw.fund.cel.:90-agencja wykonawcza'!N59) -> 0 | O59: =SUM('11-państw.fund.cel.:90-agencja wykonawcza'!O59) -> 0 | P59: =SUM('11-państw.fund.cel.:90-agencja wykonawcza'!P59) -> 0
A60: 8. pozostałe krajowe instytucje finansowe | D60: =SUM('11-państw.fund.cel.:90-agencja wykonawcza'!D60) -> 0 | E60: =SUM('11-państw.fund.cel.:90-agencja wykonawcza'!E60) -> 0 | F60: =SUM('11-państw.fund.cel.:90-agencja wykonawcza'!F60) -> 0 | G60: =SUM('11-państw.fund.cel.:90-agencja wykonawcza'!G60) -> 0 | J60: 8. pozostałe krajowe instytucje finansowe | M60: =SUM('11-państw.fund.cel.:90-agencja wykonawcza'!M60) -> 0 | N60: =SUM('11-państw.fund.cel.:90-agencja wykonawcza'!N60) -> 0 | O60: =SUM('11-państw.fund.cel.:90-agencja wykonawcza'!O60) -> 0 | P60: =SUM('11-państw.fund.cel.:90-agencja wykonawcza'!P60) -> 0
A61: 9. przedsiębiorstwa niefinansowe | D61: =SUM('11-państw.fund.cel.:90-agencja wykonawcza'!D61) -> 0 | E61: =SUM('11-państw.fund.cel.:90-agencja wykonawcza'!E61) -> 0 | F61: =SUM('11-państw.fund.cel.:90-agencja wykonawcza'!F61) -> 0 | G61: =SUM('11-państw.fund.cel.:90-agencja wykonawcza'!G61) -> 0 | J61: 9. przedsiębiorstwa niefinansowe | M61: =SUM('11-państw.fund.cel.:90-agencja wykonawcza'!M61) -> 0 | N61: =SUM('11-państw.fund.cel.:90-agencja wykonawcza'!N61) -> 0 | O61: =SUM('11-państw.fund.cel.:90-agencja wykonawcza'!O61) -> 0 | P61: =SUM('11-państw.fund.cel.:90-agencja wykonawcza'!P61) -> 0
A62: 10. gospodarstwa domowe | D62: =SUM('11-państw.fund.cel.:90-agencja wykonawcza'!D62) -> 0 | E62: =SUM('11-państw.fund.cel.:90-agencja wykonawcza'!E62) -> 0 | F62: =SUM('11-państw.fund.cel.:90-agencja wykonawcza'!F62) -> 0 | G62: =SUM('11-państw.fund.cel.:90-agencja wykonawcza'!G62) -> 0 | J62: 10. gospodarstwa domowe | M62: =SUM('11-państw.fund.cel.:90-agencja wykonawcza'!M62) -> 0 | N62: =SUM('11-państw.fund.cel.:90-agencja wykonawcza'!N62) -> 0 | O62: =SUM('11-państw.fund.cel.:90-agencja wykonawcza'!O62) -> 0 | P62: =SUM('11-państw.fund.cel.:90-agencja wykonawcza'!P62) -> 0
A63: 11. instytucje niekomercyjne działające na rzecz gospodarstw domowych | D63: =SUM('11-państw.fund.cel.:90-agencja wykonawcza'!D63) -> 0 | E63: =SUM('11-państw.fund.cel.:90-agencja wykonawcza'!E63) -> 0 | F63: =SUM('11-państw.fund.cel.:90-agencja wykonawcza'!F63) -> 0 | G63: =SUM('11-państw.fund.cel.:90-agencja wykonawcza'!G63) -> 0 | J63: 11. instytucje niekomercyjne działające na rzecz gospodarstw domowych | M63: =SUM('11-państw.fund.cel.:90-agencja wykonawcza'!M63) -> 0 | N63: =SUM('11-państw.fund.cel.:90-agencja wykonawcza'!N63) -> 0 | O63: =SUM('11-państw.fund.cel.:90-agencja wykonawcza'!O63) -> 0 | P63: =SUM('11-państw.fund.cel.:90-agencja wykonawcza'!P63) -> 0
A64: 12. podmioty nalezące do strefy euro | D64: =SUM('11-państw.fund.cel.:90-agencja wykonawcza'!D64) -> 0 | E64: =SUM('11-państw.fund.cel.:90-agencja wykonawcza'!E64) -> 0 | F64: =SUM('11-państw.fund.cel.:90-agencja wykonawcza'!F64) -> 0 | G64: =SUM('11-państw.fund.cel.:90-agencja wykonawcza'!G64) -> 0 | J64: 12. podmioty nalezące do strefy euro | M64: =SUM('11-państw.fund.cel.:90-agencja wykonawcza'!M64) -> 0 | N64: =SUM('11-państw.fund.cel.:90-agencja wykonawcza'!N64) -> 0 | O64: =SUM('11-państw.fund.cel.:90-agencja wykonawcza'!O64) -> 0 | P64: =SUM('11-państw.fund.cel.:90-agencja wykonawcza'!P64) -> 0
A65: 13. pozostałe podmioty zagraniczne | D65: =SUM('11-państw.fund.cel.:90-agencja wykonawcza'!D65) -> 0 | E65: =SUM('11-państw.fund.cel.:90-agencja wykonawcza'!E65) -> 0 | F65: =SUM('11-państw.fund.cel.:90-agencja wykonawcza'!F65) -> 0 | G65: =SUM('11-państw.fund.cel.:90-agencja wykonawcza'!G65) -> 0 | J65: 13. pozostałe podmioty zagraniczne | M65: =SUM('11-państw.fund.cel.:90-agencja wykonawcza'!M65) -> 0 | N65: =SUM('11-państw.fund.cel.:90-agencja wykonawcza'!N65) -> 0 | O65: =SUM('11-państw.fund.cel.:90-agencja wykonawcza'!O65) -> 0 | P65: =SUM('11-państw.fund.cel.:90-agencja wykonawcza'!P65) -> 0
A73: . . . . . . . . . . . . . . . . . . . . . . . . . . . . . . . | E73: . . . . . . . . . . . | H73: . . . . . . . . . . . | K73: . . . . . . . . . . . . . . . . .
A74: Główny księgowy / Skarbnik | E74: telefon | H74: rok m-c dzień | K74: Kierownik jednostki (jednostki obsługującej)/ Przewodniczący Zarządu
A75: * Nie dotyczy sprawozdań zbiorczych sporządzanych przez RIO. W przypadku braku głównego księgowego podpisuje tylko kierownik jednostki.
A99: regform | B99: niepusta
A100: ='11-państw.fund.cel.'!A8:B8 -> 320633795 | B100: =ISTEXT(A100) -> TRUE
A101: =#REF! -> #REF! | B101: =ISTEXT(A101) -> FALSE
A102: ='20-państw.szk.wyż.'!A8:B8 -> 320633795 | B102: =ISTEXT(A102) -> TRUE
A103: ='31-instytucje gosp budż'!A8:B8 -> 320633795 | B103: =ISTEXT(A103) -> TRUE
A104: ='41-państw.inst.kult.'!A8:B8 -> 320633795 | B104: =ISTEXT(A104) -> TRUE
A105: ='42-samorz.inst.kult.'!A8:B8 -> 320633795 | B105: =ISTEXT(A105) -> TRUE
A106: ='50-PAN i jedn.tworz.przez PAN'!A8:B8 -> 320633795 | B106: =ISTEXT(A106) -> TRUE
A107: ='73-KRUS'!A8:B8 -> 320633795 | B107: =ISTEXT(A107) -> TRUE
A108: ='61-samodz.publ.ZOZ państw.'!A8:B8 -> 320633795 | B108: =ISTEXT(A108) -> TRUE
A109: ='62-samodz.publ.ZOZ samorz.'!A8:B8 -> 320633795 | B109: =ISTEXT(A109) -> TRUE
A110: ='63-Narodowy Fundusz Zdrowia'!A8:B8 -> 320633795 | B110: =ISTEXT(A110) -> TRUE
A111: ='72-fund.zarz.przez ZUS'!A8:B8 -> 320633795 | B111: =ISTEXT(A111) -> TRUE
A112: ='81-państw.osoba prawna'!A8:B8 -> 320633795 | B112: =ISTEXT(A112) -> TRUE
A113: ='82-samorz.osoba prawna'!A8:B8 -> 320633795 | B113: =ISTEXT(A113) -> TRUE
A114: ='90-agencja wykonawcza'!A8:B8 -> 320633795 | B114: =ISTEXT(A114) -> TRUE
A115: ='71-ZUS'!A8:B8 -> 320633795 | B115: =ISTEXT(A115) -> TRUE
B116: =IF(B100=TRUE,A100,IF(B101=TRUE,A101,IF(B102=TRUE,A102,IF(B103=TRUE,A103,IF(B104=TRUE,A104,IF(B105=TRUE,A105,IF(B106=TRUE,A106,IF(B107=TRUE,A107,"brak regonu")))))))) -> 320633795
B117: =IF(B108=TRUE,A108,IF(B109=TRUE,A109,IF(B110=TRUE,A110,IF(B111=TRUE,A111,IF(B112=TRUE,A112,IF(B113=TRUE,A113,IF(B114=TRUE,A114,IF(B115=TRUE,A115,"brak regonu")))))))) -> 320633795
B120: nazwy
A121: ='11-państw.fund.cel.'!A3:B3 -> 0 | B121: =ISTEXT(A121) -> FALSE
A122: =#REF! -> #REF! | B122: =ISTEXT(A122) -> FALSE
A123: ='20-państw.szk.wyż.'!A3:B3 -> 0 | B123: =ISTEXT(A123) -> FALSE
A124: ='31-instytucje gosp budż'!A3:B3 -> 0 | B124: =ISTEXT(A124) -> FALSE
A125: ='41-państw.inst.kult.'!A3:B3 -> 0 | B125: =ISTEXT(A125) -> FALSE
A126: ='42-samorz.inst.kult.'!A3:B3 -> Gminna Biblioteka Publiczna w Grzmiącej | B126: =ISTEXT(A126) -> TRUE
A127: ='50-PAN i jedn.tworz.przez PAN'!A3:B3 -> 0 | B127: =ISTEXT(A127) -> FALSE
A128: ='71-ZUS'!A3:B3 -> 0 | B128: =ISTEXT(A128) -> FALSE
A129: ='61-samodz.publ.ZOZ państw.'!A3:B3 -> 0 | B129: =ISTEXT(A129) -> FALSE
A130: ='62-samodz.publ.ZOZ samorz.'!A3:B3 -> 0 | B130: =ISTEXT(A130) -> FALSE
A131: ='63-Narodowy Fundusz Zdrowia'!A3:B3 -> 0 | B131: =ISTEXT(A131) -> FALSE
A132: ='72-fund.zarz.przez ZUS'!A3:B3 -> 0 | B132: =ISTEXT(A132) -> FALSE
A133: ='81-państw.osoba prawna'!A3:B3 -> 0 | B133: =ISTEXT(A133) -> FALSE
A134: ='82-samorz.osoba prawna'!A3:B3 -> 0 | B134: =ISTEXT(A134) -> FALSE
A135: ='90-agencja wykonawcza'!A3:B3 -> 0 | B135: =ISTEXT(A135) -> FALSE
A136: ='73-KRUS'!A3:B3 -> 0 | B136: =ISTEXT(A136) -> FALSE
B137: =IF(B121=TRUE,A121,IF(B122=TRUE,A122,IF(B123=TRUE,A123,IF(B124=TRUE,A124,IF(B125=TRUE,A125,IF(B126=TRUE,A126,IF(B127=TRUE,A127,IF(B128=TRUE,A128,"brak nazwy")))))))) -> Gminna Biblioteka Publiczna w Grzmiącej
B138: =IF(B129=TRUE,A129,IF(B130=TRUE,A130,IF(B131=TRUE,A131,IF(B132=TRUE,A132,IF(B133=TRUE,A133,IF(B134=TRUE,A134,IF(B135=TRUE,A135,IF(B136=TRUE,A136,"brak nazwy")))))))) -> brak nazwy

Sheet RBUZA
A1: REGON | B1: WK | C1: PK | D1: GK | E1: GT | F1: PT | G1: ROK | H1: KWARTAL | I1: CZ_BU | J1: DAT_SKW | K1: UWAGI | L1: A1002 | M1: A1003 | N1: A1004 | O1: A1005 | P1: A1006 | Q1: A1007 | R1: A1008 | S1: A1102 | T1: A1103 | U1: A1104 | V1: A1105 | W1: A1106 | X1: A1107 | Y1: A1108 | Z1: A1202 | AA1: A1203 | AB1: A1204 | AC1: A1205 | AD1: A1206 | AE1: A1207 | AF1: A1208 | AG1: A1302 | AH1: A1303 | AI1: A1304 | AJ1: A1305 | AK1: A1306 | AL1: A1307 | AM1: A1308 | AN1: A1402 | AO1: A1403 | AP1: A1404 | AQ1: A1405 | AR1: A1406 | AS1: A1407 | AT1: A1408
A2: ='11-państw.fund.cel.'!A8 -> 320633795 | F2: ='11-państw.fund.cel.'!L11 -> 11 | G2: ='11-państw.fund.cel.'!K8 -> 2022 | H2: ='11-państw.fund.cel.'!H8 -> 4 | I2: ='11-państw.fund.cel.'!M11 -> 0 | L2: ='11-państw.fund.cel.'!C19 -> 0 | M2: ='11-państw.fund.cel.'!D19 -> 0 | N2: ='11-państw.fund.cel.'!E19 -> 0 | O2: ='11-państw.fund.cel.'!F19 -> 0 | P2: ='11-państw.fund.cel.'!G19 -> 0 | Q2: ='11-państw.fund.cel.'!H19 -> 0 | R2: ='11-państw.fund.cel.'!I19 -> 0 | S2: ='11-państw.fund.cel.'!C20 -> 0 | T2: ='11-państw.fund.cel.'!D20 -> 0 | U2: ='11-państw.fund.cel.'!E20 -> 0 | V2: ='11-państw.fund.cel.'!F20 -> 0 | W2: ='11-państw.fund.cel.'!G20 -> 0 | X2: ='11-państw.fund.cel.'!H20 -> 0 | Y2: ='11-państw.fund.cel.'!I20 -> 0 | Z2: ='11-państw.fund.cel.'!C21 -> 0 | AA2: ='11-państw.fund.cel.'!D21 -> 0 | AB2: ='11-państw.fund.cel.'!E21 -> 0 | AC2: ='11-państw.fund.cel.'!F21 -> 0 | AD2: ='11-państw.fund.cel.'!G21 -> 0 | AE2: ='11-państw.fund.cel.'!H21 -> 0 | AF2: ='11-państw.fund.cel.'!I21 -> 0 | AG2: ='11-państw.fund.cel.'!C22 -> 0 | AH2: ='11-państw.fund.cel.'!D22 -> 0 | AI2: ='11-państw.fund.cel.'!E22 -> 0 | AJ2: ='11-państw.fund.cel.'!F22 -> 0 | AK2: ='11-państw.fund.cel.'!G22 -> 0 | AL2: ='11-państw.fund.cel.'!H22 -> 0 | AM2: ='11-państw.fund.cel.'!I22 -> 0 | AN2: ='11-państw.fund.cel.'!C23 -> 0 | AO2: ='11-państw.fund.cel.'!D23 -> 0 | AP2: ='11-państw.fund.cel.'!E23 -> 0 | AQ2: ='11-państw.fund.cel.'!F23 -> 0 | AR2: ='11-państw.fund.cel.'!G23 -> 0 | AS2: ='11-państw.fund.cel.'!H23 -> 0 | AT2: ='11-państw.fund.cel.'!I23 -> 0
A3: ='20-państw.szk.wyż.'!A8 -> 320633795 | F3: ='20-państw.szk.wyż.'!L11 -> 20 | G3: ='20-państw.szk.wyż.'!K8 -> 2022 | H3: ='20-państw.szk.wyż.'!H8 -> 4 | I3: ='20-państw.szk.wyż.'!M11 -> 0 | L3: ='20-państw.szk.wyż.'!C19 -> 0 | M3: ='20-państw.szk.wyż.'!D19 -> 0 | N3: ='20-państw.szk.wyż.'!E19 -> 0 | O3: ='20-państw.szk.wyż.'!F19 -> 0 | P3: ='20-państw.szk.wyż.'!G19 -> 0 | Q3: ='20-państw.szk.wyż.'!H19 -> 0 | R3: ='20-państw.szk.wyż.'!I19 -> 0 | S3: ='20-państw.szk.wyż.'!C20 -> 0 | T3: ='20-państw.szk.wyż.'!D20 -> 0 | U3: ='20-państw.szk.wyż.'!E20 -> 0 | V3: ='20-państw.szk.wyż.'!F20 -> 0 | W3: ='20-państw.szk.wyż.'!G20 -> 0 | X3: ='20-państw.szk.wyż.'!H20 -> 0 | Y3: ='20-państw.szk.wyż.'!I20 -> 0 | Z3: ='20-państw.szk.wyż.'!C21 -> 0 | AA3: ='20-państw.szk.wyż.'!D21 -> 0 | AB3: ='20-państw.szk.wyż.'!E21 -> 0 | AC3: ='20-państw.szk.wyż.'!F21 -> 0 | AD3: ='20-państw.szk.wyż.'!G21 -> 0 | AE3: ='20-państw.szk.wyż.'!H21 -> 0 | AF3: ='20-państw.szk.wyż.'!I21 -> 0 | AG3: ='20-państw.szk.wyż.'!C22 -> 0 | AH3: ='20-państw.szk.wyż.'!D22 -> 0 | AI3: ='20-państw.szk.wyż.'!E22 -> 0 | AJ3: ='20-państw.szk.wyż.'!F22 -> 0 | AK3: ='20-państw.szk.wyż.'!G22 -> 0 | AL3: ='20-państw.szk.wyż.'!H22 -> 0 | AM3: ='20-państw.szk.wyż.'!I22 -> 0 | AN3: ='20-państw.szk.wyż.'!C23 -> 0 | AO3: ='20-państw.szk.wyż.'!D23 -> 0 | AP3: ='20-państw.szk.wyż.'!E23 -> 0 | AQ3: ='20-państw.szk.wyż.'!F23 -> 0 | AR3: ='20-państw.szk.wyż.'!G23 -> 0 | AS3: ='20-państw.szk.wyż.'!H23 -> 0 | AT3: ='20-państw.szk.wyż.'!I23 -> 0
A4: ='31-instytucje gosp budż'!A8 -> 320633795 | F4: ='31-instytucje gosp budż'!L11 -> 31 | G4: ='31-instytucje gosp budż'!K8 -> 2022 | H4: ='31-instytucje gosp budż'!H8 -> 4 | I4: ='31-instytucje gosp budż'!M11 -> 0 | L4: ='31-instytucje gosp budż'!C19 -> 0 | M4: ='31-instytucje gosp budż'!D19 -> 0 | N4: ='31-instytucje gosp budż'!E19 -> 0 | O4: ='31-instytucje gosp budż'!F19 -> 0 | P4: ='31-instytucje gosp budż'!G19 -> 0 | Q4: ='31-instytucje gosp budż'!H19 -> 0 | R4: ='31-instytucje gosp budż'!I19 -> 0 | S4: ='31-instytucje gosp budż'!C20 -> 0 | T4: ='31-instytucje gosp budż'!D20 -> 0 | U4: ='31-instytucje gosp budż'!E20 -> 0 | V4: ='31-instytucje gosp budż'!F20 -> 0 | W4: ='31-instytucje gosp budż'!G20 -> 0 | X4: ='31-instytucje gosp budż'!H20 -> 0 | Y4: ='31-instytucje gosp budż'!I20 -> 0 | Z4: ='31-instytucje gosp budż'!C21 -> 0 | AA4: ='31-instytucje gosp budż'!D21 -> 0 | AB4: ='31-instytucje gosp budż'!E21 -> 0 | AC4: ='31-instytucje gosp budż'!F21 -> 0 | AD4: ='31-instytucje gosp budż'!G21 -> 0 | AE4: ='31-instytucje gosp budż'!H21 -> 0 | AF4: ='31-instytucje gosp budż'!I21 -> 0 | AG4: ='31-instytucje gosp budż'!C22 -> 0 | AH4: ='31-instytucje gosp budż'!D22 -> 0 | AI4: ='31-instytucje gosp budż'!E22 -> 0 | AJ4: ='31-instytucje gosp budż'!F22 -> 0 | AK4: ='31-instytucje gosp budż'!G22 -> 0 | AL4: ='31-instytucje gosp budż'!H22 -> 0 | AM4: ='31-instytucje gosp budż'!I22 -> 0 | AN4: ='31-instytucje gosp budż'!C23 -> 0 | AO4: ='31-instytucje gosp budż'!D23 -> 0 | AP4: ='31-instytucje gosp budż'!E23 -> 0 | AQ4: ='31-instytucje gosp budż'!F23 -> 0 | AR4: ='31-instytucje gosp budż'!G23 -> 0 | AS4: ='31-instytucje gosp budż'!H23 -> 0 | AT4: ='31-instytucje gosp budż'!I23 -> 0
A5: ='41-państw.inst.kult.'!A8 -> 320633795 | F5: ='41-państw.inst.kult.'!L11 -> 41 | G5: ='41-państw.inst.kult.'!K8 -> 2022 | H5: ='41-państw.inst.kult.'!H8 -> 4 | I5: ='41-państw.inst.kult.'!M11 -> 0 | L5: ='41-państw.inst.kult.'!C19 -> 0 | M5: ='41-państw.inst.kult.'!D19 -> 0 | N5: ='41-państw.inst.kult.'!E19 -> 0 | O5: ='41-państw.inst.kult.'!F19 -> 0 | P5: ='41-państw.inst.kult.'!G19 -> 0 | Q5: ='41-państw.inst.kult.'!H19 -> 0 | R5: ='41-państw.inst.kult.'!I19 -> 0 | S5: ='41-państw.inst.kult.'!C20 -> 0 | T5: ='41-państw.inst.kult.'!D20 -> 0 | U5: ='41-państw.inst.kult.'!E20 -> 0 | V5: ='41-państw.inst.kult.'!F20 -> 0 | W5: ='41-państw.inst.kult.'!G20 -> 0 | X5: ='41-państw.inst.kult.'!H20 -> 0 | Y5: ='41-państw.inst.kult.'!I20 -> 0 | Z5: ='41-państw.inst.kult.'!C21 -> 0 | AA5: ='41-państw.inst.kult.'!D21 -> 0 | AB5: ='41-państw.inst.kult.'!E21 -> 0 | AC5: ='41-państw.inst.kult.'!F21 -> 0 | AD5: ='41-państw.inst.kult.'!G21 -> 0 | AE5: ='41-państw.inst.kult.'!H21 -> 0 | AF5: ='41-państw.inst.kult.'!I21 -> 0 | AG5: ='41-państw.inst.kult.'!C22 -> 0 | AH5: ='41-państw.inst.kult.'!D22 -> 0 | AI5: ='41-państw.inst.kult.'!E22 -> 0 | AJ5: ='41-państw.inst.kult.'!F22 -> 0 | AK5: ='41-państw.inst.kult.'!G22 -> 0 | AL5: ='41-państw.inst.kult.'!H22 -> 0 | AM5: ='41-państw.inst.kult.'!I22 -> 0 | AN5: ='41-państw.inst.kult.'!C23 -> 0 | AO5: ='41-państw.inst.kult.'!D23 -> 0 | AP5: ='41-państw.inst.kult.'!E23 -> 0 | AQ5: ='41-państw.inst.kult.'!F23 -> 0 | AR5: ='41-państw.inst.kult.'!G23 -> 0 | AS5: ='41-państw.inst.kult.'!H23 -> 0 | AT5: ='41-państw.inst.kult.'!I23 -> 0
A6: ='42-samorz.inst.kult.'!A8 -> 320633795 | F6: ='42-samorz.inst.kult.'!L11 -> 42 | G6: ='42-samorz.inst.kult.'!K8 -> 2023 | H6: ='42-samorz.inst.kult.'!H8 -> 4 | I6: ='42-samorz.inst.kult.'!M11 -> 0 | L6: ='42-samorz.inst.kult.'!C19 -> 0 | M6: ='42-samorz.inst.kult.'!D19 -> 0 | N6: ='42-samorz.inst.kult.'!E19 -> 0 | O6: ='42-samorz.inst.kult.'!F19 -> 0 | P6: ='42-samorz.inst.kult.'!G19 -> 0 | Q6: ='42-samorz.inst.kult.'!H19 -> 0 | R6: ='42-samorz.inst.kult.'!I19 -> 0 | S6: ='42-samorz.inst.kult.'!C20 -> 0 | T6: ='42-samorz.inst.kult.'!D20 -> 0 | U6: ='42-samorz.inst.kult.'!E20 -> 0 | V6: ='42-samorz.inst.kult.'!F20 -> 0 | W6: ='42-samorz.inst.kult.'!G20 -> 0 | X6: ='42-samorz.inst.kult.'!H20 -> 0 | Y6: ='42-samorz.inst.kult.'!I20 -> 0 | Z6: ='42-samorz.inst.kult.'!C21 -> 0 | AA6: ='42-samorz.inst.kult.'!D21 -> 0 | AB6: ='42-samorz.inst.kult.'!E21 -> 0 | AC6: ='42-samorz.inst.kult.'!F21 -> 0 | AD6: ='42-samorz.inst.kult.'!G21 -> 0 | AE6: ='42-samorz.inst.kult.'!H21 -> 0 | AF6: ='42-samorz.inst.kult.'!I21 -> 0 | AG6: ='42-samorz.inst.kult.'!C22 -> 0 | AH6: ='42-samorz.inst.kult.'!D22 -> 0 | AI6: ='42-samorz.inst.kult.'!E22 -> 0 | AJ6: ='42-samorz.inst.kult.'!F22 -> 0 | AK6: ='42-samorz.inst.kult.'!G22 -> 0 | AL6: ='42-samorz.inst.kult.'!H22 -> 0 | AM6: ='42-samorz.inst.kult.'!I22 -> 0 | AN6: ='42-samorz.inst.kult.'!C23 -> 0 | AO6: ='42-samorz.inst.kult.'!D23 -> 0 | AP6: ='42-samorz.inst.kult.'!E23 -> 0 | AQ6: ='42-samorz.inst.kult.'!F23 -> 0 | AR6: ='42-samorz.inst.kult.'!G23 -> 0 | AS6: ='42-samorz.inst.kult.'!H23 -> 0 | AT6: ='42-samorz.inst.kult.'!I23 -> 0
A7: ='50-PAN i jedn.tworz.przez PAN'!A8 -> 320633795 | F7: ='50-PAN i jedn.tworz.przez PAN'!L11 -> 50 | G7: ='50-PAN i jedn.tworz.przez PAN'!K8 -> 2022 | H7: ='50-PAN i jedn.tworz.przez PAN'!H8 -> 4 | I7: ='50-PAN i jedn.tworz.przez PAN'!M11 -> 0 | L7: ='50-PAN i jedn.tworz.przez PAN'!C19 -> 0 | M7: ='50-PAN i jedn.tworz.przez PAN'!D19 -> 0 | N7: ='50-PAN i jedn.tworz.przez PAN'!E19 -> 0 | O7: ='50-PAN i jedn.tworz.przez PAN'!F19 -> 0 | P7: ='50-PAN i jedn.tworz.przez PAN'!G19 -> 0 | Q7: ='50-PAN i jedn.tworz.przez PAN'!H19 -> 0 | R7: ='50-PAN i jedn.tworz.przez PAN'!I19 -> 0 | S7: ='50-PAN i jedn.tworz.przez PAN'!C20 -> 0 | T7: ='50-PAN i jedn.tworz.przez PAN'!D20 -> 0 | U7: ='50-PAN i jedn.tworz.przez PAN'!E20 -> 0 | V7: ='50-PAN i jedn.tworz.przez PAN'!F20 -> 0 | W7: ='50-PAN i jedn.tworz.przez PAN'!G20 -> 0 | X7: ='50-PAN i jedn.tworz.przez PAN'!H20 -> 0 | Y7: ='50-PAN i jedn.tworz.przez PAN'!I20 -> 0 | Z7: ='50-PAN i jedn.tworz.przez PAN'!C21 -> 0 | AA7: ='50-PAN i jedn.tworz.przez PAN'!D21 -> 0 | AB7: ='50-PAN i jedn.tworz.przez PAN'!E21 -> 0 | AC7: ='50-PAN i jedn.tworz.przez PAN'!F21 -> 0 | AD7: ='50-PAN i jedn.tworz.przez PAN'!G21 -> 0 | AE7: ='50-PAN i jedn.tworz.przez PAN'!H21 -> 0 | AF7: ='50-PAN i jedn.tworz.przez PAN'!I21 -> 0 | AG7: ='50-PAN i jedn.tworz.przez PAN'!C22 -> 0 | AH7: ='50-PAN i jedn.tworz.przez PAN'!D22 -> 0 | AI7: ='50-PAN i jedn.tworz.przez PAN'!E22 -> 0 | AJ7: ='50-PAN i jedn.tworz.przez PAN'!F22 -> 0 | AK7: ='50-PAN i jedn.tworz.przez PAN'!G22 -> 0 | AL7: ='50-PAN i jedn.tworz.przez PAN'!H22 -> 0 | AM7: ='50-PAN i jedn.tworz.przez PAN'!I22 -> 0 | AN7: ='50-PAN i jedn.tworz.przez PAN'!C23 -> 0 | AO7: ='50-PAN i jedn.tworz.przez PAN'!D23 -> 0 | AP7: ='50-PAN i jedn.tworz.przez PAN'!E23 -> 0 | AQ7: ='50-PAN i jedn.tworz.przez PAN'!F23 -> 0 | AR7: ='50-PAN i jedn.tworz.przez PAN'!G23 -> 0 | AS7: ='50-PAN i jedn.tworz.przez PAN'!H23 -> 0 | AT7: ='50-PAN i jedn.tworz.przez PAN'!I23 -> 0
A8: ='61-samodz.publ.ZOZ państw.'!A8 -> 320633795 | F8: ='61-samodz.publ.ZOZ państw.'!L11 -> 61 | G8: ='61-samodz.publ.ZOZ państw.'!K8 -> 2022 | H8: ='61-samodz.publ.ZOZ państw.'!H8 -> 4 | I8: ='61-samodz.publ.ZOZ państw.'!M11 -> 0 | L8: ='61-samodz.publ.ZOZ państw.'!C19 -> 0 | M8: ='61-samodz.publ.ZOZ państw.'!D19 -> 0 | N8: ='61-samodz.publ.ZOZ państw.'!E19 -> 0 | O8: ='61-samodz.publ.ZOZ państw.'!F19 -> 0 | P8: ='61-samodz.publ.ZOZ państw.'!G19 -> 0 | Q8: ='61-samodz.publ.ZOZ państw.'!H19 -> 0 | R8: ='61-samodz.publ.ZOZ państw.'!I19 -> 0 | S8: ='61-samodz.publ.ZOZ państw.'!C20 -> 0 | T8: ='61-samodz.publ.ZOZ państw.'!D20 -> 0 | U8: ='61-samodz.publ.ZOZ państw.'!E20 -> 0 | V8: ='61-samodz.publ.ZOZ państw.'!F20 -> 0 | W8: ='61-samodz.publ.ZOZ państw.'!G20 -> 0 | X8: ='61-samodz.publ.ZOZ państw.'!H20 -> 0 | Y8: ='61-samodz.publ.ZOZ państw.'!I20 -> 0 | Z8: ='61-samodz.publ.ZOZ państw.'!C21 -> 0 | AA8: ='61-samodz.publ.ZOZ państw.'!D21 -> 0 | AB8: ='61-samodz.publ.ZOZ państw.'!E21 -> 0 | AC8: ='61-samodz.publ.ZOZ państw.'!F21 -> 0 | AD8: ='61-samodz.publ.ZOZ państw.'!G21 -> 0 | AE8: ='61-samodz.publ.ZOZ państw.'!H21 -> 0 | AF8: ='61-samodz.publ.ZOZ państw.'!I21 -> 0 | AG8: ='61-samodz.publ.ZOZ państw.'!C22 -> 0 | AH8: ='61-samodz.publ.ZOZ państw.'!D22 -> 0 | AI8: ='61-samodz.publ.ZOZ państw.'!E22 -> 0 | AJ8: ='61-samodz.publ.ZOZ państw.'!F22 -> 0 | AK8: ='61-samodz.publ.ZOZ państw.'!G22 -> 0 | AL8: ='61-samodz.publ.ZOZ państw.'!H22 -> 0 | AM8: ='61-samodz.publ.ZOZ państw.'!I22 -> 0 | AN8: ='61-samodz.publ.ZOZ państw.'!C23 -> 0 | AO8: ='61-samodz.publ.ZOZ państw.'!D23 -> 0 | AP8: ='61-samodz.publ.ZOZ państw.'!E23 -> 0 | AQ8: ='61-samodz.publ.ZOZ państw.'!F23 -> 0 | AR8: ='61-samodz.publ.ZOZ państw.'!G23 -> 0 | AS8: ='61-samodz.publ.ZOZ państw.'!H23 -> 0 | AT8: ='61-samodz.publ.ZOZ państw.'!I23 -> 0
A9: ='62-samodz.publ.ZOZ samorz.'!A8 -> 320633795 | F9: ='62-samodz.publ.ZOZ samorz.'!L11 -> 62 | G9: ='62-samodz.publ.ZOZ samorz.'!K8 -> 2022 | H9: ='62-samodz.publ.ZOZ samorz.'!H8 -> 4 | I9: ='62-samodz.publ.ZOZ samorz.'!M11 -> 0 | L9: ='62-samodz.publ.ZOZ samorz.'!C19 -> 0 | M9: ='62-samodz.publ.ZOZ samorz.'!D19 -> 0 | N9: ='62-samodz.publ.ZOZ samorz.'!E19 -> 0 | O9: ='62-samodz.publ.ZOZ samorz.'!F19 -> 0 | P9: ='62-samodz.publ.ZOZ samorz.'!G19 -> 0 | Q9: ='62-samodz.publ.ZOZ samorz.'!H19 -> 0 | R9: ='62-samodz.publ.ZOZ samorz.'!I19 -> 0 | S9: ='62-samodz.publ.ZOZ samorz.'!C20 -> 0 | T9: ='62-samodz.publ.ZOZ samorz.'!D20 -> 0 | U9: ='62-samodz.publ.ZOZ samorz.'!E20 -> 0 | V9: ='62-samodz.publ.ZOZ samorz.'!F20 -> 0 | W9: ='62-samodz.publ.ZOZ samorz.'!G20 -> 0 | X9: ='62-samodz.publ.ZOZ samorz.'!H20 -> 0 | Y9: ='62-samodz.publ.ZOZ samorz.'!I20 -> 0 | Z9: ='62-samodz.publ.ZOZ samorz.'!C21 -> 0 | AA9: ='62-samodz.publ.ZOZ samorz.'!D21 -> 0 | AB9: ='62-samodz.publ.ZOZ samorz.'!E21 -> 0 | AC9: ='62-samodz.publ.ZOZ samorz.'!F21 -> 0 | AD9: ='62-samodz.publ.ZOZ samorz.'!G21 -> 0 | AE9: ='62-samodz.publ.ZOZ samorz.'!H21 -> 0 | AF9: ='62-samodz.publ.ZOZ samorz.'!I21 -> 0 | AG9: ='62-samodz.publ.ZOZ samorz.'!C22 -> 0 | AH9: ='62-samodz.publ.ZOZ samorz.'!D22 -> 0 | AI9: ='62-samodz.publ.ZOZ samorz.'!E22 -> 0 | AJ9: ='62-samodz.publ.ZOZ samorz.'!F22 -> 0 | AK9: ='62-samodz.publ.ZOZ samorz.'!G22 -> 0 | AL9: ='62-samodz.publ.ZOZ samorz.'!H22 -> 0 | AM9: ='62-samodz.publ.ZOZ samorz.'!I22 -> 0 | AN9: ='62-samodz.publ.ZOZ samorz.'!C23 -> 0 | AO9: ='62-samodz.publ.ZOZ samorz.'!D23 -> 0 | AP9: ='62-samodz.publ.ZOZ samorz.'!E23 -> 0 | AQ9: ='62-samodz.publ.ZOZ samorz.'!F23 -> 0 | AR9: ='62-samodz.publ.ZOZ samorz.'!G23 -> 0 | AS9: ='62-samodz.publ.ZOZ samorz.'!H23 -> 0 | AT9: ='62-samodz.publ.ZOZ samorz.'!I23 -> 0
A10: ='63-Narodowy Fundusz Zdrowia'!A8 -> 320633795 | F10: ='63-Narodowy Fundusz Zdrowia'!L11 -> 63 | G10: ='63-Narodowy Fundusz Zdrowia'!K8 -> 2022 | H10: ='63-Narodowy Fundusz Zdrowia'!H8 -> 4 | I10: ='63-Narodowy Fundusz Zdrowia'!M11 -> 0 | L10: ='63-Narodowy Fundusz Zdrowia'!C19 -> 0 | M10: ='63-Narodowy Fundusz Zdrowia'!D19 -> 0 | N10: ='63-Narodowy Fundusz Zdrowia'!E19 -> 0 | O10: ='63-Narodowy Fundusz Zdrowia'!F19 -> 0 | P10: ='63-Narodowy Fundusz Zdrowia'!G19 -> 0 | Q10: ='63-Narodowy Fundusz Zdrowia'!H19 -> 0 | R10: ='63-Narodowy Fundusz Zdrowia'!I19 -> 0 | S10: ='63-Narodowy Fundusz Zdrowia'!C20 -> 0 | T10: ='63-Narodowy Fundusz Zdrowia'!D20 -> 0 | U10: ='63-Narodowy Fundusz Zdrowia'!E20 -> 0 | V10: ='63-Narodowy Fundusz Zdrowia'!F20 -> 0 | W10: ='63-Narodowy Fundusz Zdrowia'!G20 -> 0 | X10: ='63-Narodowy Fundusz Zdrowia'!H20 -> 0 | Y10: ='63-Narodowy Fundusz Zdrowia'!I20 -> 0 | Z10: ='63-Narodowy Fundusz Zdrowia'!C21 -> 0 | AA10: ='63-Narodowy Fundusz Zdrowia'!D21 -> 0 | AB10: ='63-Narodowy Fundusz Zdrowia'!E21 -> 0 | AC10: ='63-Narodowy Fundusz Zdrowia'!F21 -> 0 | AD10: ='63-Narodowy Fundusz Zdrowia'!G21 -> 0 | AE10: ='63-Narodowy Fundusz Zdrowia'!H21 -> 0 | AF10: ='63-Narodowy Fundusz Zdrowia'!I21 -> 0 | AG10: ='63-Narodowy Fundusz Zdrowia'!C22 -> 0 | AH10: ='63-Narodowy Fundusz Zdrowia'!D22 -> 0 | AI10: ='63-Narodowy Fundusz Zdrowia'!E22 -> 0 | AJ10: ='63-Narodowy Fundusz Zdrowia'!F22 -> 0 | AK10: ='63-Narodowy Fundusz Zdrowia'!G22 -> 0 | AL10: ='63-Narodowy Fundusz Zdrowia'!H22 -> 0 | AM10: ='63-Narodowy Fundusz Zdrowia'!I22 -> 0 | AN10: ='63-Narodowy Fundusz Zdrowia'!C23 -> 0 | AO10: ='63-Narodowy Fundusz Zdrowia'!D23 -> 0 | AP10: ='63-Narodowy Fundusz Zdrowia'!E23 -> 0 | AQ10: ='63-Narodowy Fundusz Zdrowia'!F23 -> 0 | AR10: ='63-Narodowy Fundusz Zdrowia'!G23 -> 0 | AS10: ='63-Narodowy Fundusz Zdrowia'!H23 -> 0 | AT10: ='63-Narodowy Fundusz Zdrowia'!I23 -> 0
A11: ='71-ZUS'!A8 -> 320633795 | F11: ='71-ZUS'!L11 -> 71 | G11: ='71-ZUS'!K8 -> 2022 | H11: ='71-ZUS'!H8 -> 4 | I11: ='71-ZUS'!M11 -> 0 | L11: ='71-ZUS'!C19 -> 0 | M11: ='71-ZUS'!D19 -> 0 | N11: ='71-ZUS'!E19 -> 0 | O11: ='71-ZUS'!F19 -> 0 | P11: ='71-ZUS'!G19 -> 0 | Q11: ='71-ZUS'!H19 -> 0 | R11: ='71-ZUS'!I19 -> 0 | S11: ='71-ZUS'!C20 -> 0 | T11: ='71-ZUS'!D20 -> 0 | U11: ='71-ZUS'!E20 -> 0 | V11: ='71-ZUS'!F20 -> 0 | W11: ='71-ZUS'!G20 -> 0 | X11: ='71-ZUS'!H20 -> 0 | Y11: ='71-ZUS'!I20 -> 0 | Z11: ='71-ZUS'!C21 -> 0 | AA11: ='71-ZUS'!D21 -> 0 | AB11: ='71-ZUS'!E21 -> 0 | AC11: ='71-ZUS'!F21 -> 0 | AD11: ='71-ZUS'!G21 -> 0 | AE11: ='71-ZUS'!H21 -> 0 | AF11: ='71-ZUS'!I21 -> 0 | AG11: ='71-ZUS'!C22 -> 0 | AH11: ='71-ZUS'!D22 -> 0 | AI11: ='71-ZUS'!E22 -> 0 | AJ11: ='71-ZUS'!F22 -> 0 | AK11: ='71-ZUS'!G22 -> 0 | AL11: ='71-ZUS'!H22 -> 0 | AM11: ='71-ZUS'!I22 -> 0 | AN11: ='71-ZUS'!C23 -> 0 | AO11: ='71-ZUS'!D23 -> 0 | AP11: ='71-ZUS'!E23 -> 0 | AQ11: ='71-ZUS'!F23 -> 0 | AR11: ='71-ZUS'!G23 -> 0 | AS11: ='71-ZUS'!H23 -> 0 | AT11: ='71-ZUS'!I23 -> 0
A12: ='72-fund.zarz.przez ZUS'!A8:B8 -> 320633795 | F12: ='72-fund.zarz.przez ZUS'!L11 -> 72 | G12: ='72-fund.zarz.przez ZUS'!K8 -> 2022 | H12: ='72-fund.zarz.przez ZUS'!H8 -> 4 | I12: ='72-fund.zarz.przez ZUS'!M11 -> 0 | L12: ='72-fund.zarz.przez ZUS'!C19 -> 0 | M12: ='72-fund.zarz.przez ZUS'!D19 -> 0 | N12: ='72-fund.zarz.przez ZUS'!E19 -> 0 | O12: ='72-fund.zarz.przez ZUS'!F19 -> 0 | P12: ='72-fund.zarz.przez ZUS'!G19 -> 0 | Q12: ='72-fund.zarz.przez ZUS'!H19 -> 0 | R12: ='72-fund.zarz.przez ZUS'!I19 -> 0 | S12: ='72-fund.zarz.przez ZUS'!C20 -> 0 | T12: ='72-fund.zarz.przez ZUS'!D20 -> 0 | U12: ='72-fund.zarz.przez ZUS'!E20 -> 0 | V12: ='72-fund.zarz.przez ZUS'!F20 -> 0 | W12: ='72-fund.zarz.przez ZUS'!G20 -> 0 | X12: ='72-fund.zarz.przez ZUS'!H20 -> 0 | Y12: ='72-fund.zarz.przez ZUS'!I20 -> 0 | Z12: ='72-fund.zarz.przez ZUS'!C21 -> 0 | AA12: ='72-fund.zarz.przez ZUS'!D21 -> 0 | AB12: ='72-fund.zarz.przez ZUS'!E21 -> 0 | AC12: ='72-fund.zarz.przez ZUS'!F21 -> 0 | AD12: ='72-fund.zarz.przez ZUS'!G21 -> 0 | AE12: ='72-fund.zarz.przez ZUS'!H21 -> 0 | AF12: ='72-fund.zarz.przez ZUS'!I21 -> 0 | AG12: ='72-fund.zarz.przez ZUS'!C22 -> 0 | AH12: ='72-fund.zarz.przez ZUS'!D22 -> 0 | AI12: ='72-fund.zarz.przez ZUS'!E22 -> 0 | AJ12: ='72-fund.zarz.przez ZUS'!F22 -> 0 | AK12: ='72-fund.zarz.przez ZUS'!G22 -> 0 | AL12: ='72-fund.zarz.przez ZUS'!H22 -> 0 | AM12: ='72-fund.zarz.przez ZUS'!I22 -> 0 | AN12: ='72-fund.zarz.przez ZUS'!C23 -> 0 | AO12: ='72-fund.zarz.przez ZUS'!D23 -> 0 | AP12: ='72-fund.zarz.przez ZUS'!E23 -> 0 | AQ12: ='72-fund.zarz.przez ZUS'!F23 -> 0 | AR12: ='72-fund.zarz.przez ZUS'!G23 -> 0 | AS12: ='72-fund.zarz.przez ZUS'!H23 -> 0 | AT12: ='72-fund.zarz.przez ZUS'!I23 -> 0
A13: ='73-KRUS'!A8:B8 -> 320633795 | F13: ='73-KRUS'!L11 -> 73 | G13: ='73-KRUS'!K8 -> 2022 | H13: ='73-KRUS'!H8 -> 4 | I13: ='73-KRUS'!M11 -> 0 | L13: ='73-KRUS'!C19 -> 0 | M13: ='73-KRUS'!D19 -> 0 | N13: ='73-KRUS'!E19 -> 0 | O13: ='73-KRUS'!F19 -> 0 | P13: ='73-KRUS'!G19 -> 0 | Q13: ='73-KRUS'!H19 -> 0 | R13: ='73-KRUS'!I19 -> 0 | S13: ='73-KRUS'!C20 -> 0 | T13: ='73-KRUS'!D20 -> 0 | U13: ='73-KRUS'!E20 -> 0 | V13: ='73-KRUS'!F20 -> 0 | W13: ='73-KRUS'!G20 -> 0 | X13: ='73-KRUS'!H20 -> 0 | Y13: ='73-KRUS'!I20 -> 0 | Z13: ='73-KRUS'!C21 -> 0 | AA13: ='73-KRUS'!D21 -> 0 | AB13: ='73-KRUS'!E21 -> 0 | AC13: ='73-KRUS'!F21 -> 0 | AD13: ='73-KRUS'!G21 -> 0 | AE13: ='73-KRUS'!H21 -> 0 | AF13: ='73-KRUS'!I21 -> 0 | AG13: ='73-KRUS'!C22 -> 0 | AH13: ='73-KRUS'!D22 -> 0 | AI13: ='73-KRUS'!E22 -> 0 | AJ13: ='73-KRUS'!F22 -> 0 | AK13: ='73-KRUS'!G22 -> 0 | AL13: ='73-KRUS'!H22 -> 0 | AM13: ='73-KRUS'!I22 -> 0 | AN13: ='73-KRUS'!C23 -> 0 | AO13: ='73-KRUS'!D23 -> 0 | AP13: ='73-KRUS'!E23 -> 0 | AQ13: ='73-KRUS'!F23 -> 0 | AR13: ='73-KRUS'!G23 -> 0 | AS13: ='73-KRUS'!H23 -> 0 | AT13: ='73-KRUS'!I23 -> 0
A14: ='81-państw.osoba prawna'!A8 -> 320633795 | F14: ='81-państw.osoba prawna'!L11 -> 81 | G14: ='81-państw.osoba prawna'!K8 -> 2022 | H14: ='81-państw.osoba prawna'!H8 -> 4 | I14: ='81-państw.osoba prawna'!M11 -> 0 | L14: ='81-państw.osoba prawna'!C19 -> 0 | M14: ='81-państw.osoba prawna'!D19 -> 0 | N14: ='81-państw.osoba prawna'!E19 -> 0 | O14: ='81-państw.osoba prawna'!F19 -> 0 | P14: ='81-państw.osoba prawna'!G19 -> 0 | Q14: ='81-państw.osoba prawna'!H19 -> 0 | R14: ='81-państw.osoba prawna'!I19 -> 0 | S14: ='81-państw.osoba prawna'!C20 -> 0 | T14: ='81-państw.osoba prawna'!D20 -> 0 | U14: ='81-państw.osoba prawna'!E20 -> 0 | V14: ='81-państw.osoba prawna'!F20 -> 0 | W14: ='81-państw.osoba prawna'!G20 -> 0 | X14: ='81-państw.osoba prawna'!H20 -> 0 | Y14: ='81-państw.osoba prawna'!I20 -> 0 | Z14: ='81-państw.osoba prawna'!C21 -> 0 | AA14: ='81-państw.osoba prawna'!D21 -> 0 | AB14: ='81-państw.osoba prawna'!E21 -> 0 | AC14: ='81-państw.osoba prawna'!F21 -> 0 | AD14: ='81-państw.osoba prawna'!G21 -> 0 | AE14: ='81-państw.osoba prawna'!H21 -> 0 | AF14: ='81-państw.osoba prawna'!I21 -> 0 | AG14: ='81-państw.osoba prawna'!C22 -> 0 | AH14: ='81-państw.osoba prawna'!D22 -> 0 | AI14: ='81-państw.osoba prawna'!E22 -> 0 | AJ14: ='81-państw.osoba prawna'!F22 -> 0 | AK14: ='81-państw.osoba prawna'!G22 -> 0 | AL14: ='81-państw.osoba prawna'!H22 -> 0 | AM14: ='81-państw.osoba prawna'!I22 -> 0 | AN14: ='81-państw.osoba prawna'!C23 -> 0 | AO14: ='81-państw.osoba prawna'!D23 -> 0 | AP14: ='81-państw.osoba prawna'!E23 -> 0 | AQ14: ='81-państw.osoba prawna'!F23 -> 0 | AR14: ='81-państw.osoba prawna'!G23 -> 0 | AS14: ='81-państw.osoba prawna'!H23 -> 0 | AT14: ='81-państw.osoba prawna'!I23 -> 0
A15: ='82-samorz.osoba prawna'!A8 -> 320633795 | F15: ='82-samorz.osoba prawna'!L11 -> 82 | G15: ='82-samorz.osoba prawna'!K8 -> 2022 | H15: ='82-samorz.osoba prawna'!H8 -> 4 | I15: ='82-samorz.osoba prawna'!M11 -> 0 | L15: ='82-samorz.osoba prawna'!C19 -> 0 | M15: ='82-samorz.osoba prawna'!D19 -> 0 | N15: ='82-samorz.osoba prawna'!E19 -> 0 | O15: ='82-samorz.osoba prawna'!F19 -> 0 | P15: ='82-samorz.osoba prawna'!G19 -> 0 | Q15: ='82-samorz.osoba prawna'!H19 -> 0 | R15: ='82-samorz.osoba prawna'!I19 -> 0 | S15: ='82-samorz.osoba prawna'!C20 -> 0 | T15: ='82-samorz.osoba prawna'!D20 -> 0 | U15: ='82-samorz.osoba prawna'!E20 -> 0 | V15: ='82-samorz.osoba prawna'!F20 -> 0 | W15: ='82-samorz.osoba prawna'!G20 -> 0 | X15: ='82-samorz.osoba prawna'!H20 -> 0 | Y15: ='82-samorz.osoba prawna'!I20 -> 0 | Z15: ='82-samorz.osoba prawna'!C21 -> 0 | AA15: ='82-samorz.osoba prawna'!D21 -> 0 | AB15: ='82-samorz.osoba prawna'!E21 -> 0 | AC15: ='82-samorz.osoba prawna'!F21 -> 0 | AD15: ='82-samorz.osoba prawna'!G21 -> 0 | AE15: ='82-samorz.osoba prawna'!H21 -> 0 | AF15: ='82-samorz.osoba prawna'!I21 -> 0 | AG15: ='82-samorz.osoba prawna'!C22 -> 0 | AH15: ='82-samorz.osoba prawna'!D22 -> 0 | AI15: ='82-samorz.osoba prawna'!E22 -> 0 | AJ15: ='82-samorz.osoba prawna'!F22 -> 0 | AK15: ='82-samorz.osoba prawna'!G22 -> 0 | AL15: ='82-samorz.osoba prawna'!H22 -> 0 | AM15: ='82-samorz.osoba prawna'!I22 -> 0 | AN15: ='82-samorz.osoba prawna'!C23 -> 0 | AO15: ='82-samorz.osoba prawna'!D23 -> 0 | AP15: ='82-samorz.osoba prawna'!E23 -> 0 | AQ15: ='82-samorz.osoba prawna'!F23 -> 0 | AR15: ='82-samorz.osoba prawna'!G23 -> 0 | AS15: ='82-samorz.osoba prawna'!H23 -> 0 | AT15: ='82-samorz.osoba prawna'!I23 -> 0
A16: ='90-agencja wykonawcza'!A8 -> 320633795 | F16: ='90-agencja wykonawcza'!L11 -> 90 | G16: ='90-agencja wykonawcza'!K8 -> 2022 | H16: ='90-agencja wykonawcza'!H8 -> 4 | I16: ='90-agencja wykonawcza'!M11 -> 0 | L16: ='90-agencja wykonawcza'!C19 -> 0 | M16: ='90-agencja wykonawcza'!D19 -> 0 | N16: ='90-agencja wykonawcza'!E19 -> 0 | O16: ='90-agencja wykonawcza'!F19 -> 0 | P16: ='90-agencja wykonawcza'!G19 -> 0 | Q16: ='90-agencja wykonawcza'!H19 -> 0 | R16: ='90-agencja wykonawcza'!I19 -> 0 | S16: ='90-agencja wykonawcza'!C20 -> 0 | T16: ='90-agencja wykonawcza'!D20 -> 0 | U16: ='90-agencja wykonawcza'!E20 -> 0 | V16: ='90-agencja wykonawcza'!F20 -> 0 | W16: ='90-agencja wykonawcza'!G20 -> 0 | X16: ='90-agencja wykonawcza'!H20 -> 0 | Y16: ='90-agencja wykonawcza'!I20 -> 0 | Z16: ='90-agencja wykonawcza'!C21 -> 0 | AA16: ='90-agencja wykonawcza'!D21 -> 0 | AB16: ='90-agencja wykonawcza'!E21 -> 0 | AC16: ='90-agencja wykonawcza'!F21 -> 0 | AD16: ='90-agencja wykonawcza'!G21 -> 0 | AE16: ='90-agencja wykonawcza'!H21 -> 0 | AF16: ='90-agencja wykonawcza'!I21 -> 0 | AG16: ='90-agencja wykonawcza'!C22 -> 0 | AH16: ='90-agencja wykonawcza'!D22 -> 0 | AI16: ='90-agencja wykonawcza'!E22 -> 0 | AJ16: ='90-agencja wykonawcza'!F22 -> 0 | AK16: ='90-agencja wykonawcza'!G22 -> 0 | AL16: ='90-agencja wykonawcza'!H22 -> 0 | AM16: ='90-agencja wykonawcza'!I22 -> 0 | AN16: ='90-agencja wykonawcza'!C23 -> 0 | AO16: ='90-agencja wykonawcza'!D23 -> 0 | AP16: ='90-agencja wykonawcza'!E23 -> 0 | AQ16: ='90-agencja wykonawcza'!F23 -> 0 | AR16: ='90-agencja wykonawcza'!G23 -> 0 | AS16: ='90-agencja wykonawcza'!H23 -> 0 | AT16: ='90-agencja wykonawcza'!I23 -> 0
A17: ='99-zbiorczo'!A8 -> 320633795 | F17: ='99-zbiorczo'!L11 -> 99 | G17: ='99-zbiorczo'!K8 -> 2023 | H17: ='99-zbiorczo'!H8 -> 4 | I17: ='99-zbiorczo'!M11 -> 0 | L17: ='99-zbiorczo'!C19 -> 0 | M17: ='99-zbiorczo'!D19 -> 0 | N17: ='99-zbiorczo'!E19 -> 0 | O17: ='99-zbiorczo'!F19 -> 0 | P17: ='99-zbiorczo'!G19 -> 0 | Q17: ='99-zbiorczo'!H19 -> 0 | R17: ='99-zbiorczo'!I19 -> 0 | S17: ='99-zbiorczo'!C20 -> 0 | T17: ='99-zbiorczo'!D20 -> 0 | U17: ='99-zbiorczo'!E20 -> 0 | V17: ='99-zbiorczo'!F20 -> 0 | W17: ='99-zbiorczo'!G20 -> 0 | X17: ='99-zbiorczo'!H20 -> 0 | Y17: ='99-zbiorczo'!I20 -> 0 | Z17: ='99-zbiorczo'!C21 -> 0 | AA17: ='99-zbiorczo'!D21 -> 0 | AB17: ='99-zbiorczo'!E21 -> 0 | AC17: ='99-zbiorczo'!F21 -> 0 | AD17: ='99-zbiorczo'!G21 -> 0 | AE17: ='99-zbiorczo'!H21 -> 0 | AF17: ='99-zbiorczo'!I21 -> 0 | AG17: ='99-zbiorczo'!C22 -> 0 | AH17: ='99-zbiorczo'!D22 -> 0 | AI17: ='99-zbiorczo'!E22 -> 0 | AJ17: ='99-zbiorczo'!F22 -> 0 | AK17: ='99-zbiorczo'!G22 -> 0 | AL17: ='99-zbiorczo'!H22 -> 0 | AM17: ='99-zbiorczo'!I22 -> 0 | AN17: ='99-zbiorczo'!C23 -> 0 | AO17: ='99-zbiorczo'!D23 -> 0 | AP17: ='99-zbiorczo'!E23 -> 0 | AQ17: ='99-zbiorczo'!F23 -> 0 | AR17: ='99-zbiorczo'!G23 -> 0 | AS17: ='99-zbiorczo'!H23 -> 0 | AT17: ='99-zbiorczo'!I23 -> 0

Sheet RBUZB1
A1: REGON | B1: WK | C1: PK | D1: GK | E1: GT | F1: PT | G1: ROK | H1: KWARTAL | I1: CZ_BU | J1: DAT_SKW | K1: UWAGI | L1: B10102 | M1: B10103 | N1: B10104 | O1: B10105 | P1: B10202 | Q1: B10203 | R1: B10204 | S1: B10205 | T1: B10302 | U1: B10303 | V1: B10304 | W1: B10305 | X1: B10402 | Y1: B10403 | Z1: B10404 | AA1: B10405 | AB1: B10502 | AC1: B10503 | AD1: B10504 | AE1: B10505 | AF1: B10602 | AG1: B10603 | AH1: B10604 | AI1: B10605 | AJ1: B10702 | AK1: B10703 | AL1: B10704 | AM1: B10705 | AN1: B10802 | AO1: B10803 | AP1: B10804 | AQ1: B10805 | AR1: B10902 | AS1: B10903 | AT1: B10904 | AU1: B10905 | AV1: B11002 | AW1: B11003 | AX1: B11004 | AY1: B11005 | AZ1: B11102 | BA1: B11103 | BB1: B11104 | BC1: B11105 | BD1: B11202 | BE1: B11203 | BF1: B11204 | BG1: B11205 | BH1: B11302 | BI1: B11303 | BJ1: B11304 | BK1: B11305
A2: ='11-państw.fund.cel.'!A8 -> 320633795 | F2: ='11-państw.fund.cel.'!L11 -> 11 | G2: ='11-państw.fund.cel.'!K8 -> 2022 | H2: ='11-państw.fund.cel.'!H8 -> 4 | I2: ='11-państw.fund.cel.'!M11 -> 0 | L2: ='11-państw.fund.cel.'!D33 -> 0 | M2: ='11-państw.fund.cel.'!E33 -> 0 | N2: ='11-państw.fund.cel.'!F33 -> 0 | O2: ='11-państw.fund.cel.'!G33 -> 0 | P2: ='11-państw.fund.cel.'!D34 -> 0 | Q2: ='11-państw.fund.cel.'!E34 -> 0 | R2: ='11-państw.fund.cel.'!F34 -> 0 | S2: ='11-państw.fund.cel.'!G34 -> 0 | T2: ='11-państw.fund.cel.'!D35 -> 0 | U2: ='11-państw.fund.cel.'!E35 -> 0 | V2: ='11-państw.fund.cel.'!F35 -> 0 | W2: ='11-państw.fund.cel.'!G35 -> 0 | X2: ='11-państw.fund.cel.'!D36 -> 0 | Y2: ='11-państw.fund.cel.'!E36 -> 0 | Z2: ='11-państw.fund.cel.'!F36 -> 0 | AA2: ='11-państw.fund.cel.'!G36 -> 0 | AB2: ='11-państw.fund.cel.'!D37 -> 0 | AC2: ='11-państw.fund.cel.'!E37 -> 0 | AD2: ='11-państw.fund.cel.'!F37 -> 0 | AE2: ='11-państw.fund.cel.'!G37 -> 0 | AF2: ='11-państw.fund.cel.'!D38 -> 0 | AG2: ='11-państw.fund.cel.'!E38 -> 0 | AH2: ='11-państw.fund.cel.'!F38 -> 0 | AI2: ='11-państw.fund.cel.'!G38 -> 0 | AJ2: ='11-państw.fund.cel.'!D39 -> 0 | AK2: ='11-państw.fund.cel.'!E39 -> 0 | AL2: ='11-państw.fund.cel.'!F39 -> 0 | AM2: ='11-państw.fund.cel.'!G39 -> 0 | AN2: ='11-państw.fund.cel.'!D40 -> 0 | AO2: ='11-państw.fund.cel.'!E40 -> 0 | AP2: ='11-państw.fund.cel.'!F40 -> 0 | AQ2: ='11-państw.fund.cel.'!G40 -> 0 | AR2: ='11-państw.fund.cel.'!D41 -> 0 | AS2: ='11-państw.fund.cel.'!E41 -> 0 | AT2: ='11-państw.fund.cel.'!F41 -> 0 | AU2: ='11-państw.fund.cel.'!G41 -> 0 | AV2: ='11-państw.fund.cel.'!D42 -> 0 | AW2: ='11-państw.fund.cel.'!E42 -> 0 | AX2: ='11-państw.fund.cel.'!F42 -> 0 | AY2: ='11-państw.fund.cel.'!G42 -> 0 | AZ2: ='11-państw.fund.cel.'!D43 -> 0 | BA2: ='11-państw.fund.cel.'!E43 -> 0 | BB2: ='11-państw.fund.cel.'!F43 -> 0 | BC2: ='11-państw.fund.cel.'!G43 -> 0 | BD2: ='11-państw.fund.cel.'!D44 -> 0 | BE2: ='11-państw.fund.cel.'!E44 -> 0 | BF2: ='11-państw.fund.cel.'!F44 -> 0 | BG2: ='11-państw.fund.cel.'!G44 -> 0 | BH2: ='11-państw.fund.cel.'!D45 -> 0 | BI2: ='11-państw.fund.cel.'!E45 -> 0 | BJ2: ='11-państw.fund.cel.'!F45 -> 0 | BK2: ='11-państw.fund.cel.'!G45 -> 0
A3: ='20-państw.szk.wyż.'!A8 -> 320633795 | F3: ='20-państw.szk.wyż.'!L11 -> 20 | G3: ='20-państw.szk.wyż.'!K8 -> 2022 | H3: ='20-państw.szk.wyż.'!H8 -> 4 | I3: ='20-państw.szk.wyż.'!M11 -> 0 | L3: ='20-państw.szk.wyż.'!D33 -> 0 | M3: ='20-państw.szk.wyż.'!E33 -> 0 | N3: ='20-państw.szk.wyż.'!F33 -> 0 | O3: ='20-państw.szk.wyż.'!G33 -> 0 | P3: ='20-państw.szk.wyż.'!D34 -> 0 | Q3: ='20-państw.szk.wyż.'!E34 -> 0 | R3: ='20-państw.szk.wyż.'!F34 -> 0 | S3: ='20-państw.szk.wyż.'!G34 -> 0 | T3: ='20-państw.szk.wyż.'!D35 -> 0 | U3: ='20-państw.szk.wyż.'!E35 -> 0 | V3: ='20-państw.szk.wyż.'!F35 -> 0 | W3: ='20-państw.szk.wyż.'!G35 -> 0 | X3: ='20-państw.szk.wyż.'!D36 -> 0 | Y3: ='20-państw.szk.wyż.'!E36 -> 0 | Z3: ='20-państw.szk.wyż.'!F36 -> 0 | AA3: ='20-państw.szk.wyż.'!G36 -> 0 | AB3: ='20-państw.szk.wyż.'!D37 -> 0 | AC3: ='20-państw.szk.wyż.'!E37 -> 0 | AD3: ='20-państw.szk.wyż.'!F37 -> 0 | AE3: ='20-państw.szk.wyż.'!G37 -> 0 | AF3: ='20-państw.szk.wyż.'!D38 -> 0 | AG3: ='20-państw.szk.wyż.'!E38 -> 0 | AH3: ='20-państw.szk.wyż.'!F38 -> 0 | AI3: ='20-państw.szk.wyż.'!G38 -> 0 | AJ3: ='20-państw.szk.wyż.'!D39 -> 0 | AK3: ='20-państw.szk.wyż.'!E39 -> 0 | AL3: ='20-państw.szk.wyż.'!F39 -> 0 | AM3: ='20-państw.szk.wyż.'!G39 -> 0 | AN3: ='20-państw.szk.wyż.'!D40 -> 0 | AO3: ='20-państw.szk.wyż.'!E40 -> 0 | AP3: ='20-państw.szk.wyż.'!F40 -> 0 | AQ3: ='20-państw.szk.wyż.'!G40 -> 0 | AR3: ='20-państw.szk.wyż.'!D41 -> 0 | AS3: ='20-państw.szk.wyż.'!E41 -> 0 | AT3: ='20-państw.szk.wyż.'!F41 -> 0 | AU3: ='20-państw.szk.wyż.'!G41 -> 0 | AV3: ='20-państw.szk.wyż.'!D42 -> 0 | AW3: ='20-państw.szk.wyż.'!E42 -> 0 | AX3: ='20-państw.szk.wyż.'!F42 -> 0 | AY3: ='20-państw.szk.wyż.'!G42 -> 0 | AZ3: ='20-państw.szk.wyż.'!D43 -> 0 | BA3: ='20-państw.szk.wyż.'!E43 -> 0 | BB3: ='20-państw.szk.wyż.'!F43 -> 0 | BC3: ='20-państw.szk.wyż.'!G43 -> 0 | BD3: ='20-państw.szk.wyż.'!D44 -> 0 | BE3: ='20-państw.szk.wyż.'!E44 -> 0 | BF3: ='20-państw.szk.wyż.'!F44 -> 0 | BG3: ='20-państw.szk.wyż.'!G44 -> 0 | BH3: ='20-państw.szk.wyż.'!D45 -> 0 | BI3: ='20-państw.szk.wyż.'!E45 -> 0 | BJ3: ='20-państw.szk.wyż.'!F45 -> 0 | BK3: ='20-państw.szk.wyż.'!G45 -> 0
A4: ='31-instytucje gosp budż'!A8 -> 320633795 | F4: ='31-instytucje gosp budż'!L11 -> 31 | G4: ='31-instytucje gosp budż'!K8 -> 2022 | H4: ='31-instytucje gosp budż'!H8 -> 4 | I4: ='31-instytucje gosp budż'!M11 -> 0 | L4: ='31-instytucje gosp budż'!D33 -> 0 | M4: ='31-instytucje gosp budż'!E33 -> 0 | N4: ='31-instytucje gosp budż'!F33 -> 0 | O4: ='31-instytucje gosp budż'!G33 -> 0 | P4: ='31-instytucje gosp budż'!D34 -> 0 | Q4: ='31-instytucje gosp budż'!E34 -> 0 | R4: ='31-instytucje gosp budż'!F34 -> 0 | S4: ='31-instytucje gosp budż'!G34 -> 0 | T4: ='31-instytucje gosp budż'!D35 -> 0 | U4: ='31-instytucje gosp budż'!E35 -> 0 | V4: ='31-instytucje gosp budż'!F35 -> 0 | W4: ='31-instytucje gosp budż'!G35 -> 0 | X4: ='31-instytucje gosp budż'!D36 -> 0 | Y4: ='31-instytucje gosp budż'!E36 -> 0 | Z4: ='31-instytucje gosp budż'!F36 -> 0 | AA4: ='31-instytucje gosp budż'!G36 -> 0 | AB4: ='31-instytucje gosp budż'!D37 -> 0 | AC4: ='31-instytucje gosp budż'!E37 -> 0 | AD4: ='31-instytucje gosp budż'!F37 -> 0 | AE4: ='31-instytucje gosp budż'!G37 -> 0 | AF4: ='31-instytucje gosp budż'!D38 -> 0 | AG4: ='31-instytucje gosp budż'!E38 -> 0 | AH4: ='31-instytucje gosp budż'!F38 -> 0 | AI4: ='31-instytucje gosp budż'!G38 -> 0 | AJ4: ='31-instytucje gosp budż'!D39 -> 0 | AK4: ='31-instytucje gosp budż'!E39 -> 0 | AL4: ='31-instytucje gosp budż'!F39 -> 0 | AM4: ='31-instytucje gosp budż'!G39 -> 0 | AN4: ='31-instytucje gosp budż'!D40 -> 0 | AO4: ='31-instytucje gosp budż'!E40 -> 0 | AP4: ='31-instytucje gosp budż'!F40 -> 0 | AQ4: ='31-instytucje gosp budż'!G40 -> 0 | AR4: ='31-instytucje gosp budż'!D41 -> 0 | AS4: ='31-instytucje gosp budż'!E41 -> 0 | AT4: ='31-instytucje gosp budż'!F41 -> 0 | AU4: ='31-instytucje gosp budż'!G41 -> 0 | AV4: ='31-instytucje gosp budż'!D42 -> 0 | AW4: ='31-instytucje gosp budż'!E42 -> 0 | AX4: ='31-instytucje gosp budż'!F42 -> 0 | AY4: ='31-instytucje gosp budż'!G42 -> 0 | AZ4: ='31-instytucje gosp budż'!D43 -> 0 | BA4: ='31-instytucje gosp budż'!E43 -> 0 | BB4: ='31-instytucje gosp budż'!F43 -> 0 | BC4: ='31-instytucje gosp budż'!G43 -> 0 | BD4: ='31-instytucje gosp budż'!D44 -> 0 | BE4: ='31-instytucje gosp budż'!E44 -> 0 | BF4: ='31-instytucje gosp budż'!F44 -> 0 | BG4: ='31-instytucje gosp budż'!G44 -> 0 | BH4: ='31-instytucje gosp budż'!D45 -> 0 | BI4: ='31-instytucje gosp budż'!E45 -> 0 | BJ4: ='31-instytucje gosp budż'!F45 -> 0 | BK4: ='31-instytucje gosp budż'!G45 -> 0
A5: ='41-państw.inst.kult.'!A8 -> 320633795 | F5: ='41-państw.inst.kult.'!L11 -> 41 | G5: ='41-państw.inst.kult.'!K8 -> 2022 | H5: ='41-państw.inst.kult.'!H8 -> 4 | I5: ='41-państw.inst.kult.'!M11 -> 0 | L5: ='41-państw.inst.kult.'!D33 -> 0 | M5: ='41-państw.inst.kult.'!E33 -> 0 | N5: ='41-państw.inst.kult.'!F33 -> 0 | O5: ='41-państw.inst.kult.'!G33 -> 0 | P5: ='41-państw.inst.kult.'!D34 -> 0 | Q5: ='41-państw.inst.kult.'!E34 -> 0 | R5: ='41-państw.inst.kult.'!F34 -> 0 | S5: ='41-państw.inst.kult.'!G34 -> 0 | T5: ='41-państw.inst.kult.'!D35 -> 0 | U5: ='41-państw.inst.kult.'!E35 -> 0 | V5: ='41-państw.inst.kult.'!F35 -> 0 | W5: ='41-państw.inst.kult.'!G35 -> 0 | X5: ='41-państw.inst.kult.'!D36 -> 0 | Y5: ='41-państw.inst.kult.'!E36 -> 0 | Z5: ='41-państw.inst.kult.'!F36 -> 0 | AA5: ='41-państw.inst.kult.'!G36 -> 0 | AB5: ='41-państw.inst.kult.'!D37 -> 0 | AC5: ='41-państw.inst.kult.'!E37 -> 0 | AD5: ='41-państw.inst.kult.'!F37 -> 0 | AE5: ='41-państw.inst.kult.'!G37 -> 0 | AF5: ='41-państw.inst.kult.'!D38 -> 0 | AG5: ='41-państw.inst.kult.'!E38 -> 0 | AH5: ='41-państw.inst.kult.'!F38 -> 0 | AI5: ='41-państw.inst.kult.'!G38 -> 0 | AJ5: ='41-państw.inst.kult.'!D39 -> 0 | AK5: ='41-państw.inst.kult.'!E39 -> 0 | AL5: ='41-państw.inst.kult.'!F39 -> 0 | AM5: ='41-państw.inst.kult.'!G39 -> 0 | AN5: ='41-państw.inst.kult.'!D40 -> 0 | AO5: ='41-państw.inst.kult.'!E40 -> 0 | AP5: ='41-państw.inst.kult.'!F40 -> 0 | AQ5: ='41-państw.inst.kult.'!G40 -> 0 | AR5: ='41-państw.inst.kult.'!D41 -> 0 | AS5: ='41-państw.inst.kult.'!E41 -> 0 | AT5: ='41-państw.inst.kult.'!F41 -> 0 | AU5: ='41-państw.inst.kult.'!G41 -> 0 | AV5: ='41-państw.inst.kult.'!D42 -> 0 | AW5: ='41-państw.inst.kult.'!E42 -> 0 | AX5: ='41-państw.inst.kult.'!F42 -> 0 | AY5: ='41-państw.inst.kult.'!G42 -> 0 | AZ5: ='41-państw.inst.kult.'!D43 -> 0 | BA5: ='41-państw.inst.kult.'!E43 -> 0 | BB5: ='41-państw.inst.kult.'!F43 -> 0 | BC5: ='41-państw.inst.kult.'!G43 -> 0 | BD5: ='41-państw.inst.kult.'!D44 -> 0 | BE5: ='41-państw.inst.kult.'!E44 -> 0 | BF5: ='41-państw.inst.kult.'!F44 -> 0 | BG5: ='41-państw.inst.kult.'!G44 -> 0 | BH5: ='41-państw.inst.kult.'!D45 -> 0 | BI5: ='41-państw.inst.kult.'!E45 -> 0 | BJ5: ='41-państw.inst.kult.'!F45 -> 0 | BK5: ='41-państw.inst.kult.'!G45 -> 0
A6: ='42-samorz.inst.kult.'!A8 -> 320633795 | F6: ='42-samorz.inst.kult.'!L11 -> 42 | G6: ='42-samorz.inst.kult.'!K8 -> 2023 | H6: ='42-samorz.inst.kult.'!H8 -> 4 | I6: ='42-samorz.inst.kult.'!M11 -> 0 | L6: ='42-samorz.inst.kult.'!D33 -> 0 | M6: ='42-samorz.inst.kult.'!E33 -> 0 | N6: ='42-samorz.inst.kult.'!F33 -> 0 | O6: ='42-samorz.inst.kult.'!G33 -> 0 | P6: ='42-samorz.inst.kult.'!D34 -> 0 | Q6: ='42-samorz.inst.kult.'!E34 -> 0 | R6: ='42-samorz.inst.kult.'!F34 -> 0 | S6: ='42-samorz.inst.kult.'!G34 -> 0 | T6: ='42-samorz.inst.kult.'!D35 -> 0 | U6: ='42-samorz.inst.kult.'!E35 -> 0 | V6: ='42-samorz.inst.kult.'!F35 -> 0 | W6: ='42-samorz.inst.kult.'!G35 -> 0 | X6: ='42-samorz.inst.kult.'!D36 -> 0 | Y6: ='42-samorz.inst.kult.'!E36 -> 0 | Z6: ='42-samorz.inst.kult.'!F36 -> 0 | AA6: ='42-samorz.inst.kult.'!G36 -> 0 | AB6: ='42-samorz.inst.kult.'!D37 -> 0 | AC6: ='42-samorz.inst.kult.'!E37 -> 0 | AD6: ='42-samorz.inst.kult.'!F37 -> 0 | AE6: ='42-samorz.inst.kult.'!G37 -> 0 | AF6: ='42-samorz.inst.kult.'!D38 -> 0 | AG6: ='42-samorz.inst.kult.'!E38 -> 0 | AH6: ='42-samorz.inst.kult.'!F38 -> 0 | AI6: ='42-samorz.inst.kult.'!G38 -> 0 | AJ6: ='42-samorz.inst.kult.'!D39 -> 0 | AK6: ='42-samorz.inst.kult.'!E39 -> 0 | AL6: ='42-samorz.inst.kult.'!F39 -> 0 | AM6: ='42-samorz.inst.kult.'!G39 -> 0 | AN6: ='42-samorz.inst.kult.'!D40 -> 0 | AO6: ='42-samorz.inst.kult.'!E40 -> 0 | AP6: ='42-samorz.inst.kult.'!F40 -> 0 | AQ6: ='42-samorz.inst.kult.'!G40 -> 0 | AR6: ='42-samorz.inst.kult.'!D41 -> 0 | AS6: ='42-samorz.inst.kult.'!E41 -> 0 | AT6: ='42-samorz.inst.kult.'!F41 -> 0 | AU6: ='42-samorz.inst.kult.'!G41 -> 0 | AV6: ='42-samorz.inst.kult.'!D42 -> 0 | AW6: ='42-samorz.inst.kult.'!E42 -> 0 | AX6: ='42-samorz.inst.kult.'!F42 -> 0 | AY6: ='42-samorz.inst.kult.'!G42 -> 0 | AZ6: ='42-samorz.inst.kult.'!D43 -> 0 | BA6: ='42-samorz.inst.kult.'!E43 -> 0 | BB6: ='42-samorz.inst.kult.'!F43 -> 0 | BC6: ='42-samorz.inst.kult.'!G43 -> 0 | BD6: ='42-samorz.inst.kult.'!D44 -> 0 | BE6: ='42-samorz.inst.kult.'!E44 -> 0 | BF6: ='42-samorz.inst.kult.'!F44 -> 0 | BG6: ='42-samorz.inst.kult.'!G44 -> 0 | BH6: ='42-samorz.inst.kult.'!D45 -> 0 | BI6: ='42-samorz.inst.kult.'!E45 -> 0 | BJ6: ='42-samorz.inst.kult.'!F45 -> 0 | BK6: ='42-samorz.inst.kult.'!G45 -> 0
A7: ='50-PAN i jedn.tworz.przez PAN'!A8 -> 320633795 | F7: ='50-PAN i jedn.tworz.przez PAN'!L11 -> 50 | G7: ='50-PAN i jedn.tworz.przez PAN'!K8 -> 2022 | H7: ='50-PAN i jedn.tworz.przez PAN'!H8 -> 4 | I7: ='50-PAN i jedn.tworz.przez PAN'!M11 -> 0 | L7: ='50-PAN i jedn.tworz.przez PAN'!D33 -> 0 | M7: ='50-PAN i jedn.tworz.przez PAN'!E33 -> 0 | N7: ='50-PAN i jedn.tworz.przez PAN'!F33 -> 0 | O7: ='50-PAN i jedn.tworz.przez PAN'!G33 -> 0 | P7: ='50-PAN i jedn.tworz.przez PAN'!D34 -> 0 | Q7: ='50-PAN i jedn.tworz.przez PAN'!E34 -> 0 | R7: ='50-PAN i jedn.tworz.przez PAN'!F34 -> 0 | S7: ='50-PAN i jedn.tworz.przez PAN'!G34 -> 0 | T7: ='50-PAN i jedn.tworz.przez PAN'!D35 -> 0 | U7: ='50-PAN i jedn.tworz.przez PAN'!E35 -> 0 | V7: ='50-PAN i jedn.tworz.przez PAN'!F35 -> 0 | W7: ='50-PAN i jedn.tworz.przez PAN'!G35 -> 0 | X7: ='50-PAN i jedn.tworz.przez PAN'!D36 -> 0 | Y7: ='50-PAN i jedn.tworz.przez PAN'!E36 -> 0 | Z7: ='50-PAN i jedn.tworz.przez PAN'!F36 -> 0 | AA7: ='50-PAN i jedn.tworz.przez PAN'!G36 -> 0 | AB7: ='50-PAN i jedn.tworz.przez PAN'!D37 -> 0 | AC7: ='50-PAN i jedn.tworz.przez PAN'!E37 -> 0 | AD7: ='50-PAN i jedn.tworz.przez PAN'!F37 -> 0 | AE7: ='50-PAN i jedn.tworz.przez PAN'!G37 -> 0 | AF7: ='50-PAN i jedn.tworz.przez PAN'!D38 -> 0 | AG7: ='50-PAN i jedn.tworz.przez PAN'!E38 -> 0 | AH7: ='50-PAN i jedn.tworz.przez PAN'!F38 -> 0 | AI7: ='50-PAN i jedn.tworz.przez PAN'!G38 -> 0 | AJ7: ='50-PAN i jedn.tworz.przez PAN'!D39 -> 0 | AK7: ='50-PAN i jedn.tworz.przez PAN'!E39 -> 0 | AL7: ='50-PAN i jedn.tworz.przez PAN'!F39 -> 0 | AM7: ='50-PAN i jedn.tworz.przez PAN'!G39 -> 0 | AN7: ='50-PAN i jedn.tworz.przez PAN'!D40 -> 0 | AO7: ='50-PAN i jedn.tworz.przez PAN'!E40 -> 0 | AP7: ='50-PAN i jedn.tworz.przez PAN'!F40 -> 0 | AQ7: ='50-PAN i jedn.tworz.przez PAN'!G40 -> 0 | AR7: ='50-PAN i jedn.tworz.przez PAN'!D41 -> 0 | AS7: ='50-PAN i jedn.tworz.przez PAN'!E41 -> 0 | AT7: ='50-PAN i jedn.tworz.przez PAN'!F41 -> 0 | AU7: ='50-PAN i jedn.tworz.przez PAN'!G41 -> 0 | AV7: ='50-PAN i jedn.tworz.przez PAN'!D42 -> 0 | AW7: ='50-PAN i jedn.tworz.przez PAN'!E42 -> 0 | AX7: ='50-PAN i jedn.tworz.przez PAN'!F42 -> 0 | AY7: ='50-PAN i jedn.tworz.przez PAN'!G42 -> 0 | AZ7: ='50-PAN i jedn.tworz.przez PAN'!D43 -> 0 | BA7: ='50-PAN i jedn.tworz.przez PAN'!E43 -> 0 | BB7: ='50-PAN i jedn.tworz.przez PAN'!F43 -> 0 | BC7: ='50-PAN i jedn.tworz.przez PAN'!G43 -> 0 | BD7: ='50-PAN i jedn.tworz.przez PAN'!D44 -> 0 | BE7: ='50-PAN i jedn.tworz.przez PAN'!E44 -> 0 | BF7: ='50-PAN i jedn.tworz.przez PAN'!F44 -> 0 | BG7: ='50-PAN i jedn.tworz.przez PAN'!G44 -> 0 | BH7: ='50-PAN i jedn.tworz.przez PAN'!D45 -> 0 | BI7: ='50-PAN i jedn.tworz.przez PAN'!E45 -> 0 | BJ7: ='50-PAN i jedn.tworz.przez PAN'!F45 -> 0 | BK7: ='50-PAN i jedn.tworz.przez PAN'!G45 -> 0
A8: ='61-samodz.publ.ZOZ państw.'!A8 -> 320633795 | F8: ='61-samodz.publ.ZOZ państw.'!L11 -> 61 | G8: ='61-samodz.publ.ZOZ państw.'!K8 -> 2022 | H8: ='61-samodz.publ.ZOZ państw.'!H8 -> 4 | I8: ='61-samodz.publ.ZOZ państw.'!M11 -> 0 | L8: ='61-samodz.publ.ZOZ państw.'!D33 -> 0 | M8: ='61-samodz.publ.ZOZ państw.'!E33 -> 0 | N8: ='61-samodz.publ.ZOZ państw.'!F33 -> 0 | O8: ='61-samodz.publ.ZOZ państw.'!G33 -> 0 | P8: ='61-samodz.publ.ZOZ państw.'!D34 -> 0 | Q8: ='61-samodz.publ.ZOZ państw.'!E34 -> 0 | R8: ='61-samodz.publ.ZOZ państw.'!F34 -> 0 | S8: ='61-samodz.publ.ZOZ państw.'!G34 -> 0 | T8: ='61-samodz.publ.ZOZ państw.'!D35 -> 0 | U8: ='61-samodz.publ.ZOZ państw.'!E35 -> 0 | V8: ='61-samodz.publ.ZOZ państw.'!F35 -> 0 | W8: ='61-samodz.publ.ZOZ państw.'!G35 -> 0 | X8: ='61-samodz.publ.ZOZ państw.'!D36 -> 0 | Y8: ='61-samodz.publ.ZOZ państw.'!E36 -> 0 | Z8: ='61-samodz.publ.ZOZ państw.'!F36 -> 0 | AA8: ='61-samodz.publ.ZOZ państw.'!G36 -> 0 | AB8: ='61-samodz.publ.ZOZ państw.'!D37 -> 0 | AC8: ='61-samodz.publ.ZOZ państw.'!E37 -> 0 | AD8: ='61-samodz.publ.ZOZ państw.'!F37 -> 0 | AE8: ='61-samodz.publ.ZOZ państw.'!G37 -> 0 | AF8: ='61-samodz.publ.ZOZ państw.'!D38 -> 0 | AG8: ='61-samodz.publ.ZOZ państw.'!E38 -> 0 | AH8: ='61-samodz.publ.ZOZ państw.'!F38 -> 0 | AI8: ='61-samodz.publ.ZOZ państw.'!G38 -> 0 | AJ8: ='61-samodz.publ.ZOZ państw.'!D39 -> 0 | AK8: ='61-samodz.publ.ZOZ państw.'!E39 -> 0 | AL8: ='61-samodz.publ.ZOZ państw.'!F39 -> 0 | AM8: ='61-samodz.publ.ZOZ państw.'!G39 -> 0 | AN8: ='61-samodz.publ.ZOZ państw.'!D40 -> 0 | AO8: ='61-samodz.publ.ZOZ państw.'!E40 -> 0 | AP8: ='61-samodz.publ.ZOZ państw.'!F40 -> 0 | AQ8: ='61-samodz.publ.ZOZ państw.'!G40 -> 0 | AR8: ='61-samodz.publ.ZOZ państw.'!D41 -> 0 | AS8: ='61-samodz.publ.ZOZ państw.'!E41 -> 0 | AT8: ='61-samodz.publ.ZOZ państw.'!F41 -> 0 | AU8: ='61-samodz.publ.ZOZ państw.'!G41 -> 0 | AV8: ='61-samodz.publ.ZOZ państw.'!D42 -> 0 | AW8: ='61-samodz.publ.ZOZ państw.'!E42 -> 0 | AX8: ='61-samodz.publ.ZOZ państw.'!F42 -> 0 | AY8: ='61-samodz.publ.ZOZ państw.'!G42 -> 0 | AZ8: ='61-samodz.publ.ZOZ państw.'!D43 -> 0 | BA8: ='61-samodz.publ.ZOZ państw.'!E43 -> 0 | BB8: ='61-samodz.publ.ZOZ państw.'!F43 -> 0 | BC8: ='61-samodz.publ.ZOZ państw.'!G43 -> 0 | BD8: ='61-samodz.publ.ZOZ państw.'!D44 -> 0 | BE8: ='61-samodz.publ.ZOZ państw.'!E44 -> 0 | BF8: ='61-samodz.publ.ZOZ państw.'!F44 -> 0 | BG8: ='61-samodz.publ.ZOZ państw.'!G44 -> 0 | BH8: ='61-samodz.publ.ZOZ państw.'!D45 -> 0 | BI8: ='61-samodz.publ.ZOZ państw.'!E45 -> 0 | BJ8: ='61-samodz.publ.ZOZ państw.'!F45 -> 0 | BK8: ='61-samodz.publ.ZOZ państw.'!G45 -> 0
A9: ='62-samodz.publ.ZOZ samorz.'!A8 -> 320633795 | F9: ='62-samodz.publ.ZOZ samorz.'!L11 -> 62 | G9: ='62-samodz.publ.ZOZ samorz.'!K8 -> 2022 | H9: ='62-samodz.publ.ZOZ samorz.'!H8 -> 4 | I9: ='62-samodz.publ.ZOZ samorz.'!M11 -> 0 | L9: ='62-samodz.publ.ZOZ samorz.'!D33 -> 0 | M9: ='62-samodz.publ.ZOZ samorz.'!E33 -> 0 | N9: ='62-samodz.publ.ZOZ samorz.'!F33 -> 0 | O9: ='62-samodz.publ.ZOZ samorz.'!G33 -> 0 | P9: ='62-samodz.publ.ZOZ samorz.'!D34 -> 0 | Q9: ='62-samodz.publ.ZOZ samorz.'!E34 -> 0 | R9: ='62-samodz.publ.ZOZ samorz.'!F34 -> 0 | S9: ='62-samodz.publ.ZOZ samorz.'!G34 -> 0 | T9: ='62-samodz.publ.ZOZ samorz.'!D35 -> 0 | U9: ='62-samodz.publ.ZOZ samorz.'!E35 -> 0 | V9: ='62-samodz.publ.ZOZ samorz.'!F35 -> 0 | W9: ='62-samodz.publ.ZOZ samorz.'!G35 -> 0 | X9: ='62-samodz.publ.ZOZ samorz.'!D36 -> 0 | Y9: ='62-samodz.publ.ZOZ samorz.'!E36 -> 0 | Z9: ='62-samodz.publ.ZOZ samorz.'!F36 -> 0 | AA9: ='62-samodz.publ.ZOZ samorz.'!G36 -> 0 | AB9: ='62-samodz.publ.ZOZ samorz.'!D37 -> 0 | AC9: ='62-samodz.publ.ZOZ samorz.'!E37 -> 0 | AD9: ='62-samodz.publ.ZOZ samorz.'!F37 -> 0 | AE9: ='62-samodz.publ.ZOZ samorz.'!G37 -> 0 | AF9: ='62-samodz.publ.ZOZ samorz.'!D38 -> 0 | AG9: ='62-samodz.publ.ZOZ samorz.'!E38 -> 0 | AH9: ='62-samodz.publ.ZOZ samorz.'!F38 -> 0 | AI9: ='62-samodz.publ.ZOZ samorz.'!G38 -> 0 | AJ9: ='62-samodz.publ.ZOZ samorz.'!D39 -> 0 | AK9: ='62-samodz.publ.ZOZ samorz.'!E39 -> 0 | AL9: ='62-samodz.publ.ZOZ samorz.'!F39 -> 0 | AM9: ='62-samodz.publ.ZOZ samorz.'!G39 -> 0 | AN9: ='62-samodz.publ.ZOZ samorz.'!D40 -> 0 | AO9: ='62-samodz.publ.ZOZ samorz.'!E40 -> 0 | AP9: ='62-samodz.publ.ZOZ samorz.'!F40 -> 0 | AQ9: ='62-samodz.publ.ZOZ samorz.'!G40 -> 0 | AR9: ='62-samodz.publ.ZOZ samorz.'!D41 -> 0 | AS9: ='62-samodz.publ.ZOZ samorz.'!E41 -> 0 | AT9: ='62-samodz.publ.ZOZ samorz.'!F41 -> 0 | AU9: ='62-samodz.publ.ZOZ samorz.'!G41 -> 0 | AV9: ='62-samodz.publ.ZOZ samorz.'!D42 -> 0 | AW9: ='62-samodz.publ.ZOZ samorz.'!E42 -> 0 | AX9: ='62-samodz.publ.ZOZ samorz.'!F42 -> 0 | AY9: ='62-samodz.publ.ZOZ samorz.'!G42 -> 0 | AZ9: ='62-samodz.publ.ZOZ samorz.'!D43 -> 0 | BA9: ='62-samodz.publ.ZOZ samorz.'!E43 -> 0 | BB9: ='62-samodz.publ.ZOZ samorz.'!F43 -> 0 | BC9: ='62-samodz.publ.ZOZ samorz.'!G43 -> 0 | BD9: ='62-samodz.publ.ZOZ samorz.'!D44 -> 0 | BE9: ='62-samodz.publ.ZOZ samorz.'!E44 -> 0 | BF9: ='62-samodz.publ.ZOZ samorz.'!F44 -> 0 | BG9: ='62-samodz.publ.ZOZ samorz.'!G44 -> 0 | BH9: ='62-samodz.publ.ZOZ samorz.'!D45 -> 0 | BI9: ='62-samodz.publ.ZOZ samorz.'!E45 -> 0 | BJ9: ='62-samodz.publ.ZOZ samorz.'!F45 -> 0 | BK9: ='62-samodz.publ.ZOZ samorz.'!G45 -> 0
A10: ='63-Narodowy Fundusz Zdrowia'!A8 -> 320633795 | F10: ='63-Narodowy Fundusz Zdrowia'!L11 -> 63 | G10: ='63-Narodowy Fundusz Zdrowia'!K8 -> 2022 | H10: ='63-Narodowy Fundusz Zdrowia'!H8 -> 4 | I10: ='63-Narodowy Fundusz Zdrowia'!M11 -> 0 | L10: ='63-Narodowy Fundusz Zdrowia'!D33 -> 0 | M10: ='63-Narodowy Fundusz Zdrowia'!E33 -> 0 | N10: ='63-Narodowy Fundusz Zdrowia'!F33 -> 0 | O10: ='63-Narodowy Fundusz Zdrowia'!G33 -> 0 | P10: ='63-Narodowy Fundusz Zdrowia'!D34 -> 0 | Q10: ='63-Narodowy Fundusz Zdrowia'!E34 -> 0 | R10: ='63-Narodowy Fundusz Zdrowia'!F34 -> 0 | S10: ='63-Narodowy Fundusz Zdrowia'!G34 -> 0 | T10: ='63-Narodowy Fundusz Zdrowia'!D35 -> 0 | U10: ='63-Narodowy Fundusz Zdrowia'!E35 -> 0 | V10: ='63-Narodowy Fundusz Zdrowia'!F35 -> 0 | W10: ='63-Narodowy Fundusz Zdrowia'!G35 -> 0 | X10: ='63-Narodowy Fundusz Zdrowia'!D36 -> 0 | Y10: ='63-Narodowy Fundusz Zdrowia'!E36 -> 0 | Z10: ='63-Narodowy Fundusz Zdrowia'!F36 -> 0 | AA10: ='63-Narodowy Fundusz Zdrowia'!G36 -> 0 | AB10: ='63-Narodowy Fundusz Zdrowia'!D37 -> 0 | AC10: ='63-Narodowy Fundusz Zdrowia'!E37 -> 0 | AD10: ='63-Narodowy Fundusz Zdrowia'!F37 -> 0 | AE10: ='63-Narodowy Fundusz Zdrowia'!G37 -> 0 | AF10: ='63-Narodowy Fundusz Zdrowia'!D38 -> 0 | AG10: ='63-Narodowy Fundusz Zdrowia'!E38 -> 0 | AH10: ='63-Narodowy Fundusz Zdrowia'!F38 -> 0 | AI10: ='63-Narodowy Fundusz Zdrowia'!G38 -> 0 | AJ10: ='63-Narodowy Fundusz Zdrowia'!D39 -> 0 | AK10: ='63-Narodowy Fundusz Zdrowia'!E39 -> 0 | AL10: ='63-Narodowy Fundusz Zdrowia'!F39 -> 0 | AM10: ='63-Narodowy Fundusz Zdrowia'!G39 -> 0 | AN10: ='63-Narodowy Fundusz Zdrowia'!D40 -> 0 | AO10: ='63-Narodowy Fundusz Zdrowia'!E40 -> 0 | AP10: ='63-Narodowy Fundusz Zdrowia'!F40 -> 0 | AQ10: ='63-Narodowy Fundusz Zdrowia'!G40 -> 0 | AR10: ='63-Narodowy Fundusz Zdrowia'!D41 -> 0 | AS10: ='63-Narodowy Fundusz Zdrowia'!E41 -> 0 | AT10: ='63-Narodowy Fundusz Zdrowia'!F41 -> 0 | AU10: ='63-Narodowy Fundusz Zdrowia'!G41 -> 0 | AV10: ='63-Narodowy Fundusz Zdrowia'!D42 -> 0 | AW10: ='63-Narodowy Fundusz Zdrowia'!E42 -> 0 | AX10: ='63-Narodowy Fundusz Zdrowia'!F42 -> 0 | AY10: ='63-Narodowy Fundusz Zdrowia'!G42 -> 0 | AZ10: ='63-Narodowy Fundusz Zdrowia'!D43 -> 0 | BA10: ='63-Narodowy Fundusz Zdrowia'!E43 -> 0 | BB10: ='63-Narodowy Fundusz Zdrowia'!F43 -> 0 | BC10: ='63-Narodowy Fundusz Zdrowia'!G43 -> 0 | BD10: ='63-Narodowy Fundusz Zdrowia'!D44 -> 0 | BE10: ='63-Narodowy Fundusz Zdrowia'!E44 -> 0 | BF10: ='63-Narodowy Fundusz Zdrowia'!F44 -> 0 | BG10: ='63-Narodowy Fundusz Zdrowia'!G44 -> 0 | BH10: ='63-Narodowy Fundusz Zdrowia'!D45 -> 0 | BI10: ='63-Narodowy Fundusz Zdrowia'!E45 -> 0 | BJ10: ='63-Narodowy Fundusz Zdrowia'!F45 -> 0 | BK10: ='63-Narodowy Fundusz Zdrowia'!G45 -> 0
A11: ='71-ZUS'!A8 -> 320633795 | F11: ='71-ZUS'!L11 -> 71 | G11: ='71-ZUS'!K8 -> 2022 | H11: ='71-ZUS'!H8 -> 4 | I11: ='71-ZUS'!M11 -> 0 | L11: ='71-ZUS'!D33 -> 0 | M11: ='71-ZUS'!E33 -> 0 | N11: ='71-ZUS'!F33 -> 0 | O11: ='71-ZUS'!G33 -> 0 | P11: ='71-ZUS'!D34 -> 0 | Q11: ='71-ZUS'!E34 -> 0 | R11: ='71-ZUS'!F34 -> 0 | S11: ='71-ZUS'!G34 -> 0 | T11: ='71-ZUS'!D35 -> 0 | U11: ='71-ZUS'!E35 -> 0 | V11: ='71-ZUS'!F35 -> 0 | W11: ='71-ZUS'!G35 -> 0 | X11: ='71-ZUS'!D36 -> 0 | Y11: ='71-ZUS'!E36 -> 0 | Z11: ='71-ZUS'!F36 -> 0 | AA11: ='71-ZUS'!G36 -> 0 | AB11: ='71-ZUS'!D37 -> 0 | AC11: ='71-ZUS'!E37 -> 0 | AD11: ='71-ZUS'!F37 -> 0 | AE11: ='71-ZUS'!G37 -> 0 | AF11: ='71-ZUS'!D38 -> 0 | AG11: ='71-ZUS'!E38 -> 0 | AH11: ='71-ZUS'!F38 -> 0 | AI11: ='71-ZUS'!G38 -> 0 | AJ11: ='71-ZUS'!D39 -> 0 | AK11: ='71-ZUS'!E39 -> 0 | AL11: ='71-ZUS'!F39 -> 0 | AM11: ='71-ZUS'!G39 -> 0 | AN11: ='71-ZUS'!D40 -> 0 | AO11: ='71-ZUS'!E40 -> 0 | AP11: ='71-ZUS'!F40 -> 0 | AQ11: ='71-ZUS'!G40 -> 0 | AR11: ='71-ZUS'!D41 -> 0 | AS11: ='71-ZUS'!E41 -> 0 | AT11: ='71-ZUS'!F41 -> 0 | AU11: ='71-ZUS'!G41 -> 0 | AV11: ='71-ZUS'!D42 -> 0 | AW11: ='71-ZUS'!E42 -> 0 | AX11: ='71-ZUS'!F42 -> 0 | AY11: ='71-ZUS'!G42 -> 0 | AZ11: ='71-ZUS'!D43 -> 0 | BA11: ='71-ZUS'!E43 -> 0 | BB11: ='71-ZUS'!F43 -> 0 | BC11: ='71-ZUS'!G43 -> 0 | BD11: ='71-ZUS'!D44 -> 0 | BE11: ='71-ZUS'!E44 -> 0 | BF11: ='71-ZUS'!F44 -> 0 | BG11: ='71-ZUS'!G44 -> 0 | BH11: ='71-ZUS'!D45 -> 0 | BI11: ='71-ZUS'!E45 -> 0 | BJ11: ='71-ZUS'!F45 -> 0 | BK11: ='71-ZUS'!G45 -> 0
A12: ='72-fund.zarz.przez ZUS'!A8:B8 -> 320633795 | F12: ='72-fund.zarz.przez ZUS'!L11 -> 72 | G12: ='72-fund.zarz.przez ZUS'!K8 -> 2022 | H12: ='72-fund.zarz.przez ZUS'!H8 -> 4 | I12: ='72-fund.zarz.przez ZUS'!M11 -> 0 | L12: ='72-fund.zarz.przez ZUS'!D33 -> 0 | M12: ='72-fund.zarz.przez ZUS'!E33 -> 0 | N12: ='72-fund.zarz.przez ZUS'!F33 -> 0 | O12: ='72-fund.zarz.przez ZUS'!G33 -> 0 | P12: ='72-fund.zarz.przez ZUS'!D34 -> 0 | Q12: ='72-fund.zarz.przez ZUS'!E34 -> 0 | R12: ='72-fund.zarz.przez ZUS'!F34 -> 0 | S12: ='72-fund.zarz.przez ZUS'!G34 -> 0 | T12: ='72-fund.zarz.przez ZUS'!D35 -> 0 | U12: ='72-fund.zarz.przez ZUS'!E35 -> 0 | V12: ='72-fund.zarz.przez ZUS'!F35 -> 0 | W12: ='72-fund.zarz.przez ZUS'!G35 -> 0 | X12: ='72-fund.zarz.przez ZUS'!D36 -> 0 | Y12: ='72-fund.zarz.przez ZUS'!E36 -> 0 | Z12: ='72-fund.zarz.przez ZUS'!F36 -> 0 | AA12: ='72-fund.zarz.przez ZUS'!G36 -> 0 | AB12: ='72-fund.zarz.przez ZUS'!D37 -> 0 | AC12: ='72-fund.zarz.przez ZUS'!E37 -> 0 | AD12: ='72-fund.zarz.przez ZUS'!F37 -> 0 | AE12: ='72-fund.zarz.przez ZUS'!G37 -> 0 | AF12: ='72-fund.zarz.przez ZUS'!D38 -> 0 | AG12: ='72-fund.zarz.przez ZUS'!E38 -> 0 | AH12: ='72-fund.zarz.przez ZUS'!F38 -> 0 | AI12: ='72-fund.zarz.przez ZUS'!G38 -> 0 | AJ12: ='72-fund.zarz.przez ZUS'!D39 -> 0 | AK12: ='72-fund.zarz.przez ZUS'!E39 -> 0 | AL12: ='72-fund.zarz.przez ZUS'!F39 -> 0 | AM12: ='72-fund.zarz.przez ZUS'!G39 -> 0 | AN12: ='72-fund.zarz.przez ZUS'!D40 -> 0 | AO12: ='72-fund.zarz.przez ZUS'!E40 -> 0 | AP12: ='72-fund.zarz.przez ZUS'!F40 -> 0 | AQ12: ='72-fund.zarz.przez ZUS'!G40 -> 0 | AR12: ='72-fund.zarz.przez ZUS'!D41 -> 0 | AS12: ='72-fund.zarz.przez ZUS'!E41 -> 0 | AT12: ='72-fund.zarz.przez ZUS'!F41 -> 0 | AU12: ='72-fund.zarz.przez ZUS'!G41 -> 0 | AV12: ='72-fund.zarz.przez ZUS'!D42 -> 0 | AW12: ='72-fund.zarz.przez ZUS'!E42 -> 0 | AX12: ='72-fund.zarz.przez ZUS'!F42 -> 0 | AY12: ='72-fund.zarz.przez ZUS'!G42 -> 0 | AZ12: ='72-fund.zarz.przez ZUS'!D43 -> 0 | BA12: ='72-fund.zarz.przez ZUS'!E43 -> 0 | BB12: ='72-fund.zarz.przez ZUS'!F43 -> 0 | BC12: ='72-fund.zarz.przez ZUS'!G43 -> 0 | BD12: ='72-fund.zarz.przez ZUS'!D44 -> 0 | BE12: ='72-fund.zarz.przez ZUS'!E44 -> 0 | BF12: ='72-fund.zarz.przez ZUS'!F44 -> 0 | BG12: ='72-fund.zarz.przez ZUS'!G44 -> 0 | BH12: ='72-fund.zarz.przez ZUS'!D45 -> 0 | BI12: ='72-fund.zarz.przez ZUS'!E45 -> 0 | BJ12: ='72-fund.zarz.przez ZUS'!F45 -> 0 | BK12: ='72-fund.zarz.przez ZUS'!G45 -> 0
A13: ='73-KRUS'!A8:B8 -> 320633795 | F13: ='73-KRUS'!L11 -> 73 | G13: ='73-KRUS'!K8 -> 2022 | H13: ='73-KRUS'!H8 -> 4 | I13: ='73-KRUS'!M11 -> 0 | L13: ='73-KRUS'!D33 -> 0 | M13: ='73-KRUS'!E33 -> 0 | N13: ='73-KRUS'!F33 -> 0 | O13: ='73-KRUS'!G33 -> 0 | P13: ='73-KRUS'!D34 -> 0 | Q13: ='73-KRUS'!E34 -> 0 | R13: ='73-KRUS'!F34 -> 0 | S13: ='73-KRUS'!G34 -> 0 | T13: ='73-KRUS'!D35 -> 0 | U13: ='73-KRUS'!E35 -> 0 | V13: ='73-KRUS'!F35 -> 0 | W13: ='73-KRUS'!G35 -> 0 | X13: ='73-KRUS'!D36 -> 0 | Y13: ='73-KRUS'!E36 -> 0 | Z13: ='73-KRUS'!F36 -> 0 | AA13: ='73-KRUS'!G36 -> 0 | AB13: ='73-KRUS'!D37 -> 0 | AC13: ='73-KRUS'!E37 -> 0 | AD13: ='73-KRUS'!F37 -> 0 | AE13: ='73-KRUS'!G37 -> 0 | AF13: ='73-KRUS'!D38 -> 0 | AG13: ='73-KRUS'!E38 -> 0 | AH13: ='73-KRUS'!F38 -> 0 | AI13: ='73-KRUS'!G38 -> 0 | AJ13: ='73-KRUS'!D39 -> 0 | AK13: ='73-KRUS'!E39 -> 0 | AL13: ='73-KRUS'!F39 -> 0 | AM13: ='73-KRUS'!G39 -> 0 | AN13: ='73-KRUS'!D40 -> 0 | AO13: ='73-KRUS'!E40 -> 0 | AP13: ='73-KRUS'!F40 -> 0 | AQ13: ='73-KRUS'!G40 -> 0 | AR13: ='73-KRUS'!D41 -> 0 | AS13: ='73-KRUS'!E41 -> 0 | AT13: ='73-KRUS'!F41 -> 0 | AU13: ='73-KRUS'!G41 -> 0 | AV13: ='73-KRUS'!D42 -> 0 | AW13: ='73-KRUS'!E42 -> 0 | AX13: ='73-KRUS'!F42 -> 0 | AY13: ='73-KRUS'!G42 -> 0 | AZ13: ='73-KRUS'!D43 -> 0 | BA13: ='73-KRUS'!E43 -> 0 | BB13: ='73-KRUS'!F43 -> 0 | BC13: ='73-KRUS'!G43 -> 0 | BD13: ='73-KRUS'!D44 -> 0 | BE13: ='73-KRUS'!E44 -> 0 | BF13: ='73-KRUS'!F44 -> 0 | BG13: ='73-KRUS'!G44 -> 0 | BH13: ='73-KRUS'!D45 -> 0 | BI13: ='73-KRUS'!E45 -> 0 | BJ13: ='73-KRUS'!F45 -> 0 | BK13: ='73-KRUS'!G45 -> 0
A14: ='81-państw.osoba prawna'!A8 -> 320633795 | F14: ='81-państw.osoba prawna'!L11 -> 81 | G14: ='81-państw.osoba prawna'!K8 -> 2022 | H14: ='81-państw.osoba prawna'!H8 -> 4 | I14: ='81-państw.osoba prawna'!M11 -> 0 | L14: ='81-państw.osoba prawna'!D33 -> 0 | M14: ='81-państw.osoba prawna'!E33 -> 0 | N14: ='81-państw.osoba prawna'!F33 -> 0 | O14: ='81-państw.osoba prawna'!G33 -> 0 | P14: ='81-państw.osoba prawna'!D34 -> 0 | Q14: ='81-państw.osoba prawna'!E34 -> 0 | R14: ='81-państw.osoba prawna'!F34 -> 0 | S14: ='81-państw.osoba prawna'!G34 -> 0 | T14: ='81-państw.osoba prawna'!D35 -> 0 | U14: ='81-państw.osoba prawna'!E35 -> 0 | V14: ='81-państw.osoba prawna'!F35 -> 0 | W14: ='81-państw.osoba prawna'!G35 -> 0 | X14: ='81-państw.osoba prawna'!D36 -> 0 | Y14: ='81-państw.osoba prawna'!E36 -> 0 | Z14: ='81-państw.osoba prawna'!F36 -> 0 | AA14: ='81-państw.osoba prawna'!G36 -> 0 | AB14: ='81-państw.osoba prawna'!D37 -> 0 | AC14: ='81-państw.osoba prawna'!E37 -> 0 | AD14: ='81-państw.osoba prawna'!F37 -> 0 | AE14: ='81-państw.osoba prawna'!G37 -> 0 | AF14: ='81-państw.osoba prawna'!D38 -> 0 | AG14: ='81-państw.osoba prawna'!E38 -> 0 | AH14: ='81-państw.osoba prawna'!F38 -> 0 | AI14: ='81-państw.osoba prawna'!G38 -> 0 | AJ14: ='81-państw.osoba prawna'!D39 -> 0 | AK14: ='81-państw.osoba prawna'!E39 -> 0 | AL14: ='81-państw.osoba prawna'!F39 -> 0 | AM14: ='81-państw.osoba prawna'!G39 -> 0 | AN14: ='81-państw.osoba prawna'!D40 -> 0 | AO14: ='81-państw.osoba prawna'!E40 -> 0 | AP14: ='81-państw.osoba prawna'!F40 -> 0 | AQ14: ='81-państw.osoba prawna'!G40 -> 0 | AR14: ='81-państw.osoba prawna'!D41 -> 0 | AS14: ='81-państw.osoba prawna'!E41 -> 0 | AT14: ='81-państw.osoba prawna'!F41 -> 0 | AU14: ='81-państw.osoba prawna'!G41 -> 0 | AV14: ='81-państw.osoba prawna'!D42 -> 0 | AW14: ='81-państw.osoba prawna'!E42 -> 0 | AX14: ='81-państw.osoba prawna'!F42 -> 0 | AY14: ='81-państw.osoba prawna'!G42 -> 0 | AZ14: ='81-państw.osoba prawna'!D43 -> 0 | BA14: ='81-państw.osoba prawna'!E43 -> 0 | BB14: ='81-państw.osoba prawna'!F43 -> 0 | BC14: ='81-państw.osoba prawna'!G43 -> 0 | BD14: ='81-państw.osoba prawna'!D44 -> 0 | BE14: ='81-państw.osoba prawna'!E44 -> 0 | BF14: ='81-państw.osoba prawna'!F44 -> 0 | BG14: ='81-państw.osoba prawna'!G44 -> 0 | BH14: ='81-państw.osoba prawna'!D45 -> 0 | BI14: ='81-państw.osoba prawna'!E45 -> 0 | BJ14: ='81-państw.osoba prawna'!F45 -> 0 | BK14: ='81-państw.osoba prawna'!G45 -> 0
A15: ='82-samorz.osoba prawna'!A8 -> 320633795 | F15: ='82-samorz.osoba prawna'!L11 -> 82 | G15: ='82-samorz.osoba prawna'!K8 -> 2022 | H15: ='82-samorz.osoba prawna'!H8 -> 4 | I15: ='82-samorz.osoba prawna'!M11 -> 0 | L15: ='82-samorz.osoba prawna'!D33 -> 0 | M15: ='82-samorz.osoba prawna'!E33 -> 0 | N15: ='82-samorz.osoba prawna'!F33 -> 0 | O15: ='82-samorz.osoba prawna'!G33 -> 0 | P15: ='82-samorz.osoba prawna'!D34 -> 0 | Q15: ='82-samorz.osoba prawna'!E34 -> 0 | R15: ='82-samorz.osoba prawna'!F34 -> 0 | S15: ='82-samorz.osoba prawna'!G34 -> 0 | T15: ='82-samorz.osoba prawna'!D35 -> 0 | U15: ='82-samorz.osoba prawna'!E35 -> 0 | V15: ='82-samorz.osoba prawna'!F35 -> 0 | W15: ='82-samorz.osoba prawna'!G35 -> 0 | X15: ='82-samorz.osoba prawna'!D36 -> 0 | Y15: ='82-samorz.osoba prawna'!E36 -> 0 | Z15: ='82-samorz.osoba prawna'!F36 -> 0 | AA15: ='82-samorz.osoba prawna'!G36 -> 0 | AB15: ='82-samorz.osoba prawna'!D37 -> 0 | AC15: ='82-samorz.osoba prawna'!E37 -> 0 | AD15: ='82-samorz.osoba prawna'!F37 -> 0 | AE15: ='82-samorz.osoba prawna'!G37 -> 0 | AF15: ='82-samorz.osoba prawna'!D38 -> 0 | AG15: ='82-samorz.osoba prawna'!E38 -> 0 | AH15: ='82-samorz.osoba prawna'!F38 -> 0 | AI15: ='82-samorz.osoba prawna'!G38 -> 0 | AJ15: ='82-samorz.osoba prawna'!D39 -> 0 | AK15: ='82-samorz.osoba prawna'!E39 -> 0 | AL15: ='82-samorz.osoba prawna'!F39 -> 0 | AM15: ='82-samorz.osoba prawna'!G39 -> 0 | AN15: ='82-samorz.osoba prawna'!D40 -> 0 | AO15: ='82-samorz.osoba prawna'!E40 -> 0 | AP15: ='82-samorz.osoba prawna'!F40 -> 0 | AQ15: ='82-samorz.osoba prawna'!G40 -> 0 | AR15: ='82-samorz.osoba prawna'!D41 -> 0 | AS15: ='82-samorz.osoba prawna'!E41 -> 0 | AT15: ='82-samorz.osoba prawna'!F41 -> 0 | AU15: ='82-samorz.osoba prawna'!G41 -> 0 | AV15: ='82-samorz.osoba prawna'!D42 -> 0 | AW15: ='82-samorz.osoba prawna'!E42 -> 0 | AX15: ='82-samorz.osoba prawna'!F42 -> 0 | AY15: ='82-samorz.osoba prawna'!G42 -> 0 | AZ15: ='82-samorz.osoba prawna'!D43 -> 0 | BA15: ='82-samorz.osoba prawna'!E43 -> 0 | BB15: ='82-samorz.osoba prawna'!F43 -> 0 | BC15: ='82-samorz.osoba prawna'!G43 -> 0 | BD15: ='82-samorz.osoba prawna'!D44 -> 0 | BE15: ='82-samorz.osoba prawna'!E44 -> 0 | BF15: ='82-samorz.osoba prawna'!F44 -> 0 | BG15: ='82-samorz.osoba prawna'!G44 -> 0 | BH15: ='82-samorz.osoba prawna'!D45 -> 0 | BI15: ='82-samorz.osoba prawna'!E45 -> 0 | BJ15: ='82-samorz.osoba prawna'!F45 -> 0 | BK15: ='82-samorz.osoba prawna'!G45 -> 0
A16: ='90-agencja wykonawcza'!A8 -> 320633795 | F16: ='90-agencja wykonawcza'!L11 -> 90 | G16: ='90-agencja wykonawcza'!K8 -> 2022 | H16: ='90-agencja wykonawcza'!H8 -> 4 | I16: ='90-agencja wykonawcza'!M11 -> 0 | L16: ='90-agencja wykonawcza'!D33 -> 0 | M16: ='90-agencja wykonawcza'!E33 -> 0 | N16: ='90-agencja wykonawcza'!F33 -> 0 | O16: ='90-agencja wykonawcza'!G33 -> 0 | P16: ='90-agencja wykonawcza'!D34 -> 0 | Q16: ='90-agencja wykonawcza'!E34 -> 0 | R16: ='90-agencja wykonawcza'!F34 -> 0 | S16: ='90-agencja wykonawcza'!G34 -> 0 | T16: ='90-agencja wykonawcza'!D35 -> 0 | U16: ='90-agencja wykonawcza'!E35 -> 0 | V16: ='90-agencja wykonawcza'!F35 -> 0 | W16: ='90-agencja wykonawcza'!G35 -> 0 | X16: ='90-agencja wykonawcza'!D36 -> 0 | Y16: ='90-agencja wykonawcza'!E36 -> 0 | Z16: ='90-agencja wykonawcza'!F36 -> 0 | AA16: ='90-agencja wykonawcza'!G36 -> 0 | AB16: ='90-agencja wykonawcza'!D37 -> 0 | AC16: ='90-agencja wykonawcza'!E37 -> 0 | AD16: ='90-agencja wykonawcza'!F37 -> 0 | AE16: ='90-agencja wykonawcza'!G37 -> 0 | AF16: ='90-agencja wykonawcza'!D38 -> 0 | AG16: ='90-agencja wykonawcza'!E38 -> 0 | AH16: ='90-agencja wykonawcza'!F38 -> 0 | AI16: ='90-agencja wykonawcza'!G38 -> 0 | AJ16: ='90-agencja wykonawcza'!D39 -> 0 | AK16: ='90-agencja wykonawcza'!E39 -> 0 | AL16: ='90-agencja wykonawcza'!F39 -> 0 | AM16: ='90-agencja wykonawcza'!G39 -> 0 | AN16: ='90-agencja wykonawcza'!D40 -> 0 | AO16: ='90-agencja wykonawcza'!E40 -> 0 | AP16: ='90-agencja wykonawcza'!F40 -> 0 | AQ16: ='90-agencja wykonawcza'!G40 -> 0 | AR16: ='90-agencja wykonawcza'!D41 -> 0 | AS16: ='90-agencja wykonawcza'!E41 -> 0 | AT16: ='90-agencja wykonawcza'!F41 -> 0 | AU16: ='90-agencja wykonawcza'!G41 -> 0 | AV16: ='90-agencja wykonawcza'!D42 -> 0 | AW16: ='90-agencja wykonawcza'!E42 -> 0 | AX16: ='90-agencja wykonawcza'!F42 -> 0 | AY16: ='90-agencja wykonawcza'!G42 -> 0 | AZ16: ='90-agencja wykonawcza'!D43 -> 0 | BA16: ='90-agencja wykonawcza'!E43 -> 0 | BB16: ='90-agencja wykonawcza'!F43 -> 0 | BC16: ='90-agencja wykonawcza'!G43 -> 0 | BD16: ='90-agencja wykonawcza'!D44 -> 0 | BE16: ='90-agencja wykonawcza'!E44 -> 0 | BF16: ='90-agencja wykonawcza'!F44 -> 0 | BG16: ='90-agencja wykonawcza'!G44 -> 0 | BH16: ='90-agencja wykonawcza'!D45 -> 0 | BI16: ='90-agencja wykonawcza'!E45 -> 0 | BJ16: ='90-agencja wykonawcza'!F45 -> 0 | BK16: ='90-agencja wykonawcza'!G45 -> 0
A17: ='99-zbiorczo'!A8 -> 320633795 | F17: ='99-zbiorczo'!L11 -> 99 | G17: ='99-zbiorczo'!K8 -> 2023 | H17: ='99-zbiorczo'!H8 -> 4 | I17: ='99-zbiorczo'!M11 -> 0 | L17: ='99-zbiorczo'!D33 -> 0 | M17: ='99-zbiorczo'!E33 -> 0 | N17: ='99-zbiorczo'!F33 -> 0 | O17: ='99-zbiorczo'!G33 -> 0 | P17: ='99-zbiorczo'!D34 -> 0 | Q17: ='99-zbiorczo'!E34 -> 0 | R17: ='99-zbiorczo'!F34 -> 0 | S17: ='99-zbiorczo'!G34 -> 0 | T17: ='99-zbiorczo'!D35 -> 0 | U17: ='99-zbiorczo'!E35 -> 0 | V17: ='99-zbiorczo'!F35 -> 0 | W17: ='99-zbiorczo'!G35 -> 0 | X17: ='99-zbiorczo'!D36 -> 0 | Y17: ='99-zbiorczo'!E36 -> 0 | Z17: ='99-zbiorczo'!F36 -> 0 | AA17: ='99-zbiorczo'!G36 -> 0 | AB17: ='99-zbiorczo'!D37 -> 0 | AC17: ='99-zbiorczo'!E37 -> 0 | AD17: ='99-zbiorczo'!F37 -> 0 | AE17: ='99-zbiorczo'!G37 -> 0 | AF17: ='99-zbiorczo'!D38 -> 0 | AG17: ='99-zbiorczo'!E38 -> 0 | AH17: ='99-zbiorczo'!F38 -> 0 | AI17: ='99-zbiorczo'!G38 -> 0 | AJ17: ='99-zbiorczo'!D39 -> 0 | AK17: ='99-zbiorczo'!E39 -> 0 | AL17: ='99-zbiorczo'!F39 -> 0 | AM17: ='99-zbiorczo'!G39 -> 0 | AN17: ='99-zbiorczo'!D40 -> 0 | AO17: ='99-zbiorczo'!E40 -> 0 | AP17: ='99-zbiorczo'!F40 -> 0 | AQ17: ='99-zbiorczo'!G40 -> 0 | AR17: ='99-zbiorczo'!D41 -> 0 | AS17: ='99-zbiorczo'!E41 -> 0 | AT17: ='99-zbiorczo'!F41 -> 0 | AU17: ='99-zbiorczo'!G41 -> 0 | AV17: ='99-zbiorczo'!D42 -> 0 | AW17: ='99-zbiorczo'!E42 -> 0 | AX17: ='99-zbiorczo'!F42 -> 0 | AY17: ='99-zbiorczo'!G42 -> 0 | AZ17: ='99-zbiorczo'!D43 -> 0 | BA17: ='99-zbiorczo'!E43 -> 0 | BB17: ='99-zbiorczo'!F43 -> 0 | BC17: ='99-zbiorczo'!G43 -> 0 | BD17: ='99-zbiorczo'!D44 -> 0 | BE17: ='99-zbiorczo'!E44 -> 0 | BF17: ='99-zbiorczo'!F44 -> 0 | BG17: ='99-zbiorczo'!G44 -> 0 | BH17: ='99-zbiorczo'!D45 -> 0 | BI17: ='99-zbiorczo'!E45 -> 0 | BJ17: ='99-zbiorczo'!F45 -> 0 | BK17: ='99-zbiorczo'!G45 -> 0

Sheet RBUZB2
A1: REGON | B1: WK | C1: PK | D1: GK | E1: GT | F1: PT | G1: ROK | H1: KWARTAL | I1: CZ_BU | J1: DAT_SKW | K1: UWAGI | L1: B20102 | M1: B20103 | N1: B20104 | O1: B20105 | P1: B20202 | Q1: B20203 | R1: B20204 | S1: B20205 | T1: B20302 | U1: B20303 | V1: B20304 | W1: B20305 | X1: B20402 | Y1: B20403 | Z1: B20404 | AA1: B20405 | AB1: B20502 | AC1: B20503 | AD1: B20504 | AE1: B20505 | AF1: B20602 | AG1: B20603 | AH1: B20604 | AI1: B20605 | AJ1: B20702 | AK1: B20703 | AL1: B20704 | AM1: B20705 | AN1: B20802 | AO1: B20803 | AP1: B20804 | AQ1: B20805 | AR1: B20902 | AS1: B20903 | AT1: B20904 | AU1: B20905 | AV1: B21002 | AW1: B21003 | AX1: B21004 | AY1: B21005 | AZ1: B21102 | BA1: B21103 | BB1: B21104 | BC1: B21105 | BD1: B21202 | BE1: B21203 | BF1: B21204 | BG1: B21205 | BH1: B21302 | BI1: B21303 | BJ1: B21304 | BK1: B21305
A2: ='11-państw.fund.cel.'!A8 -> 320633795 | F2: ='11-państw.fund.cel.'!L11 -> 11 | G2: ='11-państw.fund.cel.'!K8 -> 2022 | H2: ='11-państw.fund.cel.'!H8 -> 4 | I2: ='11-państw.fund.cel.'!M11 -> 0 | L2: ='11-państw.fund.cel.'!M33 -> 0 | M2: ='11-państw.fund.cel.'!N33 -> 0 | N2: ='11-państw.fund.cel.'!O33 -> 0 | O2: ='11-państw.fund.cel.'!P33 -> 0 | P2: ='11-państw.fund.cel.'!M34 -> 0 | Q2: ='11-państw.fund.cel.'!N34 -> 0 | R2: ='11-państw.fund.cel.'!O34 -> 0 | S2: ='11-państw.fund.cel.'!P34 -> 0 | T2: ='11-państw.fund.cel.'!M35 -> 0 | U2: ='11-państw.fund.cel.'!N35 -> 0 | V2: ='11-państw.fund.cel.'!O35 -> 0 | W2: ='11-państw.fund.cel.'!P35 -> 0 | X2: ='11-państw.fund.cel.'!M36 -> 0 | Y2: ='11-państw.fund.cel.'!N36 -> 0 | Z2: ='11-państw.fund.cel.'!O36 -> 0 | AA2: ='11-państw.fund.cel.'!P36 -> 0 | AB2: ='11-państw.fund.cel.'!M37 -> 0 | AC2: ='11-państw.fund.cel.'!N37 -> 0 | AD2: ='11-państw.fund.cel.'!O37 -> 0 | AE2: ='11-państw.fund.cel.'!P37 -> 0 | AF2: ='11-państw.fund.cel.'!M38 -> 0 | AG2: ='11-państw.fund.cel.'!N38 -> 0 | AH2: ='11-państw.fund.cel.'!O38 -> 0 | AI2: ='11-państw.fund.cel.'!P38 -> 0 | AJ2: ='11-państw.fund.cel.'!M39 -> 0 | AK2: ='11-państw.fund.cel.'!N39 -> 0 | AL2: ='11-państw.fund.cel.'!O39 -> 0 | AM2: ='11-państw.fund.cel.'!P39 -> 0 | AN2: ='11-państw.fund.cel.'!M40 -> 0 | AO2: ='11-państw.fund.cel.'!N40 -> 0 | AP2: ='11-państw.fund.cel.'!O40 -> 0 | AQ2: ='11-państw.fund.cel.'!P40 -> 0 | AR2: ='11-państw.fund.cel.'!M41 -> 0 | AS2: ='11-państw.fund.cel.'!N41 -> 0 | AT2: ='11-państw.fund.cel.'!O41 -> 0 | AU2: ='11-państw.fund.cel.'!P41 -> 0 | AV2: ='11-państw.fund.cel.'!M42 -> 0 | AW2: ='11-państw.fund.cel.'!N42 -> 0 | AX2: ='11-państw.fund.cel.'!O42 -> 0 | AY2: ='11-państw.fund.cel.'!P42 -> 0 | AZ2: ='11-państw.fund.cel.'!M43 -> 0 | BA2: ='11-państw.fund.cel.'!N43 -> 0 | BB2: ='11-państw.fund.cel.'!O43 -> 0 | BC2: ='11-państw.fund.cel.'!P43 -> 0 | BD2: ='11-państw.fund.cel.'!M44 -> 0 | BE2: ='11-państw.fund.cel.'!N44 -> 0 | BF2: ='11-państw.fund.cel.'!O44 -> 0 | BG2: ='11-państw.fund.cel.'!P44 -> 0 | BH2: ='11-państw.fund.cel.'!M45 -> 0 | BI2: ='11-państw.fund.cel.'!N45 -> 0 | BJ2: ='11-państw.fund.cel.'!O45 -> 0 | BK2: ='11-państw.fund.cel.'!P45 -> 0
A3: ='20-państw.szk.wyż.'!A8 -> 320633795 | F3: ='20-państw.szk.wyż.'!L11 -> 20 | G3: ='20-państw.szk.wyż.'!K8 -> 2022 | H3: ='20-państw.szk.wyż.'!H8 -> 4 | I3: ='20-państw.szk.wyż.'!M11 -> 0 | L3: ='20-państw.szk.wyż.'!M33 -> 0 | M3: ='20-państw.szk.wyż.'!N33 -> 0 | N3: ='20-państw.szk.wyż.'!O33 -> 0 | O3: ='20-państw.szk.wyż.'!P33 -> 0 | P3: ='20-państw.szk.wyż.'!M34 -> 0 | Q3: ='20-państw.szk.wyż.'!N34 -> 0 | R3: ='20-państw.szk.wyż.'!O34 -> 0 | S3: ='20-państw.szk.wyż.'!P34 -> 0 | T3: ='20-państw.szk.wyż.'!M35 -> 0 | U3: ='20-państw.szk.wyż.'!N35 -> 0 | V3: ='20-państw.szk.wyż.'!O35 -> 0 | W3: ='20-państw.szk.wyż.'!P35 -> 0 | X3: ='20-państw.szk.wyż.'!M36 -> 0 | Y3: ='20-państw.szk.wyż.'!N36 -> 0 | Z3: ='20-państw.szk.wyż.'!O36 -> 0 | AA3: ='20-państw.szk.wyż.'!P36 -> 0 | AB3: ='20-państw.szk.wyż.'!M37 -> 0 | AC3: ='20-państw.szk.wyż.'!N37 -> 0 | AD3: ='20-państw.szk.wyż.'!O37 -> 0 | AE3: ='20-państw.szk.wyż.'!P37 -> 0 | AF3: ='20-państw.szk.wyż.'!M38 -> 0 | AG3: ='20-państw.szk.wyż.'!N38 -> 0 | AH3: ='20-państw.szk.wyż.'!O38 -> 0 | AI3: ='20-państw.szk.wyż.'!P38 -> 0 | AJ3: ='20-państw.szk.wyż.'!M39 -> 0 | AK3: ='20-państw.szk.wyż.'!N39 -> 0 | AL3: ='20-państw.szk.wyż.'!O39 -> 0 | AM3: ='20-państw.szk.wyż.'!P39 -> 0 | AN3: ='20-państw.szk.wyż.'!M40 -> 0 | AO3: ='20-państw.szk.wyż.'!N40 -> 0 | AP3: ='20-państw.szk.wyż.'!O40 -> 0 | AQ3: ='20-państw.szk.wyż.'!P40 -> 0 | AR3: ='20-państw.szk.wyż.'!M41 -> 0 | AS3: ='20-państw.szk.wyż.'!N41 -> 0 | AT3: ='20-państw.szk.wyż.'!O41 -> 0 | AU3: ='20-państw.szk.wyż.'!P41 -> 0 | AV3: ='20-państw.szk.wyż.'!M42 -> 0 | AW3: ='20-państw.szk.wyż.'!N42 -> 0 | AX3: ='20-państw.szk.wyż.'!O42 -> 0 | AY3: ='20-państw.szk.wyż.'!P42 -> 0 | AZ3: ='20-państw.szk.wyż.'!M43 -> 0 | BA3: ='20-państw.szk.wyż.'!N43 -> 0 | BB3: ='20-państw.szk.wyż.'!O43 -> 0 | BC3: ='20-państw.szk.wyż.'!P43 -> 0 | BD3: ='20-państw.szk.wyż.'!M44 -> 0 | BE3: ='20-państw.szk.wyż.'!N44 -> 0 | BF3: ='20-państw.szk.wyż.'!O44 -> 0 | BG3: ='20-państw.szk.wyż.'!P44 -> 0 | BH3: ='20-państw.szk.wyż.'!M45 -> 0 | BI3: ='20-państw.szk.wyż.'!N45 -> 0 | BJ3: ='20-państw.szk.wyż.'!O45 -> 0 | BK3: ='20-państw.szk.wyż.'!P45 -> 0
